BEGIN:VCALENDAR
VERSION:2.0
PRODID:-//【HIRAETH.Tokyo】(ヒラエス.トーキョー) - ECPv6.11.2//NONSGML v1.0//EN
CALSCALE:GREGORIAN
METHOD:PUBLISH
X-ORIGINAL-URL:https://hiraeth.tokyo
X-WR-CALDESC:【HIRAETH.Tokyo】(ヒラエス.トーキョー) のイベント
REFRESH-INTERVAL;VALUE=DURATION:PT1H
X-Robots-Tag:noindex
X-PUBLISHED-TTL:PT1H
BEGIN:VTIMEZONE
TZID:Asia/Tokyo
BEGIN:STANDARD
TZOFFSETFROM:+0900
TZOFFSETTO:+0900
TZNAME:JST
DTSTART:20240101T000000
END:STANDARD
END:VTIMEZONE
BEGIN:VEVENT
DTSTART;VALUE=DATE:20240428
DTEND;VALUE=DATE:20240429
DTSTAMP:20260421T221557
CREATED:20240403T051317Z
LAST-MODIFIED:20240426T133054Z
UID:9964-1714262400-1714348799@hiraeth.tokyo
SUMMARY:593LIVEリミット!!OUT DOOR-2@OSC湘南シティ
DESCRIPTION:▽日にち　4/28(日)\n▽イベント　593LIVEリミット!!OUT DOOR-2\n▽LIVE　15:10～15:30（雨天決行）\n▽物販　15:30～16:30C\n▽会場　OSC湘南シティオープンモールステージ ( https://shonan-city.com )\n▽料金　フリーライブ（観覧無料）\n▽イベント時間　11:45\n▽出演　えあらびゅー/CURTiA/RiKKYY/レッスントゥミ―/お願い!!フルハウス/\n▽企画　〖えあらびゅーとご飯会🎶〗\nOSC湘南シティオープンモールでのライブ前後にえあらびゅーと一緒にご飯を食べましょう❕フードコートに集合だ〜🍚✨️\n・場所：OSC湘南シティ１階フードコート\n・時間：12:45~13:45\n・参加資格　えあらびゅーのライブを楽しんでくれる方\n・その他　食事などにかかる費用は自己負担となります
URL:https://hiraeth.tokyo/event/20240428-3/
LOCATION:OSC湘南シティオープンモールステージ\, 代官町33-1　OSC湘南シティ\, 平塚市\, 神奈川県\, 254-0807\, 日本
CATEGORIES:Live
ATTACH;FMTTYPE=image/jpeg:https://hiraeth.tokyo/wp-content/uploads/GMD4LJJbEAAwRD-.jpg
END:VEVENT
BEGIN:VEVENT
DTSTART;VALUE=DATE:20240428
DTEND;VALUE=DATE:20240429
DTSTAMP:20260421T221557
CREATED:20240328T204926Z
LAST-MODIFIED:20240426T132942Z
UID:9916-1714262400-1714348799@hiraeth.tokyo
SUMMARY:592LIVEリミット!!OUT DOOR-1@OSC湘南シティ
DESCRIPTION:▽日にち　4/28(日)\n▽イベント　592LIVEリミット!!OUT DOOR-1\n▽LIVE　11:10～11:30（雨天決行）\n▽物販　11:30～12:30A\n▽会場　OSC湘南シティオープンモールステージ ( https://shonan-city.com )\n▽料金　フリーライブ（観覧無料）\n▽出演　えあらびゅー/LONDON BLUE/ずんだ茜/清水舞美/RURUDiA/お願い!!フルハウス/地元チアチームステージ13:00-13:10/\n▽企画　〖えあらびゅーとご飯会🎶〗\nOSC湘南シティオープンモールでのライブ前後にえあらびゅーと一緒にご飯を食べましょう❕フードコートに集合だ〜🍚✨️\n・場所：OSC湘南シティ１階フードコート\n・時間：12:45~13:45\n・参加資格　えあらびゅーのライブを楽しんでくれた方\n・その他　食事などにかかる費用は自己負担となります
URL:https://hiraeth.tokyo/event/2024042-1/
LOCATION:OSC湘南シティオープンモールステージ\, 代官町33-1　OSC湘南シティ\, 平塚市\, 神奈川県\, 254-0807\, 日本
CATEGORIES:Live
ATTACH;FMTTYPE=image/jpeg:https://hiraeth.tokyo/wp-content/uploads/GMD4LJJbEAAwRD-.jpg
END:VEVENT
END:VCALENDAR