BEGIN:VCALENDAR
VERSION:2.0
PRODID:-//【HIRAETH.Tokyo】(ヒラエス.トーキョー) - ECPv6.11.2//NONSGML v1.0//EN
CALSCALE:GREGORIAN
METHOD:PUBLISH
X-WR-CALNAME:【HIRAETH.Tokyo】(ヒラエス.トーキョー)
X-ORIGINAL-URL:https://hiraeth.tokyo
X-WR-CALDESC:【HIRAETH.Tokyo】(ヒラエス.トーキョー) のイベント
REFRESH-INTERVAL;VALUE=DURATION:PT1H
X-Robots-Tag:noindex
X-PUBLISHED-TTL:PT1H
BEGIN:VTIMEZONE
TZID:Asia/Tokyo
BEGIN:STANDARD
TZOFFSETFROM:+0900
TZOFFSETTO:+0900
TZNAME:JST
DTSTART:20240101T000000
END:STANDARD
END:VTIMEZONE
BEGIN:VEVENT
DTSTART;VALUE=DATE:20240505
DTEND;VALUE=DATE:20240506
DTSTAMP:20260421T191805
CREATED:20240423T220502Z
LAST-MODIFIED:20240512T045944Z
UID:10150-1714867200-1714953599@hiraeth.tokyo
SUMMARY:600☆CLNSE 5MAN@中野坂上S.U.B TOKYO
DESCRIPTION:▽日にち　5/5(日)\n▽イベント　600☆CLNSE 5MAN\n▽予約　https://t.livepocket.jp/e/geuhm\n▽LIVE　13:00～13:30\n▽物販　13:35～14:35\n▽会場　中野坂上S.U.B TOKYO　\n▽料金　前売前方S4000/一般A2000/当日+1000/各D代別\n※前方S全組共通使用可能写メ券付き\n▽開場　10:30\n▽イベント時間　11:00(予定)\n▽出演　えあらびゅー/Cassie Te Light/neOen/ラストノート/ステラリオン/
URL:https://hiraeth.tokyo/event/20240505-2/
LOCATION:中野坂上S.U.B TOKYO\, 本町2-28-11 不二ハイツB1\, 中野区\, 東京都\, 164-0012\, 日本
CATEGORIES:Live
ATTACH;FMTTYPE=image/png:https://hiraeth.tokyo/wp-content/uploads/冠Fes_縦.png
END:VEVENT
BEGIN:VEVENT
DTSTART;VALUE=DATE:20240505
DTEND;VALUE=DATE:20240506
DTSTAMP:20260421T191805
CREATED:20240312T053527Z
LAST-MODIFIED:20240512T045913Z
UID:9782-1714867200-1714953599@hiraeth.tokyo
SUMMARY:599☆セカイべフェス vol.46@五反田GOTANDA G7
DESCRIPTION:▽日にち　5/5(日)\n▽イベント　599☆セカイべフェス 46【2部】\n▽予約　https://t.livepocket.jp/e/second-innovation_vol46\n▽LIVE　21:10〜21:30\n▽物販　21:35〜22:35\n▽会場　五反田GOTANDA G7\n▽料金　前売前方3000/前売一般2000/当日+500/各D別\n▽開場　13:00\n▽イベント時間　13:15\n▽出演　えあらびゅー/ドリームパスポート/ミニスカポリス/Revere Tokyo/ブルーなままで/僕だけの天使/えんむす/Blossom Garden/TJP/世ノ果テデ人形ハ唯哂フ。/SeedS/PISTIL/Lanan/RiKKYY/deeper²/ルクトゥーMe/Misty Syrena/水鈴遥/ハレノチ×ハレーション/CRNT/if/パステルホログラム/おさんぽ娘/アクアウィステリア/永音える/ \n※当日券は上記+500円\n※追加Dなしで再入場可\n※声出しOK\n#セカイべフェス
URL:https://hiraeth.tokyo/event/20240505-1/
LOCATION:五反田G7\, 西五反田2-6-3 東洋ビルB1階\, 品川区\, 東京都\, 141-0031\, 日本
CATEGORIES:Live
ATTACH;FMTTYPE=image/jpeg:https://hiraeth.tokyo/wp-content/uploads/IMG_8048.jpeg
END:VEVENT
END:VCALENDAR