BEGIN:VCALENDAR
VERSION:2.0
PRODID:-//【HIRAETH.Tokyo】(ヒラエス.トーキョー) - ECPv6.11.2//NONSGML v1.0//EN
CALSCALE:GREGORIAN
METHOD:PUBLISH
X-ORIGINAL-URL:https://hiraeth.tokyo
X-WR-CALDESC:【HIRAETH.Tokyo】(ヒラエス.トーキョー) のイベント
REFRESH-INTERVAL;VALUE=DURATION:PT1H
X-Robots-Tag:noindex
X-PUBLISHED-TTL:PT1H
BEGIN:VTIMEZONE
TZID:Asia/Tokyo
BEGIN:STANDARD
TZOFFSETFROM:+0900
TZOFFSETTO:+0900
TZNAME:JST
DTSTART:20240101T000000
END:STANDARD
END:VTIMEZONE
BEGIN:VEVENT
DTSTART;VALUE=DATE:20240506
DTEND;VALUE=DATE:20240507
DTSTAMP:20260421T191818
CREATED:20240423T215813Z
LAST-MODIFIED:20240512T050010Z
UID:10148-1714953600-1715039999@hiraeth.tokyo
SUMMARY:601☆よっしゃいくぞ〜‼︎! vol.4@浅草VAMPKIN
DESCRIPTION:▽日にち　5/6(月祝)\n▽イベント　601☆よっしゃいくぞ〜‼︎! vol.4\n▽予約　https://t.livepocket.jp/e/vampkin0506 5/4(土)23:30発売開始\n▽LIVE　16:35〜\n▽物販　17:00〜18:10\n▽会場　浅草VAMPKIN\n▽料金　前売2000/当日+500/各D代別\n▽開場　13:05\n▽イベント時間　13:20(予定)\n▽出演　えあらびゅー/ANA®KIE/SHORT CUT部#ピコリフ/#PEXACOA/メテピア-metepia-/夜とメルク/らむふぃーゆ~Ram-fille~/他\n▽入場順：①前売整理番号順②当日(整列順)
URL:https://hiraeth.tokyo/event/20240506-1/
LOCATION:浅草VAMPKIN\, 浅草2-10 ドン・キホーテ浅草店7F\, 台東区\, 東京都\, 111-0032\, 日本
CATEGORIES:Live
ATTACH;FMTTYPE=image/jpeg:https://hiraeth.tokyo/wp-content/uploads/IMG_8061.jpeg
END:VEVENT
END:VCALENDAR