BEGIN:VCALENDAR
VERSION:2.0
PRODID:-//【HIRAETH.Tokyo】(ヒラエス.トーキョー) - ECPv6.11.2//NONSGML v1.0//EN
CALSCALE:GREGORIAN
METHOD:PUBLISH
X-WR-CALNAME:【HIRAETH.Tokyo】(ヒラエス.トーキョー)
X-ORIGINAL-URL:https://hiraeth.tokyo
X-WR-CALDESC:【HIRAETH.Tokyo】(ヒラエス.トーキョー) のイベント
REFRESH-INTERVAL;VALUE=DURATION:PT1H
X-Robots-Tag:noindex
X-PUBLISHED-TTL:PT1H
BEGIN:VTIMEZONE
TZID:Asia/Tokyo
BEGIN:STANDARD
TZOFFSETFROM:+0900
TZOFFSETTO:+0900
TZNAME:JST
DTSTART:20240101T000000
END:STANDARD
END:VTIMEZONE
BEGIN:VEVENT
DTSTART;VALUE=DATE:20240510
DTEND;VALUE=DATE:20240511
DTSTAMP:20260421T191805
CREATED:20240404T184241Z
LAST-MODIFIED:20240512T050106Z
UID:9987-1715299200-1715385599@hiraeth.tokyo
SUMMARY:603☆☆キテるアイドル vol.10@秋葉原ZEST
DESCRIPTION:▽日にち　5/10(金)\n▽イベント　603☆☆キテるアイドル vol.10\n▽予約　https://t.livepocket.jp/e/0510zest　2024/5/6(月)22:00発売\n▽LIVE　19:40〜20:05\n▽物販　21:00〜22:00\n▽会場　秋葉原ZEST\n▽料金　前売前方3500/前売一般2000/女性1000円/各D別\n▽開場　18:05\n▽イベント時間　18:25(予定)\n▽出演　えあらびゅー/ミイロプロジェクト/Caress Van End/遥か、彼方。/あいすなっつ/HIGH HIGH BEAM/他\n▽入場順：①前売前方チケット整理番号順②前売通常チケット整理番号順③女性チケット整理番号順④当日(整列順)
URL:https://hiraeth.tokyo/event/20240510-1/
LOCATION:秋葉原ZEST\, 外神田3-2-14\, 千代田区\, 東京都\, 101-0021\, 日本
CATEGORIES:Live
ATTACH;FMTTYPE=image/png:https://hiraeth.tokyo/wp-content/uploads/Design.png
END:VEVENT
END:VCALENDAR