BEGIN:VCALENDAR
VERSION:2.0
PRODID:-//【HIRAETH.Tokyo】(ヒラエス.トーキョー) - ECPv6.11.2//NONSGML v1.0//EN
CALSCALE:GREGORIAN
METHOD:PUBLISH
X-ORIGINAL-URL:https://hiraeth.tokyo
X-WR-CALDESC:【HIRAETH.Tokyo】(ヒラエス.トーキョー) のイベント
REFRESH-INTERVAL;VALUE=DURATION:PT1H
X-Robots-Tag:noindex
X-PUBLISHED-TTL:PT1H
BEGIN:VTIMEZONE
TZID:Asia/Tokyo
BEGIN:STANDARD
TZOFFSETFROM:+0900
TZOFFSETTO:+0900
TZNAME:JST
DTSTART:20240101T000000
END:STANDARD
END:VTIMEZONE
BEGIN:VEVENT
DTSTART;VALUE=DATE:20240512
DTEND;VALUE=DATE:20240513
DTSTAMP:20260421T231031
CREATED:20240404T181125Z
LAST-MODIFIED:20240512T050204Z
UID:9984-1715472000-1715558399@hiraeth.tokyo
SUMMARY:606☆CUTE CANVAS BEST 10@五反田G6
DESCRIPTION:▽日にち　5/12(日)\n▽イベント　606☆CUTE CANVAS BEST 10\n▽予約　https://t.livepocket.jp/e/l4rwu\n▽LIVE　15:15～15:35\n▽物販　15:40～16:40 C\n▽会場　五反田 G6\n▽料金　前売前方3000/前売一般2000/当日+700/各D別\n▽開場　14:00\n▽イベント時間　14:15\n▽出演　えあらびゅー/Bety/シャルロット/Reverse Tokyo/青山Rabness/世ノ果テデ人形ハ唯哂フ。/TJP/Blossom Garden/Piuuuu/wqwq/Little Echo/キプリスモルホォ/LOViSH/if/deeper²/ハレノチ✖️ハレーション/Misty Syrena/ルクト−Me/ЯanaB/ちぇガッツ
URL:https://hiraeth.tokyo/event/20240512-1/
LOCATION:五反田G6\, 西五反田2-6-3 東洋ビルB1階\, 品川区\, 東京都\, 141-0031\, 日本
CATEGORIES:Live
ATTACH;FMTTYPE=image/jpeg:https://hiraeth.tokyo/wp-content/uploads/S__11624701_0.jpg
END:VEVENT
END:VCALENDAR