BEGIN:VCALENDAR
VERSION:2.0
PRODID:-//【HIRAETH.Tokyo】(ヒラエス.トーキョー) - ECPv6.11.2//NONSGML v1.0//EN
CALSCALE:GREGORIAN
METHOD:PUBLISH
X-ORIGINAL-URL:https://hiraeth.tokyo
X-WR-CALDESC:【HIRAETH.Tokyo】(ヒラエス.トーキョー) のイベント
REFRESH-INTERVAL;VALUE=DURATION:PT1H
X-Robots-Tag:noindex
X-PUBLISHED-TTL:PT1H
BEGIN:VTIMEZONE
TZID:Asia/Tokyo
BEGIN:STANDARD
TZOFFSETFROM:+0900
TZOFFSETTO:+0900
TZNAME:JST
DTSTART:20240101T000000
END:STANDARD
END:VTIMEZONE
BEGIN:VEVENT
DTSTART;VALUE=DATE:20240519
DTEND;VALUE=DATE:20240520
DTSTAMP:20260421T190552
CREATED:20240321T134022Z
LAST-MODIFIED:20240520T161338Z
UID:9827-1716076800-1716163199@hiraeth.tokyo
SUMMARY:609☆IDOL SPIRITS 5月号@五反田G7
DESCRIPTION:▽日にち　5/19(日)\n▽イベント　609☆IDOL SPIRITS 5月号\n▽予約　https://t.livepocket.jp/e/5cbwq\n▽LIVE　20:50〜21:10\n▽物販　21:15〜22:15A\n▽会場　五反田　G7\n▽料金　前売前方3000/前売一般2000/当日+700/各D別\n▽開場　12:10\n▽イベント時間　12:20\n▽出演　えあらびゅー/Bety/いちごみるく色に染まりたい。/Twinkle Stars/桜色Standard/.BPM/青山Rabness/HIGH HIGH BEAM/思い出とプレゼント/ブルーなままで/世ノ果デデ人形ハ唯哂フ。/ぴぴぴくせる/CURTiA/PARiPiA/レプスルプス/CRNT/if/Res♡Chu/Reverse Tokyo/ルクトゥ−Me/異国のルミナリア/SeedS/PISTIL/Misty Syrena/パステルホログラム/白のエレガンシー/ЯanaB/deeper²/
URL:https://hiraeth.tokyo/event/20240519-1/
LOCATION:五反田G7\, 西五反田2-6-3 東洋ビルB1階\, 品川区\, 東京都\, 141-0031\, 日本
CATEGORIES:Live
ATTACH;FMTTYPE=image/jpeg:https://hiraeth.tokyo/wp-content/uploads/IMG_8213.jpeg
END:VEVENT
BEGIN:VEVENT
DTSTART;VALUE=DATE:20240519
DTEND;VALUE=DATE:20240520
DTSTAMP:20260421T190552
CREATED:20240402T121138Z
LAST-MODIFIED:20240520T161312Z
UID:9950-1716076800-1716163199@hiraeth.tokyo
SUMMARY:608☆☆MAGNETIC FESTIVAL@神田明神ホール
DESCRIPTION:▽日にち　5/19(日)\n▽イベント　608☆☆MAGNETIC FESTIVAL in 神田明神ホール\n▽予約　https://t.livepocket.jp/e/nhwzi\n2024/5/19(日) 10:00まで\n▽特典　\n▽LIVE　12:25〜12:45\n▽物販　12:50〜13:50B\n▽会場　神田明神ホール\n▽料金　前売S5000/前売A3000/当日+1000/各D別\n▽開場　8:45\n▽イベント時間　9:00\n▽出演　えあらびゅー/アイドルカレッジ/iTRiP/ai*ai/あげもん！/Asls/UPローチ/アルカナビス/ESTLINK☆/Glim Assembler/シークレットシャノワール/JAPANARIZM/新章　大阪☆春夏秋冬/スターチスのラブレター/すてねこキャッツ/スポポポポニー/蒼穹アンブレラ/＃ドレミファソラシード/BANZAI JAPAN/PiXMiX/∴ヒロイン転生/ぶっとび！パンデミック/PrincessGarden~姫庭~/BOY MEETS HARU/ポラライト/MY First Bae’s/miao/未完成のキャラメル/milu milu/Lily wonder/リコリス/LEVEL7/れんてつ/Loulouchouchou/朝倉凛/アイドル革命/他
URL:https://hiraeth.tokyo/event/20240519-2/
LOCATION:神田明神ホール\, 外神田2-16-2 神田明神文化交流館2F\, 千代田区\, 東京都\, 101-0021\, 日本
CATEGORIES:Live
ATTACH;FMTTYPE=image/jpeg:https://hiraeth.tokyo/wp-content/uploads/MAGNETIC_FESTIVAL_20240519_lineup_v12_light.jpg
END:VEVENT
END:VCALENDAR