BEGIN:VCALENDAR
VERSION:2.0
PRODID:-//【HIRAETH.Tokyo】(ヒラエス.トーキョー) - ECPv6.11.2//NONSGML v1.0//EN
CALSCALE:GREGORIAN
METHOD:PUBLISH
X-WR-CALNAME:【HIRAETH.Tokyo】(ヒラエス.トーキョー)
X-ORIGINAL-URL:https://hiraeth.tokyo
X-WR-CALDESC:【HIRAETH.Tokyo】(ヒラエス.トーキョー) のイベント
REFRESH-INTERVAL;VALUE=DURATION:PT1H
X-Robots-Tag:noindex
X-PUBLISHED-TTL:PT1H
BEGIN:VTIMEZONE
TZID:Asia/Tokyo
BEGIN:STANDARD
TZOFFSETFROM:+0900
TZOFFSETTO:+0900
TZNAME:JST
DTSTART:20240101T000000
END:STANDARD
END:VTIMEZONE
BEGIN:VEVENT
DTSTART;VALUE=DATE:20240520
DTEND;VALUE=DATE:20240521
DTSTAMP:20260421T191806
CREATED:20240519T084613Z
LAST-MODIFIED:20240520T161412Z
UID:10427-1716163200-1716249599@hiraeth.tokyo
SUMMARY:610☆☆冠Fes-カンフェス-@新宿Zirco Tokyo
DESCRIPTION:▽日にち 5/20(月)\n▽イベント　610☆☆冠Fes-カンフェス-\n▽予約　https://t.livepocket.jp/e/kanfes0520\n▽LIVE　18:25～18:45\n▽物販　18:50～19:50\n▽会場　新宿Zirco Tokyo\n▽料金　前売前方3500/前売一般2000/当日+1000/各D別\n▽開場　13:30\n▽イベント時間　13:50（予定）\n▽出演　えあらびゅー/【eN】/Cassie Te Light/Glim Assembler/スターチスのラブレター/天使にはなれない/FULIT BOX/flawless POP./蛍/夢幻スタートレール/MELTЯAGE/夢みるアドレセンス/ラストノート/
URL:https://hiraeth.tokyo/event/20240520-1/
LOCATION:新宿Zirco Tokyo\, 歌舞伎町1-2-5東陽ビルB2\, 新宿区\, 東京都\, 160-0021\, 日本
CATEGORIES:Live
ATTACH;FMTTYPE=image/png:https://hiraeth.tokyo/wp-content/uploads/jg6kopL7jz4dxEJRh5MNF6WO8kksUwKr3t0m0VN2yOH261sCDaL3MN9Ltba6jJam.png
END:VEVENT
END:VCALENDAR