BEGIN:VCALENDAR
VERSION:2.0
PRODID:-//【HIRAETH.Tokyo】(ヒラエス.トーキョー) - ECPv6.11.2//NONSGML v1.0//EN
CALSCALE:GREGORIAN
METHOD:PUBLISH
X-WR-CALNAME:【HIRAETH.Tokyo】(ヒラエス.トーキョー)
X-ORIGINAL-URL:https://hiraeth.tokyo
X-WR-CALDESC:【HIRAETH.Tokyo】(ヒラエス.トーキョー) のイベント
REFRESH-INTERVAL;VALUE=DURATION:PT1H
X-Robots-Tag:noindex
X-PUBLISHED-TTL:PT1H
BEGIN:VTIMEZONE
TZID:Asia/Tokyo
BEGIN:STANDARD
TZOFFSETFROM:+0900
TZOFFSETTO:+0900
TZNAME:JST
DTSTART:20240101T000000
END:STANDARD
END:VTIMEZONE
BEGIN:VEVENT
DTSTART;VALUE=DATE:20240526
DTEND;VALUE=DATE:20240527
DTSTAMP:20260421T191804
CREATED:20240414T113751Z
LAST-MODIFIED:20240520T161647Z
UID:10080-1716681600-1716767999@hiraeth.tokyo
SUMMARY:613☆☆IDOLだんじょん!@代官山SPACE ODD
DESCRIPTION:▽日にち 5/26(日)\n▽イベント　613☆☆IDOLだんじょん!\n▽予約　https://t.livepocket.jp/e/idoldanjyon0525\n▽LIVE　15:05〜15:30\n▽物販　15:40〜16:40B\n▽会場　代官山SPACE ODD\n▽料金　前売3000/前売女性1000/当日+500/各D別\n▽開場　12:00\n▽イベント時間　12:30（予定）\n▽出演　えあらびゅー/あいすなっつ/Amor Amore./アラカシ。/unknocturne/81moment/キプリスモルホォ/STAMPeeeeeDe/奏音コレクト/整形アイドルプロジェクト/ドリームパスポート/PATI PATI CANDY…☆ /遥か、彼方。/ビビッときたかも/夢現シンクレティズム/メインタイトル/chuuum/ばたんキュン/Parasite.Kiss/
URL:https://hiraeth.tokyo/event/20240526-1/
LOCATION:代官山SPACE ODD\, 猿楽町2-11 B1.B2 氷川ビル\, 渋谷区\, 東京都\, 150-0033\, 日本
CATEGORIES:Live
ATTACH;FMTTYPE=image/jpeg:https://hiraeth.tokyo/wp-content/uploads/IMG_8216.jpeg
END:VEVENT
END:VCALENDAR