BEGIN:VCALENDAR
VERSION:2.0
PRODID:-//【HIRAETH.Tokyo】(ヒラエス.トーキョー) - ECPv6.11.2//NONSGML v1.0//EN
CALSCALE:GREGORIAN
METHOD:PUBLISH
X-ORIGINAL-URL:https://hiraeth.tokyo
X-WR-CALDESC:【HIRAETH.Tokyo】(ヒラエス.トーキョー) のイベント
REFRESH-INTERVAL;VALUE=DURATION:PT1H
X-Robots-Tag:noindex
X-PUBLISHED-TTL:PT1H
BEGIN:VTIMEZONE
TZID:Asia/Tokyo
BEGIN:STANDARD
TZOFFSETFROM:+0900
TZOFFSETTO:+0900
TZNAME:JST
DTSTART:20240101T000000
END:STANDARD
END:VTIMEZONE
BEGIN:VEVENT
DTSTART;VALUE=DATE:20240601
DTEND;VALUE=DATE:20240602
DTSTAMP:20260421T175057
CREATED:20240325T115456Z
LAST-MODIFIED:20240527T143622Z
UID:9884-1717200000-1717286399@hiraeth.tokyo
SUMMARY:615☆☆☆えあらびゅーpresents Vol.28ひなた生誕祭🚀みんなで騒ごう祭じゃ👽@五反田G6
DESCRIPTION:概要\n◆日にち　2024年6月1日(土)\n◆イベント　615☆☆☆えあらびゅーpresents Vol.28ひなた生誕祭🚀みんなで騒ごう祭じゃ👽\n◆予約　　\n・紙チケット　\n※5月5日CLNSE 5MAN@中野坂上S.U.B TOKYO特典会より発売\nhttps://hiraeth.tokyo/event/20240505-2/\n・ネット販売　https://t.livepocket.jp/e/airlview-hinata2024\n※販売期間 4月15日20時00分～5/月31日23時59分まで\n※※Sチケットの特典締切は別途締切日がございます※※\n◆会場　五反田G6\n◆料金　Sチケット9000/Aチケット2500/招待チケット1000/当日＋500(各D別)\n(招待:Sチケ購入者のみ購入可、えあらびゅー初回、初回から3ヶ月以内)\n◆出演　えあらびゅー/PHiZZ/Cassie Te Light/錬日乙女個色/\n◆タイムテーブル\n\n◆入場順\n▽10:30〜\n当日並び順\n▽11:50\n・チケット別入場\nS紙チケ番号順→Sネット番号順→A紙チケ番号順→Aネット番号順→当日券・招待券並び順\n◆セットリスト\n当日までお楽しみに！\n\n\n\n \n生誕祭について\nいつもえあらびゅーを応援して頂きありがとうございます！\n生誕イベントはメンバーやスタッフが皆様に感謝を伝え、応援して頂いている全ての方と喜びを共感させて頂く事を趣旨としております。\n上記の趣旨にあわせて様々なことを考慮した上で生誕ボランティアスタッフを募集させて頂き、運営と力を合わせてメンバーをお祝いしたいと思っています！ \n \n\n\n\n通販サイトは画像をクリック！ \n \n \nネットでの有志券はこちら\nhttps://t.livepocket.jp/e/airlview-hinata2024-yuusi \nQ&A よくある質問\nQ. 締切の時点で、有志額が同額の方が複数名いた場合の対象者はどうなりますか？\nA. 先着順でのご案内となります。インターネットでの決済の場合、購入時刻に基づき計算いたします。また、特典会でのご購入の場合、有志券をお渡しいたしますので半券と共に運営で管理しているデータに基づき計算させていただきます。\nQ.サプライズ演出やスタフラに名前掲載など恥ずかしくてしたくないのですが…必ず参加しなければいけませんか？\nA.どちらもご辞退可能です。\nスタフラに名前掲載を希望しない場合は、インターネット決済画面「有志券(名前なし)」をご選択いただきご購入をお願いします。また、特典会でのご購入をご検討の場合はスタッフにお気軽にお声かけください。\nQ.有志したいけど、何に使われるか分からないので迷っています。。\nA.皆さまからご有志いただくものはももな生誕祭開催のためにご利用いたします。ご希望の方は、生誕祭開催後、内訳を記載した明細をお送りいたしますのでえあらびゅー公式XのDMまでお気軽にお申し付けください。\nQ.インターネットで購入したいのですが、有志券は貰えないのでしょうか？？\nA.誠に申し訳ございませんが、有志券は特典会にご来場いただきました方限定でのお渡しとなります。何卒ご了承のほどよろしくお願いいたします。\nQ.インターネットでチケットを購入した場合に、紙のチケットは貰えないのでしょうか？？\nA.誠に申し訳ございませんが、入場チケットは対面販売でのお渡しとなります。何卒ご了承のほどよろしくお願いいたします。\n▶その他ご質問のある方は、えあらびゅー公式XのDMもしくは、特典会スタッフまでお気軽にお声がけくださいませ。\nhttps://twitter.com/airlview
URL:https://hiraeth.tokyo/event/20240601-1/
LOCATION:五反田G6\, 西五反田2-6-3 東洋ビルB1階\, 品川区\, 東京都\, 141-0031\, 日本
CATEGORIES:Live
ATTACH;FMTTYPE=image/png:https://hiraeth.tokyo/wp-content/uploads/ひなた生誕祭2024-1.png
END:VEVENT
END:VCALENDAR