BEGIN:VCALENDAR
VERSION:2.0
PRODID:-//【HIRAETH.Tokyo】(ヒラエス.トーキョー) - ECPv6.11.2//NONSGML v1.0//EN
CALSCALE:GREGORIAN
METHOD:PUBLISH
X-WR-CALNAME:【HIRAETH.Tokyo】(ヒラエス.トーキョー)
X-ORIGINAL-URL:https://hiraeth.tokyo
X-WR-CALDESC:【HIRAETH.Tokyo】(ヒラエス.トーキョー) のイベント
REFRESH-INTERVAL;VALUE=DURATION:PT1H
X-Robots-Tag:noindex
X-PUBLISHED-TTL:PT1H
BEGIN:VTIMEZONE
TZID:Asia/Tokyo
BEGIN:STANDARD
TZOFFSETFROM:+0900
TZOFFSETTO:+0900
TZNAME:JST
DTSTART:20240101T000000
END:STANDARD
END:VTIMEZONE
BEGIN:VEVENT
DTSTART;VALUE=DATE:20240608
DTEND;VALUE=DATE:20240609
DTSTAMP:20260421T175047
CREATED:20240604T074034Z
LAST-MODIFIED:20240605T081053Z
UID:10571-1717804800-1717891199@hiraeth.tokyo
SUMMARY:618☆☆アイドルスムージー5th@お台場Zepp DiverCity TOKYO
DESCRIPTION:▽日づけ　6/8(土)\n▽イベント　618☆☆アイドルスムージー5th\n▽予約　https://t.livepocket.jp/e/0608zeppdiver 6/7(金)23:59まで\n▽指名特典\n・晴れ(お散歩会)雨(ご飯会)\n・集合チェキ\n▽LIVE　18:24〜18:44\n▽物販　19:10〜20:00\n▽会場　お台場Zepp DiverCity TOKYO\n▽料金　最前11000/S6500/A4000/当日+1000/(各D別)\n▽開場　\n▽イベント時間　12:00〜20:00\n▽出演　えあらびゅー/マジカル・パンチライン/PATI PATI CANDY…☆/キプリスモルホォ/あっぷろーでぃあ/ニコニコ♡LOVERS/ニコニコ♡PRINCESS/ニコニコ♡SPIRIT/あの歌のせい/COLOR’z/ミリオン！〜Million Heaven Tokyo〜/TheWORLD/bonbon ange/花ノぷりんせす/天使突抜ニ読ミ/JUGS MAFIA/ドリームパスポート/奏音コレクト/幻奏リフレクション/DEEPGEEK/PARiPiA/ギミラブ！/永音える/Majewel/えぬえむとぅけ/瞬きのネビュラ/擬人化にゃんた/RURUDiA/amuLse/閃光バブルス/エモグラ(O.A.)/他
URL:https://hiraeth.tokyo/event/20240608-1/
LOCATION:お台場Zepp DiverCity TOKYO\, 青海 1-1-10 ダイバーシティ東京プラザ\, 江東区\, 東京都\, 135-0064\, 日本
CATEGORIES:Live
ATTACH;FMTTYPE=image/jpeg:https://hiraeth.tokyo/wp-content/uploads/IMG_8558.jpeg
END:VEVENT
END:VCALENDAR