BEGIN:VCALENDAR
VERSION:2.0
PRODID:-//【HIRAETH.Tokyo】(ヒラエス.トーキョー) - ECPv6.11.2//NONSGML v1.0//EN
CALSCALE:GREGORIAN
METHOD:PUBLISH
X-ORIGINAL-URL:https://hiraeth.tokyo
X-WR-CALDESC:【HIRAETH.Tokyo】(ヒラエス.トーキョー) のイベント
REFRESH-INTERVAL;VALUE=DURATION:PT1H
X-Robots-Tag:noindex
X-PUBLISHED-TTL:PT1H
BEGIN:VTIMEZONE
TZID:Asia/Tokyo
BEGIN:STANDARD
TZOFFSETFROM:+0900
TZOFFSETTO:+0900
TZNAME:JST
DTSTART:20240101T000000
END:STANDARD
END:VTIMEZONE
BEGIN:VEVENT
DTSTART;VALUE=DATE:20240613
DTEND;VALUE=DATE:20240614
DTSTAMP:20260421T175116
CREATED:20240215T221313Z
LAST-MODIFIED:20240613T025756Z
UID:9540-1718236800-1718323199@hiraeth.tokyo
SUMMARY:620☆☆☆MARQUEE祭 Vol.146@渋谷Spotify O-WEST
DESCRIPTION:日時　6/13(木)\nイベント　620☆☆☆MARQUEE祭 Vol.146\n料金　前売3800/当日4300/(各D別)\n予約　 https://eplus.jp/sf/detail/2029630001\n発売スケジュール\n情報公開　5/7(火)正午\n先行予約　5/7(火)正午～5/12(日)23:59\n一般発売　5/18(土)10:00～6/12(水)18:00 \nLIVE　16:20～16:40\n物販　16:55～17:55 ジーカンズビル2階B\n会場　渋谷Spotify O-WEST\nOP　15:30\nST　16:00\n出演　えあらびゅー/JamsCollection/のんふぃく!/なんキニ！/かすみ草とステラ/#2i2/SWEET STEADY/Ange☆Reve/透色ドロップ/#Mooove！/メイビーME/PinkySpice/どーぴんぐ疑惑/\nセットリスト\n🪦hajimari\n☀️放課後オレンジサイン\n⚡️限界わがままクライシス\n🔥いつか、きっと、どこかで(新曲) \n特典準備のため以下のご回答をお願いいたします\nhttps://chouseisan.com/s?h=de4e6ba13ec84f729013cf8a8ecfd7f3\n目標:130人動員 \n指名特典\n \n \n \n\n【１】オフ会無料招待権\n7月の土日に無料オフ会を２回開催します！！\nどちらもライブが1本入る予定で時間が確定していない為1日空けてくださると幸いです！！\n飲み物軽食ご用意致します！持ち込みも可能ですが手作り生物判断難しいもは無しでお願い致します！また今回はライブ後でしたらメンバーとお酒での乾杯も出来ます！！泥酔者又は過度な飲みすぎはオフ会参加をお断り致します。 \n【２】集合写メ券\n・特典会の一番最初に行います！\n・順番に並んでお待ちください。\n・当日混雑が予想されますので、荷物は置いてすぐ動ける状態でお並びください。\n・メンバーが挨拶したらすぐに行います \n【３】無料コメサチェキループ券\n無料でメンバーとチェキループ出来る券をお渡し🎁\n撮影の際、メンバーにご提示ください。\n※6/13限定\n※1回につきチェキ1枚60秒\n※通常チェキ券、コメサチェキ券、延長券との併用不可 \n【４】7月カレンダー\nえあらびゅーメンバーが毎月自ら制作しているえあらびゅーオリジナルカレンダーです！\n今回はどのメンバーのデザインかな？おたのしみに！ \n【５】2推し特典(対象基準有)\nえあらびゅー1推しではないけど、、でも自分の推しと被ったら見てる！！🫡\nえあらびゅー2推し3推し以降の方限定‼️ \n皆さんの1推し教えてください！！そしてあなたの推し現場に勉強に行かせてください！！\n5/25(土)MARQUEE祭miniに来てくださったあなたの1推し現場にえあらびゅー(メンバー、運営スタッフ、社長、など1名〜全員)が後日伺わせていただきます！\n例えば、、\nこのライブの動員のプラスにしたい…！自分の推しとチェキを撮ってもらって仲良くしてもらいたい…！など可能な限り何でもやります✊🏻🔥\n🎁当日物販受付にて、2推し以降限定特典ご希望と指名入場券、調整さんの画面をお見せください！ \n【６】おかえり特典(対象基準有)\nメンバーひとりひとりとチェキor写メ\n※対象基準\n半年以上、えあらびゅーのライブに来てない方\n🎁当日物販受付にてお帰りらばー特典の希望とお知らせください\n📸📸📸メンバー全員1人1人とチェキor写メ(60s)📸📸📸 \n【７】スターターパック5点セット(対象基準有)\n🎁当日物販受付にて、えあらびゅースターターパックのご希望と指名入場券をお渡し下さい。\nスターターパック\n・Tシャツ\n・ペンライトフィルム\n・トレカ4種\n・HajimariのCD(オリジナルver)\n・暴露冊子Vol.1&2\n弊社社長執筆の”暴露冊子Vol.1&2”\n※スターターパック対象基準\n・初回特典カードをお待ちで3回目未満の方、または初めての方\n・初回特典カードの初回の日にちが1ヶ月以内の方 \n【８】6/13セトリポストカード\n6/13MARQUEE祭で音響さん照明さんスタッフさんに提出した実際のセトリをポストカードにしてお渡しします！ \n【９】限定ボールペン\nえあらびゅーオリジナル手作りボールペンです！メンバーが愛情を込めて1つずつ作っているので是非ご愛用ください！ \n【１０】過去の特典引き換え券\nお好きな過去の特典を1つお選び下さい！\n◇過去の特典一覧◇\nチェキ帳\n推し入れ\nりぴあふ/放課後/ももきこシール\nサイン券\nコメサ/チェキ✖️2/チェキ/集合チェキ\nブロマイド\n10秒撮り放題\nHajimariCD\n暴露冊子1.2\nカレンダー(ある月)\nもも/きこ/ひなた/集合トレカ\nペンライトフィルム\n60秒/120秒延長\nAIRLVIEW vol.1\n2023ももな生誕/2024にあ生誕DVD\n2周年/生誕祭/紙チケット\n主催プログラム \n【１１】超絶スペシャル招待特典\n今回のMARQUEE祭での招待特典はこちらになります‼️ \n⚠️超絶スペシャル招待特典⚠️ \n○招待した側\n🔸1人：\nチェキ5➕写メ5セットor Zoom5分\n🔸3人：\n7月の全参加ライブコメサ1枚or7月通常ライブ招待(一般のみ)\n🔸5人：\nパン祭り1枠招待or主催ライブ招待(Sチケあり)\n(5人以上招待はループとなります) \n○招待された側\n🔸全メンバー各1チェキ券 \n超絶スペシャル招待特典になっておりますのでスターターパックを合わせてご友人をお誘い頂ければと思います！ \n【１２】もっとずっとそばでシール\nえあらびゅーのオリジナル曲”もっとずっとそばで”がシールになりました！えあらびゅーの元気と可愛さを詰め込みました！ \n【１３】コメサ1枚(１ヶ月可能) \nいつものコメサチェキも勿論あげちゃいますっ！ \n【１４】選べるシングルCD \n・だから、アイドル。\n・全力summer\n・ツイスターゾーン、アレンジバージョン\n・サンシャインマジック、アレンジバージョン\n・灯火未来、アレンジバージョン \n【１５】ことねの新曲弾き語りCD \n6/13にお披露目の「いつか、きっと、どこかで。」をことねが弾き語りしたCDをプレゼント！！！ \n企画\n目標\n⚠️100人達成します！️\n⚠️ヤバいライブやります\n⚠️マーキー本祭はスゴい出演者ばっかりですが、えあらびゅーが1番ヤバいライブをやります \nセットリスト\n🔥🔥🔥🔥🔥🔥🔥\n絶対に見てください\n🔥🔥🔥🔥🔥🔥🔥\n本祭で新曲発表します\n🔥🔥🔥🔥🔥🔥🔥\n🪦hajimari\n☀️放課後オレンジサイン\n⚡️限界わがままクライシス\n🔥いつか、きっと、どこかで(新曲) \n日本のビラ配りをアップデート\n日本一のビラ配りアイドルが日本のビラ配りをアップデートします❗️\n今回マーキー本祭の出演を祝して、CDや今まで配布した冊子を大大大大大放出します！\n通常のビラ配り、路上ライブ、etc…にて❗️\nこちらを配ります🔥\nまだまだ増えるかも・・・？ \n①暴露雑誌vol.1、vol.2\n②ランダムCD\n③ビラ2種類\n④SPラリーカード(PRバージョン) \nイベントレギュレーション\n●チケットはお一人様1枚のみ（チケットにはその方のお名前が記入されます）\n●整理番号順入場、オールスタンディング\n●入場時に身分証確認をさせていただく場合がございます。顔写真付き身分証明証を必ず持参お願いします\n●体温が37.5以上の方、咳症状の酷い方は入場をお断りします\n●営利目的の転売禁止\n●会場内への飲食物の持ち込み禁止、アルコール販売なし\n●リフト、モッシュ、柵に登る等の危険行為、ヤジ、泥酔等禁止\n●再入場可（追加ドリンク代不要）\n●物販＆特典会への参加にはチケットが必要です\n●未就学児童入場不可\n●出演者変更に伴いますご返金は致しかねます
URL:https://hiraeth.tokyo/event/20240613-1/
CATEGORIES:Live
ATTACH;FMTTYPE=image/jpeg:https://hiraeth.tokyo/wp-content/uploads/GM1TdoAbEAAwMcE.jpg
END:VEVENT
END:VCALENDAR