BEGIN:VCALENDAR
VERSION:2.0
PRODID:-//【HIRAETH.Tokyo】(ヒラエス.トーキョー) - ECPv6.11.2//NONSGML v1.0//EN
CALSCALE:GREGORIAN
METHOD:PUBLISH
X-WR-CALNAME:【HIRAETH.Tokyo】(ヒラエス.トーキョー)
X-ORIGINAL-URL:https://hiraeth.tokyo
X-WR-CALDESC:【HIRAETH.Tokyo】(ヒラエス.トーキョー) のイベント
REFRESH-INTERVAL;VALUE=DURATION:PT1H
X-Robots-Tag:noindex
X-PUBLISHED-TTL:PT1H
BEGIN:VTIMEZONE
TZID:Asia/Tokyo
BEGIN:STANDARD
TZOFFSETFROM:+0900
TZOFFSETTO:+0900
TZNAME:JST
DTSTART:20240101T000000
END:STANDARD
END:VTIMEZONE
BEGIN:VEVENT
DTSTART;VALUE=DATE:20240629
DTEND;VALUE=DATE:20240630
DTSTAMP:20260421T175048
CREATED:20240605T173325Z
LAST-MODIFIED:20240624T040905Z
UID:10611-1719619200-1719705599@hiraeth.tokyo
SUMMARY:629☆4864.Presents今宵は4864.と騒がNight Vol.2@渋谷SHIBUYA VIDENT
DESCRIPTION:▽日づけ　6/29(土)\n▽イベント　629☆4864.Presents今宵は4864.と騒がNight Vol.2\n▽予約https://t.livepocket.jp/e/vident0629\n▽LIVE　19:25~19:50\n▽物販　20:40~21:40終演後\n▽会場　渋谷SHIBUYA VIDENT\n▽料金　前売優先2500/前売通常1500/当日+500/各D別\n▽開場　19:10\n▽イベント時間　19:25(予定)\n▽出演　えあらびゅー/4864./蛍/\n▶入場順：①前売優先整理番号順②前売通常整理番号順③当日(整列順)
URL:https://hiraeth.tokyo/event/20240629-1/
LOCATION:渋谷VIDENT\, 宇田川町29-4 B2階\, 渋谷区\, 東京都\, 150-0042\, 日本
CATEGORIES:Live
ATTACH;FMTTYPE=image/jpeg:https://hiraeth.tokyo/wp-content/uploads/IMG_8744.jpeg
END:VEVENT
BEGIN:VEVENT
DTSTART;VALUE=DATE:20240629
DTEND;VALUE=DATE:20240630
DTSTAMP:20260421T175048
CREATED:20240617T113620Z
LAST-MODIFIED:20240624T124457Z
UID:10669-1719619200-1719705599@hiraeth.tokyo
SUMMARY:628☆クログラ武者修行ライブ〜Croire Grato-クログラ- 1周年記念ライブ〜@ジールシアター東京
DESCRIPTION:▽日づけ　6/29(土)\n▽イベント　628☆クログラ武者修行ライブ〜Croire Grato-クログラ-1周年記念ライブ〜\n▽予約　https://tiget.net/events/323865\n▽LIVE　15:20〜15:50\n▽物販　16:00〜17:00B\n▽会場　新橋ジールシアター東京\n▽料金　前売3000/当日+500/各D別/再入+D\n▽開場　10:15\n▽イベント時間　10:30〜22:00(予定)\n▽出演　えあらびゅー/Croire Grato-クログラ-/仮面女子/RYUKYU IDOL/みるる/PATI PATI CANDY…☆/ドリームパスポート/新世界ギルドール/わたあめびーすたーず/世ノ果テデ人形ハ唯哂フ。/Jumping Kiss/ガルネア/メインタイトル/神薙ラビッツ/錬日乙女個色/Mikoto/
URL:https://hiraeth.tokyo/event/20240629-2/
LOCATION:新橋ジールシアター東京\, 新橋3-5-10 新三ビル地下\, 港区\, 東京都\, 105-0004\, 日本
CATEGORIES:Live
ATTACH;FMTTYPE=image/jpeg:https://hiraeth.tokyo/wp-content/uploads/S__4407312.jpg
END:VEVENT
END:VCALENDAR