BEGIN:VCALENDAR
VERSION:2.0
PRODID:-//【HIRAETH.Tokyo】(ヒラエス.トーキョー) - ECPv6.11.2//NONSGML v1.0//EN
CALSCALE:GREGORIAN
METHOD:PUBLISH
X-WR-CALNAME:【HIRAETH.Tokyo】(ヒラエス.トーキョー)
X-ORIGINAL-URL:https://hiraeth.tokyo
X-WR-CALDESC:【HIRAETH.Tokyo】(ヒラエス.トーキョー) のイベント
REFRESH-INTERVAL;VALUE=DURATION:PT1H
X-Robots-Tag:noindex
X-PUBLISHED-TTL:PT1H
BEGIN:VTIMEZONE
TZID:Asia/Tokyo
BEGIN:STANDARD
TZOFFSETFROM:+0900
TZOFFSETTO:+0900
TZNAME:JST
DTSTART:20240101T000000
END:STANDARD
END:VTIMEZONE
BEGIN:VEVENT
DTSTART;VALUE=DATE:20240630
DTEND;VALUE=DATE:20240701
DTSTAMP:20260421T175047
CREATED:20240604T154215Z
LAST-MODIFIED:20240629T101626Z
UID:10579-1719705600-1719791999@hiraeth.tokyo
SUMMARY:631☆☆LINKL PLANET 定期公演 "LINK!LINK!LINK! ランナーNo.1"@秋葉原AKIBAカルチャーズ劇場
DESCRIPTION:▽日づけ　6/30(日)\n▽イベント　631☆☆LINKL PLANET 定期公演 “LINK!LINK!LINK! ランナーNo.1”\n▽予約　https://t.livepocket.jp/e/linklinklink\n▽特典　集合チェキ又は10秒撮り放題券(写メでも動画でも)\n▽LIVE　17:45〜18:10\n▽物販　19:10〜20:40終演後\n▽会場　秋葉原AKIBAカルチャーズ劇場\n▽料金　前売3000/各D別\n▽開場　17:00\n▽イベント時間　17:30(予定)\n▽出演　えあらびゅー/LINKL PLANET/PATI PATI CANDY…☆/\n▽入場順：整理番号入場\n▽チケット種類：座席\n▽販売期間：次第終了（先着順）\n▽購入制限：おひとりさま1枚まで\n—\n■チケット販売開始：6/12(水) 20:00\n■チケット販売終了：6/30(日) 17:00\n■入場順：整理番号入場\n■チケット種類：座席\n■販売期間：なくなり次第終了（先着順）\n■購入制限：おひとりさま1枚まで
URL:https://hiraeth.tokyo/event/202430-1/
CATEGORIES:Live
ATTACH;FMTTYPE=image/jpeg:https://hiraeth.tokyo/wp-content/uploads/IMG_8611.jpeg
END:VEVENT
BEGIN:VEVENT
DTSTART;VALUE=DATE:20240630
DTEND;VALUE=DATE:20240701
DTSTAMP:20260421T175047
CREATED:20240628T133559Z
LAST-MODIFIED:20240629T100219Z
UID:10818-1719705600-1719791999@hiraeth.tokyo
SUMMARY:630☆Wonderful Place vol.2@渋谷Spotify O-Crest
DESCRIPTION:▽日づけ　6/30(日)\n▽イベント　630☆Wonderful Place vol.2\n▽予約　https://t-dv.com/w-place02\n販売期間：6/29(土)12:00〜6/30(日)10:39\n▽LIVE　11:50〜12:15\n▽物販　12:50〜13:50終演後\n▽会場　渋谷Spotify O-Crest\n▽料金　前売前方2500/前売一般500/当日+500/各D別\n▽開場　10:40\n▽イベント時間　11:00(予定)\n▽出演　えあらびゅー/蒼穹アンブレラ/星合いのライラック/ミスティア/
URL:https://hiraeth.tokyo/event/20240630-2/
LOCATION:渋谷Spotify O-Crest\, 道玄坂2-14-8 5f\, 渋谷区\, 東京都\, 150-0043\, 日本
CATEGORIES:Live
ATTACH;FMTTYPE=image/png:https://hiraeth.tokyo/wp-content/uploads/34マンのコピー.png
END:VEVENT
END:VCALENDAR