BEGIN:VCALENDAR
VERSION:2.0
PRODID:-//【HIRAETH.Tokyo】(ヒラエス.トーキョー) - ECPv6.11.2//NONSGML v1.0//EN
CALSCALE:GREGORIAN
METHOD:PUBLISH
X-WR-CALNAME:【HIRAETH.Tokyo】(ヒラエス.トーキョー)
X-ORIGINAL-URL:https://hiraeth.tokyo
X-WR-CALDESC:【HIRAETH.Tokyo】(ヒラエス.トーキョー) のイベント
REFRESH-INTERVAL;VALUE=DURATION:PT1H
X-Robots-Tag:noindex
X-PUBLISHED-TTL:PT1H
BEGIN:VTIMEZONE
TZID:Asia/Tokyo
BEGIN:STANDARD
TZOFFSETFROM:+0900
TZOFFSETTO:+0900
TZNAME:JST
DTSTART:20210101T000000
END:STANDARD
END:VTIMEZONE
BEGIN:VEVENT
DTSTART;VALUE=DATE:20240718
DTEND;VALUE=DATE:20240719
DTSTAMP:20260425T195808
CREATED:20240705T150405Z
LAST-MODIFIED:20240716T103340Z
UID:10917-1721260800-1721347199@hiraeth.tokyo
SUMMARY:アイドル専門Ch　YouTube生配信番組『アイチャレ!!』
DESCRIPTION:▽日にち 7/18(木)\n▽イベント　アイドル専門Ch　YouTube生配信番組『アイチャレ!!』\n▽本番　20:30~21:45\n▽オンライン特典会　22:00〜22:40\n※予約　https://talkport.com/a/2004/2373\n▽会場　YouTube\nhttps://www.youtube.com/@ichale\n▽出演　えあらびゅー/SAKURADOLL/くれよんちゅ~どく/\nMC:たかみち店長\n━━━━━━━━━━\n【アイドル専門Ch　YouTube生配信番組『アイチャレ!!』】\n300組以上出演のバラエティ番組\n━━━━━━━━━━\n【過去出演者（一部抜粋）】\nわーすた・真っ白なキャンバス・ナナランド・九州女子翼・大阪☆春夏秋冬・他\n━━━━━━━━━━\n▼詳細はYouTube概要欄をチェック▼\nhttps://youtube.com/live/yRl5wpdxu8E\nチャンネル登録・高評価・通知ボタンをお忘れなく！\n━━━━━━━━━━\nアプリをダウンロード！\nhttps://www.notion.so/Talkport-094af6ce8f80438ca6e64720018f0af2
URL:https://hiraeth.tokyo/event/20240718-1/
CATEGORIES:Media
END:VEVENT
BEGIN:VEVENT
DTSTART;VALUE=DATE:20240620
DTEND;VALUE=DATE:20240621
DTSTAMP:20260425T195808
CREATED:20240430T090330Z
LAST-MODIFIED:20240705T075246Z
UID:10230-1718841600-1718927999@hiraeth.tokyo
SUMMARY:アイドル専門Ch『アイチャレ!!』
DESCRIPTION:6月20日（木）20:30~21:45\n━━━━━━━━━━\nアイチャレ!!出演します\nYouTube\nhttps://www.youtube.com/@ichale\n━━━━━━━━━━\n□出演者□\nMC:たかみち店長・北澤早紀\nGUEST:神薙ラビッツ/えあらびゅー/ヒロインの心/unSea\n━━━━━━━━━━\n☆番組終了後はオンライン特典会☆\nhttps://talkport.com/a/2004/2373\n販売開始：5月31日（金）20:00~ 先着順\n━━━━━━━━━━\n【アイドル専門Ch　YouTube生配信番組『アイチャレ!!』】\n300組以上出演のバラエティ番組\n━━━━━━━━━━\n【過去出演者（一部抜粋）】\nわーすた・真っ白なキャンバス・ナナランド・九州女子翼・大阪☆春夏秋冬・他\n━━━━━━━━━━\n▼詳細はYouTube概要欄をチェック▼\nhttps://youtube.com/live/yRl5wpdxu8E\nチャンネル登録・高評価・通知ボタンをお忘れなく！\n━━━━━━━━━━\nアプリをダウンロード！\nhttps://www.notion.so/Talkport-094af6ce8f80438ca6e64720018f0af2
URL:https://hiraeth.tokyo/event/20240620-1/
CATEGORIES:Media
ATTACH;FMTTYPE=image/png:https://hiraeth.tokyo/wp-content/uploads/アイチャレ_サムネ_138.png
END:VEVENT
BEGIN:VEVENT
DTSTART;VALUE=DATE:20240222
DTEND;VALUE=DATE:20240223
DTSTAMP:20260425T195808
CREATED:20240210T060439Z
LAST-MODIFIED:20240219T104951Z
UID:9466-1708560000-1708646399@hiraeth.tokyo
SUMMARY:［magazine］MARQUEE Vol.153発売日
DESCRIPTION:えあらびゅーがMARQUEE（マーキー）最新号Vol.153に掲載されます！ \n鮮烈な戦いの連続と、終了直前の壮絶な優勝争いが記憶に新しいMARQUEE誌面掲載オーディションで、メンバーとファンの皆様が日々手に手を取って戦い、壮絶な優勝を獲得できました！！ \n雑誌MARQUEEを手に一緒に獲得した優勝を噛みしめよう！ \nhttp://www.marquee-mag.com/ \nabout\n・MARQUEE Vol.153\n・2024年2月22日発売\n・ISBN978-4-434-33402-3\n・価格￥1\,375円（税込）\n・132ページ オールカラー\n・MARQUEE（マーキー）最新号Vol.153 2/22発売！\n・表紙16P：日向坂46 清水理央＋山下葉留花\n・裏表紙9P：超ときめき♡宣伝部\n・SKE48、OCHA NORMA、FRUITS ZIPPER、高嶺のなでしこ、JamsCollection、Peel the Apple、CANDY TUNE、MyDearDarlin’、ネコプラ、えあらびゅー　他 \nヨドバシ予約受付中\nhttps://yodobashi.com/product/100000009003816906/ \nサインイベント\n2月22日発売のMARQUEE Vol.153にサインいたします！！\n◆2/23(金祝)548☆☆ライブ@新宿LUMINE 0ホール\n◆2/24(土)549☆☆ライブ@新宿LUMINE 0ホール\n◆他\nEvoto
URL:https://hiraeth.tokyo/event/20240222-2/
CATEGORIES:Event,Media
ATTACH;FMTTYPE=image/jpeg:https://hiraeth.tokyo/wp-content/uploads/2.jpg
END:VEVENT
BEGIN:VEVENT
DTSTART;VALUE=DATE:20230706
DTEND;VALUE=DATE:20230707
DTSTAMP:20260425T195808
CREATED:20230508T082558Z
LAST-MODIFIED:20230508T082558Z
UID:5388-1688601600-1688687999@hiraeth.tokyo
SUMMARY:p!npon@youtube生配信
DESCRIPTION:日時　7/6(木)\nイベント　p!npon\n放映時間　21:00〜22:00 \n概要\nチャンネル　https://www.youtube.com/@Rmix0615
URL:https://hiraeth.tokyo/event/20230706-1/
CATEGORIES:Media
END:VEVENT
BEGIN:VEVENT
DTSTART;VALUE=DATE:20230706
DTEND;VALUE=DATE:20230707
DTSTAMP:20260425T195808
CREATED:20230705T132527Z
LAST-MODIFIED:20230705T132527Z
UID:6093-1688601600-1688687999@hiraeth.tokyo
SUMMARY:渋谷クロスFM📻『おーたPの部屋』
DESCRIPTION:渋谷クロスFM📻『おーたPの部屋』に出演します💓\n日時は7/6(木)14時〜50分間の生放送 \n🎀番組名：キャスティングプロデューサー太田Pパーソナリティによるエンタメ系情報番組『おーたPの部屋』\n🎀視聴URL:http://shibuyacrossfm.jp\n(スマホ・PCで全国から動画付き視聴可)\n🎀番組概要：http://shibuyacrossfm.jp/program/tur/14.php\n🎀FM視聴：88.5MHz \n#日本一のビラ配りアイドル #最近熱いと噂のアイドル #渋谷クロスFM
URL:https://hiraeth.tokyo/event/20230706-3/
CATEGORIES:Media
ATTACH;FMTTYPE=image/jpeg:https://hiraeth.tokyo/wp-content/uploads/S__54444111.jpg
END:VEVENT
BEGIN:VEVENT
DTSTART;VALUE=DATE:20230622
DTEND;VALUE=DATE:20230623
DTSTAMP:20260425T195808
CREATED:20230508T082500Z
LAST-MODIFIED:20230508T082500Z
UID:5386-1687392000-1687478399@hiraeth.tokyo
SUMMARY:p!npon@youtube生配信
DESCRIPTION:日時　6/22(木)\nイベント　p!npon\n放映時間　21:00〜22:00 \n概要\nチャンネル　https://www.youtube.com/@Rmix0615 \n今後の放映日\n7月6日(木)
URL:https://hiraeth.tokyo/event/20230622-1/
CATEGORIES:Media
END:VEVENT
BEGIN:VEVENT
DTSTART;VALUE=DATE:20230608
DTEND;VALUE=DATE:20230609
DTSTAMP:20260425T195808
CREATED:20230508T082404Z
LAST-MODIFIED:20230508T082404Z
UID:5384-1686182400-1686268799@hiraeth.tokyo
SUMMARY:p!npon@youtube生配信
DESCRIPTION:日時　6/8(木)\nイベント　p!npon\n放映時間　21:00〜22:00 \n概要\nチャンネル　https://www.youtube.com/@Rmix0615 \n今後の放映日\n6月22日(木)\n7月6日(木)
URL:https://hiraeth.tokyo/event/20230608-1/
CATEGORIES:Media
END:VEVENT
BEGIN:VEVENT
DTSTART;VALUE=DATE:20230525
DTEND;VALUE=DATE:20230526
DTSTAMP:20260425T195808
CREATED:20230508T082249Z
LAST-MODIFIED:20230523T141023Z
UID:5382-1684972800-1685059199@hiraeth.tokyo
SUMMARY:p!npon@youtube生配信
DESCRIPTION:日時　5/25(木)\nイベント　p!npon\n放映時間　21:00〜22:00 \n概要\nチャンネル　https://www.youtube.com/@Rmix0615 \n今後の放映日\n6月8日(木)\n6月22日(木)\n7月6日(木)
URL:https://hiraeth.tokyo/event/20230525-1/
CATEGORIES:Media
ATTACH;FMTTYPE=image/png:https://hiraeth.tokyo/wp-content/uploads/e7f770b056790d9188b61996f592842d.png
END:VEVENT
BEGIN:VEVENT
DTSTART;VALUE=DATE:20230511
DTEND;VALUE=DATE:20230512
DTSTAMP:20260425T195808
CREATED:20230508T082114Z
LAST-MODIFIED:20230508T082114Z
UID:5380-1683763200-1683849599@hiraeth.tokyo
SUMMARY:p!npon@youtubeライブ配信
DESCRIPTION:日時　5/11(木)\nイベント　p!npon\nhttps://www.youtube.com/watch?v=LJMahEsWtQ4\n放映時間　21:00〜22:00 \n概要\nチャンネル　https://www.youtube.com/@Rmix0615 \n今後の放映日\n5月11日(木)\n5月25日(木)\n6月8日(木)\n6月22日(木)\n7月6日(木)
URL:https://hiraeth.tokyo/event/pnponyoutube%e3%83%a9%e3%82%a4%e3%83%96%e9%85%8d%e4%bf%a1/
CATEGORIES:Media
END:VEVENT
BEGIN:VEVENT
DTSTART;VALUE=DATE:20230309
DTEND;VALUE=DATE:20230310
DTSTAMP:20260425T195808
CREATED:20230301T033921Z
LAST-MODIFIED:20230303T092937Z
UID:4415-1678320000-1678406399@hiraeth.tokyo
SUMMARY:配信出演【ソニックりょうpinpon】
DESCRIPTION:日時 3/9(木)\n番組名　ソニックりょうpinpon\n配信　YouTubeチャンネル生配信\nhttps://www.youtube.com/watch?v=7twvWoOWa0E\n時間　21:00～22:00\n出演　えあらびゅー(ももな、きこ、あみな) \nドル談xソニピン横断ゲストウィーク\n\n第一弾はえあらびゅーが1週間の2つの番組に横断生出演 \n◆ドル談\n3月7日（火）21時\nTwitterスペースラジオ出演\n出演：ももな/きこ/ひなた \n◆ソニピン\n3月9日（木）21時\nYouTubeチャンネル生配信\n出演：ももな/きこ/あみな
URL:https://hiraeth.tokyo/event/20230309-1/
CATEGORIES:Event,Media
ATTACH;FMTTYPE=image/jpeg:https://hiraeth.tokyo/wp-content/uploads/MzcLFxpe.jpg
END:VEVENT
BEGIN:VEVENT
DTSTART;VALUE=DATE:20230307
DTEND;VALUE=DATE:20230308
DTSTAMP:20260425T195808
CREATED:20230303T093738Z
LAST-MODIFIED:20230303T093738Z
UID:4451-1678147200-1678233599@hiraeth.tokyo
SUMMARY:配信出演【ドル談】
DESCRIPTION:日時 3/7(火)\n番組名　ドル談 Supported by チカハン\n配信　ツイッタースペース\nhttps://twitter.com/chikahan_jp\n時間　21:00～22:00\n出演　えあらびゅー(ももな、きこ、ひなた) \n▼企画①\n「みんなで少数決ゲームをやってみよう！」\nえあらびゅーメンバーが勝ったら、ドル談メンバーがチェキを撮りにいきます📸 \n▼企画②\n「えあらびゅー公開インタビュー!」　\nあの人気曲の考察で大激論⁉︎、えあらびゅーの思い描く1年後とは？ほか \nドル談xソニピン横断ゲストウィーク\n\n第一弾はえあらびゅーが1週間の2つの番組に横断生出演 \n◆ドル談\n3月7日（火）21時\nTwitterスペースラジオ出演\n出演：ももな/きこ/ひなた \n◆ソニピン\n3月9日（木）21時\nYouTubeチャンネル生配信\n出演：ももな/きこ/あみな
URL:https://hiraeth.tokyo/event/20230307-2/
CATEGORIES:Event,Media
ATTACH;FMTTYPE=image/jpeg:https://hiraeth.tokyo/wp-content/uploads/7FV7ehDp.jpg
END:VEVENT
BEGIN:VEVENT
DTSTART;VALUE=DATE:20230202
DTEND;VALUE=DATE:20230203
DTSTAMP:20260425T195808
CREATED:20230201T193948Z
LAST-MODIFIED:20230205T184049Z
UID:4091-1675296000-1675382399@hiraeth.tokyo
SUMMARY:NIG2023配信0202
DESCRIPTION:NEXT IDOL GRANDPRIX 2023\n　挑戦中 \n📻番組表📻2/2\nLOL Morning ひなた🐰6～8 \nAwesome Healing きこ🌻9～10 \nLucky Lunch ことね🐣13～14 \nHappy afternoon ひなた🐰15～16 \nGood Lovin ももな🐻18～ \nChillaxing にあ🐸22～23\n           みーな🐈23～24 \n↓視聴↓\nhttps://mixch.tv/u/17339228 \nPowerd by #NIG2023 \n📻パーソナリティ\nひなた🐰\nTweets by hinata_airlview \nにあ🐸\nTweets by nia_airlview \nきこ🌻\nTweets by kiko_airlview \nことね🐣\nTweets by kotone_airlview \nももな🐻\nTweets by momona_airlview \nみーな🐈\nTweets by amina_airlview
URL:https://hiraeth.tokyo/event/20230202/
CATEGORIES:Event,Media
END:VEVENT
BEGIN:VEVENT
DTSTART;VALUE=DATE:20230131
DTEND;VALUE=DATE:20230201
DTSTAMP:20260425T195808
CREATED:20230123T162941Z
LAST-MODIFIED:20230130T184821Z
UID:3968-1675123200-1675209599@hiraeth.tokyo
SUMMARY:NIG2023配信
DESCRIPTION:NEXT IDOL GRANDPRIX 2023\n　挑戦\n　はじまっています \n⚡番組表⚡1/31\nLOL Morning 休み \nAwesome Healing きこ🌻12～ \nLucky Lunch ことね🐣15～ \nHappy afternoon 休み \nGood Lovin みーな🐈18～19 \nChillaxing ももな🐻20～ \n↓視聴↓\nhttps://mixch.tv/u/17339228 \nPowerd by #NIG2023 \n📻パーソナリティ\nひなた🐰\nTweets by hinata_airlview \nにあ🐸\nTweets by nia_airlview \nきこ🌻\nTweets by kiko_airlview \nことね🐣\nTweets by kotone_airlview \nももな🐻\nTweets by momona_airlview \nみーな🐈\nTweets by amina_airlview
URL:https://hiraeth.tokyo/event/20230131/
LOCATION:NIG2023配信
CATEGORIES:Event,Media
ATTACH;FMTTYPE=image/webp:https://hiraeth.tokyo/wp-content/uploads/nig2023.webp
END:VEVENT
BEGIN:VEVENT
DTSTART;VALUE=DATE:20230130
DTEND;VALUE=DATE:20230131
DTSTAMP:20260425T195808
CREATED:20230123T162458Z
LAST-MODIFIED:20230123T162458Z
UID:3960-1675036800-1675123199@hiraeth.tokyo
SUMMARY:NIG2023配信
DESCRIPTION:NEXT IDOL GRANDPRIX 2023 \n　挑戦\n　はじまっています \n⚡番組表⚡1/30\nLOL Morning きこ🌻10～12 \nAwesome Healing ひなた🐰15～16 \nLucky Lunch ことね🐣17～18 \nHappy afternoon みーな🐈18～19 \nGood Lovin ももな🐻20～ \nChillaxing  \n↓視聴↓\nhttps://mixch.tv/u/17339228 \nPowerd by #NIG2023 \n📻パーソナリティ\nひなた🐰\nTweets by hinata_airlview \nにあ🐸\nTweets by nia_airlview \nきこ🌻\nTweets by kiko_airlview \nことね🐣\nTweets by kotone_airlview \nももな🐻\nTweets by momona_airlview \nみーな🐈\nTweets by amina_airlview
URL:https://hiraeth.tokyo/event/20230130/
LOCATION:NIG2023配信
CATEGORIES:Event,Media
ATTACH;FMTTYPE=image/webp:https://hiraeth.tokyo/wp-content/uploads/nig2023.webp
END:VEVENT
BEGIN:VEVENT
DTSTART;VALUE=DATE:20230127
DTEND;VALUE=DATE:20230128
DTSTAMP:20260425T195808
CREATED:20230123T162141Z
LAST-MODIFIED:20230123T162617Z
UID:3958-1674777600-1674863999@hiraeth.tokyo
SUMMARY:NIG2023配信
DESCRIPTION:NEXT IDOL GRANDPRIX 2023 \n　挑戦\n　はじまっています \n⚡番組表⚡1/27\nLOL Morning ひなた🐰6～8 \nAwesome Healing きこ🌻10～12 \nLucky Lunch にあ🐸12～13:30 \nHappy afternoon ことね🐣13:30～15 \nGood Lovin ももな🐻18～20 \nChillaxing みーな🐈～24 \n↓視聴↓\nhttps://mixch.tv/u/17339228 \nPowerd by #NIG2023 \n📻パーソナリティ\nひなた🐰\nTweets by hinata_airlview \nにあ🐸\nTweets by nia_airlview \nきこ🌻\nTweets by kiko_airlview \nことね🐣\nTweets by kotone_airlview \nももな🐻\nTweets by momona_airlview \nみーな🐈\nTweets by amina_airlview
URL:https://hiraeth.tokyo/event/20230127/
LOCATION:NIG2023配信
CATEGORIES:Event,Media
ATTACH;FMTTYPE=image/webp:https://hiraeth.tokyo/wp-content/uploads/nig2023.webp
END:VEVENT
BEGIN:VEVENT
DTSTART;VALUE=DATE:20230126
DTEND;VALUE=DATE:20230127
DTSTAMP:20260425T195808
CREATED:20230123T161920Z
LAST-MODIFIED:20230123T162648Z
UID:3956-1674691200-1674777599@hiraeth.tokyo
SUMMARY:NIG2023配信
DESCRIPTION:NEXT IDOL GRANDPRIX 2023 \n　挑戦\n　はじまっています \n⚡番組表⚡1/26\nLOL Morning きこ🌻10～12 \nAwesome Healing ことね🐣12～13 \nLucky Lunch にあ🐸13～15 \nHappy afternoon ひなた🐰15～16 \nGood Lovin ももな🐻(お休み) \nChillaxing みーな🐈22～24 \n↓視聴↓\nhttps://mixch.tv/u/17339228 \nPowerd by #NIG2023 \n📻パーソナリティ\nひなた🐰\nTweets by hinata_airlview \nにあ🐸\nTweets by nia_airlview \nきこ🌻\nTweets by kiko_airlview \nことね🐣\nTweets by kotone_airlview \nももな🐻\nTweets by momona_airlview \nみーな🐈\nTweets by amina_airlview
URL:https://hiraeth.tokyo/event/20230126/
LOCATION:NIG2023配信
CATEGORIES:Event,Media
ATTACH;FMTTYPE=image/webp:https://hiraeth.tokyo/wp-content/uploads/nig2023.webp
END:VEVENT
BEGIN:VEVENT
DTSTART;VALUE=DATE:20230124
DTEND;VALUE=DATE:20230125
DTSTAMP:20260425T195808
CREATED:20230123T160853Z
LAST-MODIFIED:20230123T160853Z
UID:3954-1674518400-1674604799@hiraeth.tokyo
SUMMARY:NIG2023配信
DESCRIPTION:NEXT IDOL GRANDPRIX 2023 \n　挑戦\n　はじまっています \n⚡番組表⚡1/24\n6～8ひなた🐰LOL Morning\n10～12にあ🐸Awesome Healing\n12～14きこ🌻Lucky Lunch\n16～18ことね🐣Happy afternoon\n20～ももな🐻Good Lovin\nみーな🐈Chillaxing(お休み) \n↓視聴↓\nhttps://mixch.tv/u/17339228 \nPowerd by #NIG2023
URL:https://hiraeth.tokyo/event/20230124/
LOCATION:NIG2023配信
CATEGORIES:Event,Media
ATTACH;FMTTYPE=image/webp:https://hiraeth.tokyo/wp-content/uploads/nig2023.webp
END:VEVENT
BEGIN:VEVENT
DTSTART;VALUE=DATE:20230123
DTEND;VALUE=DATE:20230124
DTSTAMP:20260425T195808
CREATED:20230122T165807Z
LAST-MODIFIED:20230123T163007Z
UID:3946-1674432000-1674518399@hiraeth.tokyo
SUMMARY:NIG2023配信
DESCRIPTION:NEXT IDOL GRANDPRIX 2023 \n　挑戦\n　はじまっています \n⚡ミクチャTV番組表⚡1/23\n6～8ひなた🐰LOL Morning\n9～10きこ🌻Awesome Healing\n12～14にあ🐸Lucky Lunch\n15～17ことね🐣Happy afternoon\n17～19ももな🐻Good Lovin\n19:30～24みーな🐈Chillaxing \n↓視聴↓\nhttps://mixch.tv/u/17339228 \nPowerd by #NIG2023
URL:https://hiraeth.tokyo/event/20230123/
LOCATION:NIG2023配信
CATEGORIES:Event,Media
ATTACH;FMTTYPE=image/webp:https://hiraeth.tokyo/wp-content/uploads/nig2023.webp
END:VEVENT
BEGIN:VEVENT
DTSTART;VALUE=DATE:20210924
DTEND;VALUE=DATE:20210925
DTSTAMP:20260425T195808
CREATED:20210927T062451Z
LAST-MODIFIED:20210927T062451Z
UID:237-1632441600-1632527999@hiraeth.tokyo
SUMMARY:Spotifyにて配信開始
DESCRIPTION:アイドルライブ情報部さんのSpotifyにて配信開始されました！！\nhttps://open.spotify.com/episode/2WYteJTPhIdm5Js2VA1p8F \n番組名：アイドルライブ情報部\n配信プラットフォーム：Spotify\n料金：無料\n出演者：レギュラーMC：もりりか、いとうあいか、藤田あずさ\nゲスト：airlview（ももな、みれ、きこ)  \nアイドルライブ情報部サイトURL\nhttps://idollive2.mystrikingly.com/
URL:https://hiraeth.tokyo/event/20210924-1/
CATEGORIES:Media
ATTACH;FMTTYPE=image/png:https://hiraeth.tokyo/wp-content/uploads/20210828-1.png
END:VEVENT
BEGIN:VEVENT
DTSTART;VALUE=DATE:20210828
DTEND;VALUE=DATE:20210829
DTSTAMP:20260425T195808
CREATED:20210906T201312Z
LAST-MODIFIED:20210906T204451Z
UID:75-1630108800-1630195199@hiraeth.tokyo
SUMMARY:アイドルライブ情報部Season2@オンライン公開収録
DESCRIPTION:日時/　2021年8月28日（水）\nイベント/ アイドルライブ情報部Season2【オンライン公開収録】\n料金/ 通常予約2100（リモート参加チケット） 特典予約3300（リモート参加チケット＋特典付）\nhttps://tiget.net/events/144523 \nOP/ 21:45\nST/ 22:00（予定）\n出演/ airlview/もりりか/いとうあいか/藤田あずさ/ \nその他/コール：可or不可、再入場：可or不可、喫煙所：有or無、運営予約：可or不可\n※状況により変更される場合がございます
URL:https://hiraeth.tokyo/event/20210828-1/
CATEGORIES:Live,Media
ATTACH;FMTTYPE=image/png:https://hiraeth.tokyo/wp-content/uploads/20210828-1.png
END:VEVENT
END:VCALENDAR