BEGIN:VCALENDAR
VERSION:2.0
PRODID:-//【HIRAETH.Tokyo】(ヒラエス.トーキョー) - ECPv6.11.2//NONSGML v1.0//EN
CALSCALE:GREGORIAN
METHOD:PUBLISH
X-WR-CALNAME:【HIRAETH.Tokyo】(ヒラエス.トーキョー)
X-ORIGINAL-URL:https://hiraeth.tokyo
X-WR-CALDESC:【HIRAETH.Tokyo】(ヒラエス.トーキョー) のイベント
REFRESH-INTERVAL;VALUE=DURATION:PT1H
X-Robots-Tag:noindex
X-PUBLISHED-TTL:PT1H
BEGIN:VTIMEZONE
TZID:Asia/Tokyo
BEGIN:STANDARD
TZOFFSETFROM:+0900
TZOFFSETTO:+0900
TZNAME:JST
DTSTART:20220101T000000
END:STANDARD
END:VTIMEZONE
BEGIN:VEVENT
DTSTART;VALUE=DATE:20220923
DTEND;VALUE=DATE:20220924
DTSTAMP:20260421T223700
CREATED:20220824T053432Z
LAST-MODIFIED:20230316T184625Z
UID:2366-1663891200-1663977599@hiraeth.tokyo
SUMMARY:200☆無銭無双昼@新宿Fate
DESCRIPTION:日時　9/23(金祝)\nイベント　無銭無双昼\n料金　前売0当日0(2D別)\n予約　不要\nライブ　13:45～14:05\n物販　14:45～15:45\n会場 新宿Fate\nOP 10:00\nST 10:10(予定)\n出演　えあらびゅー/れんてつ/8bitBRAIN/White Lilly/レッスントゥミー/白夜のカフカ/感覚ロヂック/混沌少女/B.K.S.N/ByteSchwarz/ニュートーキョーピ炎/anber rain./MISANTHROPE/メランコリック少女物語/ \n\n特典などはこちらをご確認ください\nぼくらの九日間らびゅ〜
URL:https://hiraeth.tokyo/event/20220923-1/
LOCATION:新宿Fate\, 歌舞伎町2-28-16\, 新宿区\, 東京都\, 160-0021\, 日本
CATEGORIES:Live
ATTACH;FMTTYPE=image/jpeg:https://hiraeth.tokyo/wp-content/uploads/1260B133-EEF5-4342-88DB-2FB54283FDE1.jpeg
END:VEVENT
BEGIN:VEVENT
DTSTART;VALUE=DATE:20220923
DTEND;VALUE=DATE:20220924
DTSTAMP:20260421T223700
CREATED:20220824T053633Z
LAST-MODIFIED:20230316T184630Z
UID:2368-1663891200-1663977599@hiraeth.tokyo
SUMMARY:201☆無銭無双夜@新宿Fate
DESCRIPTION:日時　9/23(金祝)\nイベント　無銭無双夜\n料金　前売0当日0(2D別)\n予約　不要\nライブ　16:10～16:30\n物販　16:30～17:30\n会場 新宿Fate\nOP 16:00\nST 16:10(予定)\n出演　えあらびゅー/れんてつ/8bitBRAIN/Silly°Honey/らんちきっず/夜とメルク/エレメンツ！-Elemental Heroines-/なつぞらあふたぬーん/White Lilly/LUCULIA/Byte Schwarz/Amazing Story/きみかが！/キミトノセンチメンタル/amber rain./混沌少女/ニュートーキョーピ炎/メランコリック少女物語 \n\n特典などはこちらをご確認ください\nぼくらの九日間らびゅ〜
URL:https://hiraeth.tokyo/event/20220923-2/
LOCATION:新宿Fate\, 歌舞伎町2-28-16\, 新宿区\, 東京都\, 160-0021\, 日本
CATEGORIES:Live
ATTACH;FMTTYPE=image/jpeg:https://hiraeth.tokyo/wp-content/uploads/1A8974AD-8570-411D-8082-B626F8FC985E.jpeg
END:VEVENT
BEGIN:VEVENT
DTSTART;VALUE=DATE:20220922
DTEND;VALUE=DATE:20220923
DTSTAMP:20260421T223700
CREATED:20220911T120622Z
LAST-MODIFIED:20230316T184613Z
UID:2459-1663804800-1663891199@hiraeth.tokyo
SUMMARY:199☆#iDOLRiZM@秋葉原TwinBoxGARAGE
DESCRIPTION:日時　9/22(木)\nイベント　#iDOLRiZM in TwinBox GARAGE\n料金　下記参照\n予約 https://tiget.net/events/204353\nLIVE　18:20〜18:40\n物販　18:45〜19:45\n会場　秋葉原TwinBoxGARAGE\nOP　17:30\nST　18:00\n出演　えあらびゅー/あっぷろーでぃあ/EMNee/Kawaii Dream!!/きゅーてぃくるっ！/ブリオガジャ/Merci Merci/ \n特典などはこちらをご確認ください\nぼくらの九日間らびゅ〜 \n【料金】\n予約Sチケット：3500円（最前優先エリア）\n予約Aチケット：2000円\n予約Bチケット：女性無料\n当日各＋500円 各別途1D \n【特記事項】\n※　声出し可（マスク必須）（声だしNGユニットさんは別途アナウンス）\n※　再入場可（再入場時1Drink）\n※　女性無料（予約Bチケット）
URL:https://hiraeth.tokyo/event/20220922-1/
LOCATION:秋葉原TwinBoxGARAGE\, 外神田3-2-12 Box'R AKIBAビル1階\, 千代田区\, 東京都\, 101-0021\, 日本
CATEGORIES:Live
ATTACH;FMTTYPE=image/jpeg:https://hiraeth.tokyo/wp-content/uploads/95C6F8A5-E4EC-433F-8469-F3F45923663D.jpeg
END:VEVENT
BEGIN:VEVENT
DTSTART;VALUE=DATE:20220921
DTEND;VALUE=DATE:20220922
DTSTAMP:20260421T223700
CREATED:20220915T082504Z
LAST-MODIFIED:20220920T234514Z
UID:2485-1663718400-1663804799@hiraeth.tokyo
SUMMARY:おっ昼休みはウキウキらびゅ～ぼく9SP
DESCRIPTION:日にち　9/21(水)\nイベント　おっ昼休みはウキウキらびゅ～\n料金 前売0 当日0 （お昼は各自ご用意ください）\n予約　なし\nLIVE　17:30～18:00（予定）\n物販　なし \n会場　showroomきこチャンネル\nTikTokももな\nhttps://www.tiktok.com/@momona_airlview\n—\nももなチャンネル\nhttps://www.showroom-live.com/r/twipro003\nきこチャンネル\nhttps://www.showroom-live.com/r/twipro002\nひなたチャンネル\nhttps://www.showroom-live.com/d5f966124561
URL:https://hiraeth.tokyo/event/20220921-2/
LOCATION:showroomひなたチャンネル
CATEGORIES:Live
END:VEVENT
BEGIN:VEVENT
DTSTART;VALUE=DATE:20220921
DTEND;VALUE=DATE:20220922
DTSTAMP:20260421T223700
CREATED:20220824T063331Z
LAST-MODIFIED:20220920T234133Z
UID:2376-1663718400-1663804799@hiraeth.tokyo
SUMMARY:おっ昼休みはウキウキらびゅ～
DESCRIPTION:日にち　9/21(水)\nイベント　おっ昼休みはウキウキらびゅ～\n料金 前売0 当日0 （お昼は各自ご用意ください）\n予約　なし\nLIVE　12:20～12:50（予定）\n物販　なし \n会場　showroomきこチャンネル\nTikTokももな\nhttps://www.tiktok.com/@momona_airlview\n—\nももなチャンネル\nhttps://www.showroom-live.com/r/twipro003\nきこチャンネル\nhttps://www.showroom-live.com/r/twipro002\nひなたチャンネル\nhttps://www.showroom-live.com/d5f966124561
URL:https://hiraeth.tokyo/event/20220921-1/
LOCATION:showroomきこチャンネル
CATEGORIES:Event
END:VEVENT
BEGIN:VEVENT
DTSTART;VALUE=DATE:20220921
DTEND;VALUE=DATE:20220922
DTSTAMP:20260421T223700
CREATED:20220817T035038Z
LAST-MODIFIED:20230316T184604Z
UID:2317-1663718400-1663804799@hiraeth.tokyo
SUMMARY:198☆MAHΩRAMA Presents無銭定期公演「Last Paradise」Vol.5@新宿Fate
DESCRIPTION:日時　9/21(水)\nイベント　MAHΩRAMA Presents無銭定期公演「Last Paradise」Vol.5\n料金　前売0/当日500(2D別)\n予約　https://tiget.net/events/201477\nLIVE　19:30～19:50\n物販　20:00〜21:00\n会場　新宿Fate\nOP　18:30\nST　19:00\n出演　えあらびゅー/MAHΩRAMA/らんちきっず/夜とメルク/hareli/他 \n特典などはこちらをご確認ください\nぼくらの九日間らびゅ〜
URL:https://hiraeth.tokyo/event/20220921-3/
LOCATION:新宿Fate\, 歌舞伎町2-28-16\, 新宿区\, 東京都\, 160-0021\, 日本
CATEGORIES:Live
ATTACH;FMTTYPE=image/jpeg:https://hiraeth.tokyo/wp-content/uploads/82F6D863-0703-4816-87C1-B521DDD79D81.jpeg
END:VEVENT
BEGIN:VEVENT
DTSTART;VALUE=DATE:20220920
DTEND;VALUE=DATE:20220921
DTSTAMP:20260421T223700
CREATED:20220911T115631Z
LAST-MODIFIED:20230316T184556Z
UID:2456-1663632000-1663718399@hiraeth.tokyo
SUMMARY:197☆girl's Live！！vol.8@新宿Fate
DESCRIPTION:日時　9/20(火)\nイベント　girl’s Live！！vol.8\n料金　前売2500/当日3000/女性0(D別)\n予約　運営予約\nLIVE　17:40～18:00\n物販　18:00～18:50\n会場　新宿Fate\nOP　17:25\nST　17:40(予定)\n出演　えあらびゅー/A RARE+/君を来世から探してた/KUROK/［大切なお知らせ］/月夜りりあ/B.K.S.N/僕と君との現実？-Real-/妄想学院・裏生徒会/妄想学院・研修生/りさ/他 \n特典などはこちらをご確認ください\nぼくらの九日間らびゅ〜
URL:https://hiraeth.tokyo/event/20220920-1/
LOCATION:新宿Fate\, 歌舞伎町2-28-16\, 新宿区\, 東京都\, 160-0021\, 日本
CATEGORIES:Live
ATTACH;FMTTYPE=image/jpeg:https://hiraeth.tokyo/wp-content/uploads/20220920-1.jpg
END:VEVENT
BEGIN:VEVENT
DTSTART;VALUE=DATE:20220919
DTEND;VALUE=DATE:20220920
DTSTAMP:20260421T223700
CREATED:20220918T035737Z
LAST-MODIFIED:20230316T184548Z
UID:2564-1663545600-1663631999@hiraeth.tokyo
SUMMARY:196☆disk one live SP@池袋Only You
DESCRIPTION:日時　9/19(月祝)\nイベント　disk one live SP\n料金　前売900/当日1400(D別)\n予約　運営予約\nLIVE　16:25〜16:45\n物販　16:50〜17:45\n会場　池袋Only You\nOP　16:05\nST　16:25(予定)\n出演　えあらびゅー/100-YOKAI/Black Navi/a-plan。/岸梨菜花/☑️mate./秋山せいな/ \n特典などはこちらをご確認ください\nぼくらの九日間らびゅ〜
URL:https://hiraeth.tokyo/event/20220919-2/
LOCATION:池袋Only You\, 池袋2-64-11平和ビル2F\, 豊島区\, 東京都\, 171-0014\, 日本
CATEGORIES:Live
ATTACH;FMTTYPE=image/jpeg:https://hiraeth.tokyo/wp-content/uploads/FFE6340B-17FA-4779-93DE-914705396F0D.jpeg
END:VEVENT
BEGIN:VEVENT
DTSTART;VALUE=DATE:20220919
DTEND;VALUE=DATE:20220920
DTSTAMP:20260421T223700
CREATED:20220830T200359Z
LAST-MODIFIED:20220830T200359Z
UID:2390-1663545600-1663631999@hiraeth.tokyo
SUMMARY:敬老の日
DESCRIPTION:
URL:https://hiraeth.tokyo/event/20220919/
CATEGORIES:Event
END:VEVENT
BEGIN:VEVENT
DTSTART;VALUE=DATE:20220919
DTEND;VALUE=DATE:20220920
DTSTAMP:20260421T223700
CREATED:20220911T115425Z
LAST-MODIFIED:20230316T184540Z
UID:2454-1663545600-1663631999@hiraeth.tokyo
SUMMARY:195☆☆アイドルプラネタリウム VOL.26@秋葉原COSMICLAB
DESCRIPTION:日時　9/19(月祝)\nイベント　アイドルプラネタリウム VOL.26\n料金　前売400/当日900/女性0(D別)\n予約　https://tiget.net/events/204414\nLIVE　12:30〜12:50\n物販　13:05～13:55(予定)\n会場　秋葉原COSMICLAB\nOP　11:25\nST　11:40\n出演　えあらびゅー/仮面女子候補生/きみかが！/水萌みず/いちごパイロット/レプスルプス/(K)nightrow/Marionette in the mirror/ポイドル48/れんてつ/他 \n特典などはこちらをご確認ください\nぼくらの九日間らびゅ〜
URL:https://hiraeth.tokyo/event/20220919-1/
LOCATION:秋葉原COSMICLAB\, 外神田6-14-7 VORT末広町BF1\, 千代田区\, 東京都\, 101-0021\, 日本
CATEGORIES:Live
ATTACH;FMTTYPE=image/jpeg:https://hiraeth.tokyo/wp-content/uploads/0726686F-2DCE-4425-B78C-90CDE41D80F8.jpeg
END:VEVENT
BEGIN:VEVENT
DTSTART;VALUE=DATE:20220918
DTEND;VALUE=DATE:20220919
DTSTAMP:20260421T223700
CREATED:20220916T030506Z
LAST-MODIFIED:20230316T184527Z
UID:2517-1663459200-1663545599@hiraeth.tokyo
SUMMARY:194☆☆解放宣言FREE LIVE@池袋リヴォイス
DESCRIPTION:日時　9/18(日)\nイベント　解放宣言-FREE LIVE-』\n料金　前売0/当日500(D別)\n予約　https://t.livepocket.jp/e/20220918revoice\nLIVE　11:30〜11:50\n物販　11:55〜12:55\n会場　池袋リヴォイス\nOP　11:00\nST　11:15\n出演　えあらびゅー/BANZAI JAPAN/Fragrant Drive/DINKY JUNK/東京セラフィム/真白帆華/他 \n \n特典などはこちらをご確認ください\nぼくらの九日間らびゅ〜
URL:https://hiraeth.tokyo/event/20220918-3/
LOCATION:池袋リヴォイス\, 池袋2-12-9 広瀬ビルB1\, 豊島区\, 東京都\, 171-0014\, 日本
CATEGORIES:Live
ATTACH;FMTTYPE=image/jpeg:https://hiraeth.tokyo/wp-content/uploads/A018A813-C5EE-4236-87E4-B2F9372E46BA.jpeg
END:VEVENT
BEGIN:VEVENT
DTSTART;VALUE=DATE:20220918
DTEND;VALUE=DATE:20220919
DTSTAMP:20260421T223700
CREATED:20220824T044212Z
LAST-MODIFIED:20230316T184254Z
UID:2361-1663459200-1663545599@hiraeth.tokyo
SUMMARY:192☆無銭無双昼@新宿Fate
DESCRIPTION:日時　9/18(日)\nイベント　無銭無双昼\n料金　前売0当日0(2D別)\n予約　不要\nライブ　14:00～14:20\n物販　15:00～16:00\n会場 新宿Fate\nOP 10:45\nST 11:00(予定)\n出演　えあらびゅー/さんぷてぃ。/エレメンツ!-ElementalHeroines-/WhiteLilly/amber rain./Linaria/レッスントゥミー/ニュートーキョーピ炎/東京ぴ炎-ヤバイガールズバー-/MISANTHROPE/ByteSchwarz/白夜のカフカ/他 \n特典などはこちらをご確認ください\nぼくらの九日間らびゅ〜
URL:https://hiraeth.tokyo/event/20220918-1/
LOCATION:新宿Fate\, 歌舞伎町2-28-16\, 新宿区\, 東京都\, 160-0021\, 日本
CATEGORIES:Live
ATTACH;FMTTYPE=image/jpeg:https://hiraeth.tokyo/wp-content/uploads/20220918-1.jpg
END:VEVENT
BEGIN:VEVENT
DTSTART;VALUE=DATE:20220918
DTEND;VALUE=DATE:20220919
DTSTAMP:20260421T223700
CREATED:20220824T045154Z
LAST-MODIFIED:20230316T184521Z
UID:2363-1663459200-1663545599@hiraeth.tokyo
SUMMARY:193☆無銭無双夜@新宿Fate
DESCRIPTION:日時　9/18(日)\nイベント　無銭無双夜\n料金　前売0当日0(2D別)\n予約　不要\nライブ　21:20～21:40\n物販　21:40~22:40\n会場 新宿Fate\nOP 16:30\nST 16:40(予定)\n出演　えあらびゅー/さんぷてぃ。/エレメンツ！-Elemental Heroines-/White Lilly/キミトノセンチメンタル/NEO EARTH!!/.LINK/amber rain./Linaria/A RARE+/ニュートーキョーピ炎/東京ぴ炎-ヤバイガールズバー-/MISANTHROPE/ByteSchwarz/電脳カプセル/\n \n特典などはこちらをご確認ください\nぼくらの九日間らびゅ〜
URL:https://hiraeth.tokyo/event/20220918-2/
LOCATION:新宿Fate\, 歌舞伎町2-28-16\, 新宿区\, 東京都\, 160-0021\, 日本
CATEGORIES:Live
ATTACH;FMTTYPE=image/jpeg:https://hiraeth.tokyo/wp-content/uploads/20220918-3.jpg
END:VEVENT
BEGIN:VEVENT
DTSTART;VALUE=DATE:20220917
DTEND;VALUE=DATE:20220926
DTSTAMP:20260421T223700
CREATED:20220823T172522Z
LAST-MODIFIED:20220922T170441Z
UID:2341-1663372800-1664150399@hiraeth.tokyo
SUMMARY:🐰🐻💎ぼくらの九日間らびゅ〜💎🐻🐰
DESCRIPTION:🐰🐻💎ぼくらの九日間らびゅー💎🐻🐰\nいつもの えあらば〜さん も\n対バンで 見かけたらば〜さん も\n配信で 気になってたらば〜さん も\nえあらびゅー 初めてらば〜 さんも\nここにくれば誰かがいる☺️☺️ \nみんなが集まる”9日間連続イベント”やります🔥\nえあらびゅーと一緒に楽しもっ！ \nいつもの衣装じゃないる日もあるよ！！\n新しいカバーもやります！！\n研修生も頑張ります！！ \n期間　9/17(土)～9/25(日)\nタグ　#ぼく9らびゅー \n◆◆ぼく9チャレンジ◆◆\nえあらびゅーといえばチャレンジ！\n今回のチャレンジ企画はリベンジ！ \n・配信でコメントくれた初見さん方1人につき1らばー\n・ライブでえあらびゅー指名入場してくれた方1人につき1らばー\n・えあらびゅー入場でなくても新規でチェキ撮ってくれた方1人につき1らばー \n→200らばー達成でMV作成リベンジ \nスケジュール\n◆◆9/17(土)◆◆\n▶☆☆GOTANDA G3+G4 12:20～\n※第二衣装\n※未公開ブロマイド \n▶☆☆渋谷109 17:30〜\n※第二衣装\n※未公開ブロマイド \n◆◆9/18(日)◆◆\n▶☆☆池袋リヴォイス 11:30〜\n※第二衣装\n※未公開ブロマイド \n▶新宿Fate昼 14:00～\n※第二衣装 \n▶新宿Fate夜 21:20～\n※第二衣装 \n◆◆9/19(月祝)◆◆\n▶☆☆秋葉原COSMICLAB 12:30〜\n※第一衣装\n※未公開ブロマイド \n▶池袋Only You 16:25〜\n※第一衣装 \n◆◆9/20(火)◆◆\n▶新宿Fate 17:40～\n※チャイナ \n◆◆9/21(水)◆◆\n▶ウキウキらびゅ～ 12:20~12:50 \n▶ウキウキらびゅ～ぼく9SP 17:30～18:00 \n▶☆☆新宿Fate夜 19:30～\n※制服\n※未公開ブロマイド \n◆◆9/22(木)◆◆\n▶TwinBoxGARAGE 18:20〜\n※私服 \n◆◆9/23(金祝)◆◆\n▶新宿Fate昼 13:45～\n※幼稚園\n▶新宿Fate夜 16:10～\n※幼稚園 \n◆◆9/24(土)◆◆\n▶☆☆横浜ランドマークホール　11:30〜\n※第二衣装\n※未公開ブロマイド \n▶秋葉原COSMICLAB　17:50〜\n※第二衣装  \n▶秋葉原COSMICLAB→イベント中止\n※第二衣装 \n◆◆9/25(日)◆◆\n▶☆☆新宿ホリデイ　11:35～\n※衣装投票\n※未公開ブロマイド \n▶☆☆新宿ホリデイ　17:45～\n※衣装投票\n※未公開ブロマイド \n新カバー曲\nわるきー(渡辺美優紀ソロ楽曲) \n特定ライブ指名入場\n▶︎推しの未公開ブロマイド1枚(各特定ライブ毎に異なるブロマイドになります)\n※なくなり次第終了 \nライブ回数特典\n1ライブ1スタンプになります\n※最下部のご注意文を参照ください\n \n◆1スタンプ毎\n▶記念品1点（以下一例）\n・旧チェキ券（記念品としてのプレゼントになりますので、実際にチェキ券としてのご利用はできません）\n・初期版チェキ券（記念品としてのプレゼントになりますので、実際にチェキ券としてのご利用はできません）\n・1周年紙チケット（記念品としてのプレゼントになりますので、実際に入場券としてのご利用はできません）\nなど\n※なくなり次第終了 \n◆3スタンプ\n▶推しのチェキ券1枚 \n◆5スタンプ\n▶集合写メ1枚\nor\n▶集合チェキ1枚 \n◆8スタンプ\n▶15秒君だけライブ\nえあらびゅーの曲（他でも可）の好きな所を（15秒）再生してながらお客様に動画撮影して頂く。\n※好きな所はお客様に決めて頂きますので、事前にご検討いただけると助かります。 \n◆10スタンプ\n▶音源\nダウンロードページのURLをツイッターのDMにてお送りいたします。 \n◆スタンプラリー制覇\n▶️推しメンバーからのサイン入り色紙 \n日数スタンプ特典\n◆3日完通特典指名入場\n▶私物サイン \n◆5日完通特典指名入場\n▶1点もの（1点ものBOXからお好きなものを先着でプレゼント）\n※なくなり次第終了 \n◆7日完通特典指名入場\n▶ライブ終わりにお散歩（駅まで推しがお見送り） \n◆全通特典指名入場\n▶シークレット✨\n（推しにより異なります） \n研修生チャレンジ企画\nぼくらの九日間らびゅー期間中に渋谷圏内の全ライブハウスにビラを置いてもらえるようご挨拶に行く\nにあ🐸えあらびゅー研修生\nことね🐣えあらびゅー研修生 \n衣装投票\n・公式Twitterでアンケート投票\n・9月23日ライブ後にメンバー全員が幼稚園児のコスプレ写真ツイート後に投票開始\n※締切は9月24日22時、 \nご注意\n・ぼく9用のスタンプカードは物販時にのみをお渡し致しますので、スタッフまでお声がけください。\n・スタンプは1指名につき1スタンプ押すことができます。\n・指名入場人数はご本人のみカウントとなります。ご友人などご本人以外の方の人数はカウントされません。\n・本カードはお会計時にご提示ください。\n・このカードを紛失した場合、ポイントは無効になります。\n・スタッフの物販開始～物販終了のアナウンスの間のみスタンプを押すことができます。物販時間内ではございませんのでご注意ください。\n・ライブ会場の環境により、スタッフの声が聞き取りずらいなどアナウンスが聞こえないなどの場合でも、スタッフの物販開始～終了までの間のみスタンプを押すことができます。時間外についてはいかなる事情がございましてもスタンプを押すことができなくなりますので、あらかじめご了承ください。\n・スタンプカードは現金の引き替えは出来ません。\n・1回のライブでお1人様につき1らばーカウント、1スタンプになります。再入場、別チケで入場された場合でもらばーとスタンプカードのカウントは致しかねます。\n・スタンプカードとは別に通常のえあらびゅーポイントも普段のレギュレーションに則ってポイントをお付け致します。又えあらびゅーポイントと特典並行利用可能です。
URL:https://hiraeth.tokyo/event/2022sw/
CATEGORIES:Event,Live
ATTACH;FMTTYPE=image/png:https://hiraeth.tokyo/wp-content/uploads/94aa2f0e70aa48669cdc684a908ae9e2.png
END:VEVENT
BEGIN:VEVENT
DTSTART;VALUE=DATE:20220917
DTEND;VALUE=DATE:20220918
DTSTAMP:20260421T223700
CREATED:20220908T113535Z
LAST-MODIFIED:20230316T184245Z
UID:2431-1663372800-1663459199@hiraeth.tokyo
SUMMARY:191☆☆超アイドル！GIRLS  RAVE一部@GOTANDA G3+G4
DESCRIPTION:日時　9/17(土)\nイベント　超アイドル！GIRLS  RAVE\n料金　前売1500当日2000(D別)\n予約　https://t.livepocket.jp/e/20220917_1\nLIVE　12:20～12:45\n物販　12:55～13:45（並行C）\n会場　GOTANDA G4(ライブ) GOTANDA G3(並行物販)GOTANDA G4(終演後物販)\nOP　10:00(予定)\nST　10:15(予定)\n出演　えあらびゅー/ゆめみどき/大宮I☆DOLL/松山あおい/Linaria/葉山あゆり/河島有寿/ハチャメチャ声優ユニット STEM/ミカワガールズ（仮）/亜利美里/Neet☆Princess/白ウサギの夢/Li-V-RAVE/	Neat and clean-ニトクリ-/アンダービースティー/蓋然性オルトイズム/Sistersあにま/TEARS-ティアーズ-/七星七愛/きゅい〜ん’ズ/ハチャメチャ声優ユニット STEM/そのまんま祟り/きみかが！/Amazing Story/伊武咲 凛/他\n静止画　OK\n動画　OK\n \n特典などはこちらをご確認ください\nぼくらの九日間らびゅ〜
URL:https://hiraeth.tokyo/event/20220917-1/
LOCATION:GOTANDA G3\, 西五反田1-11-8 大成ビル5F\, 品川区\, 東京都\, 日本
CATEGORIES:Live
ATTACH;FMTTYPE=image/jpeg:https://hiraeth.tokyo/wp-content/uploads/20220917-1.jpg
END:VEVENT
BEGIN:VEVENT
DTSTART;VALUE=DATE:20220917
DTEND;VALUE=DATE:20220918
DTSTAMP:20260421T223700
CREATED:20220902T224327Z
LAST-MODIFIED:20230316T184235Z
UID:2401-1663372800-1663459199@hiraeth.tokyo
SUMMARY:190☆☆GIRLS PONPO in SHIBUYA109@渋谷109
DESCRIPTION:日時　9/17(土)\nイベント　GIRLS PONPO in SHIBUYA109\n料金　2000(D別)\n予約　運営予約\nLIVE　17:30〜17:45\n物販　18:00〜18:50\n会場　渋谷109 8階イベントスペース\nOP　16:00\nST　16:15\n出演　えあらびゅー/しゃかりぃな/軍服ワンピ青藍組/DEEP GEEK/せのび/asfi/ww/RONPA〜GREEN〜/プリンセスは眠らないっ！/プリもん/NEO EARTH/東京flavor/\n \n特典などはこちらをご確認ください\nぼくらの九日間らびゅ〜
URL:https://hiraeth.tokyo/event/20220917-2/
LOCATION:渋谷109\, 道玄坂2-29-1\, 渋谷区\, 東京都\, 1500043\, 日本
CATEGORIES:Live
ATTACH;FMTTYPE=image/jpeg:https://hiraeth.tokyo/wp-content/uploads/BF4C1151-903F-4096-85F6-0BA75B4F6DEB.jpeg
END:VEVENT
BEGIN:VEVENT
DTSTART;VALUE=DATE:20220914
DTEND;VALUE=DATE:20220915
DTSTAMP:20260421T223700
CREATED:20220824T063054Z
LAST-MODIFIED:20220824T063129Z
UID:2374-1663113600-1663199999@hiraeth.tokyo
SUMMARY:おっ昼休みはウキウキらびゅ～
DESCRIPTION:日にち　9/14(水)\nイベント　おっ昼休みはウキウキらびゅ～\n料金 前売0 当日0 （お昼は各自ご用意ください）\n予約　なし\nLIVE　12:20～12:50（予定）\n物販　なし \n会場　showroomももなチャンネル\n—\nももなチャンネル\nhttps://www.showroom-live.com/r/twipro003\nきこチャンネル\nhttps://www.showroom-live.com/r/twipro002\nひなたチャンネル\nhttps://www.showroom-live.com/d5f966124561
URL:https://hiraeth.tokyo/event/20220914-1/
LOCATION:showroomももなチャンネル
CATEGORIES:Event
END:VEVENT
BEGIN:VEVENT
DTSTART;VALUE=DATE:20220911
DTEND;VALUE=DATE:20220912
DTSTAMP:20260421T223700
CREATED:20220721T043807Z
LAST-MODIFIED:20220823T123237Z
UID:2164-1662854400-1662940799@hiraeth.tokyo
SUMMARY:浴衣でタコパ🐙@渋谷
DESCRIPTION:日時　9/11(日)\nイベント　浴衣でタコパ🐙\n料金　4000円\n予約　8月28日23:59締め切り\n物販　チェキのみあり\n会場　渋谷（お申込み頂いた方にお知らせいたします）\nOP　13:00\nST　13:15(予定)\n出演　ももな/きこ/ひなた/ \n◆スケジュール\n13：00　OP\n13：15　挨拶\n13：20　開始\n15：00　終了\n15：15　退出
URL:https://hiraeth.tokyo/event/20220911-1/
CATEGORIES:Event
END:VEVENT
BEGIN:VEVENT
DTSTART;VALUE=DATE:20220911
DTEND;VALUE=DATE:20220912
DTSTAMP:20260421T223700
CREATED:20220907T094911Z
LAST-MODIFIED:20230316T184224Z
UID:2410-1662854400-1662940799@hiraeth.tokyo
SUMMARY:189☆LIVEリミット!2部@神田明神 EDOCCO STUDIO
DESCRIPTION:日時　9/11(日)\nイベント　LIVEリミット！2部\n料金　予約2500当日3000(D別)\n予約　運営予約＆tiget\n予約サイト　https://tiget.net/events/199690　2022年9月10日(土) ~23:59\nLIVE　20:10～20:25\n物販　21:00～\n会場　神田明神 EDOCCO STUDIO\nOP　16:15\nST　16:30(予定)\n出演　えあらびゅー/あなたを追っていたら知らない場所に来た/びびっとあふぇくとっ!/アスノソノリィテ/EVEKEN/みゅん/伊香彩野/さやみゅんっ/LONDON BLUE/Adorable Monster/Unlimited/Y-SELAS/愛惜アンノウン/L.I.E.P/宣誓aspiration/わーゆう/
URL:https://hiraeth.tokyo/event/20220911-2/
LOCATION:神田明神 EDOCCO STUDIO\, 外神田2-16-2 神田明神文化交流館B1F\, 千代田区\, 東京都\, 101-0021\, 日本
CATEGORIES:Live
ATTACH;FMTTYPE=image/jpeg:https://hiraeth.tokyo/wp-content/uploads/421ED295-F35A-45ED-92A1-E8D5B6D89A35.jpeg
END:VEVENT
BEGIN:VEVENT
DTSTART;VALUE=DATE:20220910
DTEND;VALUE=DATE:20220911
DTSTAMP:20260421T223700
CREATED:20220909T063037Z
LAST-MODIFIED:20230316T184216Z
UID:2437-1662768000-1662854399@hiraeth.tokyo
SUMMARY:188☆LIVEプラスSATURDAY一部＠池袋リヴォイス
DESCRIPTION:日時　9/10(土)\nイベント　池袋リヴォイスPresents『LIVEプラス -SATURDAY-』（第一部）\n料金　前売1000当日1500(D別)\n予約　https://t.livepocket.jp/e/liveplus20220910_1 ※運営予約は不可\nライブ　15:15～15:30\n物販　15:30～16:30 Dブース\n会場 池袋リヴォイス\nOP 15:00\nST 15:15(予定)\n出演　えあらびゅー/R.I.P.研究所/G’ASH/CasLove/小粒/ZeroProject Z5-C/とよたかなみ/真冬桃/Ra＊papillon/
URL:https://hiraeth.tokyo/event/20220910-1/
LOCATION:池袋リヴォイス\, 池袋2-12-9 広瀬ビルB1\, 豊島区\, 東京都\, 171-0014\, 日本
CATEGORIES:Live
ATTACH;FMTTYPE=image/jpeg:https://hiraeth.tokyo/wp-content/uploads/B0CD6A89-2F90-4AB9-98DF-B8BEED9A158B.jpeg
END:VEVENT
BEGIN:VEVENT
DTSTART;VALUE=DATE:20220907
DTEND;VALUE=DATE:20220908
DTSTAMP:20260421T223700
CREATED:20220824T062947Z
LAST-MODIFIED:20220824T062947Z
UID:2372-1662508800-1662595199@hiraeth.tokyo
SUMMARY:おっ昼休みはウキウキらびゅ～
DESCRIPTION:日にち　9/7(水)\nイベント　おっ昼休みはウキウキらびゅ～\n料金 前売0 当日0 （お昼は各自ご用意ください）\n予約　なし\nLIVE　12:20～12:50（予定）\n物販　なし \n会場　showroomひなたチャンネル\n—\nももなチャンネル\nhttps://www.showroom-live.com/r/twipro003\nきこチャンネル\nhttps://www.showroom-live.com/r/twipro002\nひなたチャンネル\nhttps://www.showroom-live.com/d5f966124561
URL:https://hiraeth.tokyo/event/20220907-1/
LOCATION:showroomひなたチャンネル
CATEGORIES:Event
END:VEVENT
BEGIN:VEVENT
DTSTART;VALUE=DATE:20220906
DTEND;VALUE=DATE:20220907
DTSTAMP:20260421T223700
CREATED:20220726T080958Z
LAST-MODIFIED:20230316T184208Z
UID:2212-1662422400-1662508799@hiraeth.tokyo
SUMMARY:187☆第12回えあらびゅーpresents『手作りで頑張ってます！』
DESCRIPTION:第12回えあらびゅーpresents『2年目も手作りで頑張ってます！』\n開催日:9/6(火)\n会場:新宿Fate\nチケット:前売1900、当日2400(各1D別)※各運営予約\n開場:18:45\n開始:19:00\n出演:えあらびゅー/さんぷてぃ/えあぷてぃ/さんらびゅー/※出演者水増しなどの誹謗中傷はご遠慮下さい \n⚡️予約方法⚡️\n1️⃣しっかり予約\n公式TwitterへDM\n予約名や人数をお知らせ頂く\n質問などもお気軽に✨\nhttps://twitter.com/airlview \n2️⃣簡単予約\n該当のイベント告知ツイートをリツイートして頂ければ予約完了🎊\n予約じゃないリツイートもぜひぜひ🙏🏻 \n◆タイムテーブル\n▶︎オープン18:45\n▶︎えあぷてぃ19:00～19:25\n・初恋サイダー\n・OIDEMASE\n・アイドルライフスターターパック\n・さんぷてぃオリ曲\n▶︎さんぷてぃ。19:25〜19:50\n▶︎えあらびゅー19:50〜20:15\n▶︎さんらびゅーコーナー20:20～20:45\n▶︎物販20:50～21:50 \n◆その他\n▶︎動画可\n・えあぷてぃ内(さんぷてぃオリ曲)\n・さんらびゅー内\n▶︎写真可\n・えあらびゅー(ライブ内)\n▶︎コール:マスクコール可\n▶︎再入場:可(都度1D必須)
URL:https://hiraeth.tokyo/event/20220906-1/
LOCATION:新宿Fate\, 歌舞伎町2-28-16\, 新宿区\, 東京都\, 160-0021\, 日本
CATEGORIES:Live
ATTACH;FMTTYPE=image/png:https://hiraeth.tokyo/wp-content/uploads/20220906.png
END:VEVENT
BEGIN:VEVENT
DTSTART;VALUE=DATE:20220904
DTEND;VALUE=DATE:20220905
DTSTAMP:20260421T223700
CREATED:20220824T041513Z
LAST-MODIFIED:20230316T184159Z
UID:2355-1662249600-1662335999@hiraeth.tokyo
SUMMARY:186☆無銭無双夜@新宿Fate
DESCRIPTION:日時　9/4(日)\nイベント　無銭無双夜\n料金　前売0当日0(2D別)\n予約　不要\nライブ　20:15〜20:35\n物販　21:40〜22:40\n会場 新宿Fate\nOP 16:00\nST 16:15\n出演　えあらびゅー/さんぷてぃ。/ショートカット部/White Lilly/キミトノセンチメンタル/DEARDEVIL/Satanic Punish/なつぞらあふたぬーん/Silly°Honey/NEO　EARTH!!/.LINK/混沌少女/BLACK LOTUS/紫月はう/ねむりーぷ/らんちきっず/
URL:https://hiraeth.tokyo/event/20220904-2/
LOCATION:新宿Fate\, 歌舞伎町2-28-16\, 新宿区\, 東京都\, 160-0021\, 日本
CATEGORIES:Live
END:VEVENT
BEGIN:VEVENT
DTSTART;VALUE=DATE:20220904
DTEND;VALUE=DATE:20220905
DTSTAMP:20260421T223700
CREATED:20220824T040845Z
LAST-MODIFIED:20230316T184152Z
UID:2349-1662249600-1662335999@hiraeth.tokyo
SUMMARY:185☆無銭無双昼@新宿Fate
DESCRIPTION:日時　9/4(日)\nイベント　無銭無双昼\n料金　前売0当日0(2D別)\n予約　不要\nライブ　14:15〜14:35\n物販　14:40〜15:40\n会場 新宿Fate\nOP 11:00\nST 11:15\n出演　えあらびゅー/メルティ/さんぷてぃ。/White Lilly/なつぞらあふたぬーん/紫月はう/混沌少女/レッスントゥミー/らんちきっず/DEARDEVI/
URL:https://hiraeth.tokyo/event/20220904-1/
LOCATION:新宿Fate\, 歌舞伎町2-28-16\, 新宿区\, 東京都\, 160-0021\, 日本
CATEGORIES:Live
ATTACH;FMTTYPE=image/jpeg:https://hiraeth.tokyo/wp-content/uploads/9FBE9D4F-233D-45DA-BAFA-1D0B6595C8ED.jpeg
END:VEVENT
BEGIN:VEVENT
DTSTART;VALUE=DATE:20220903
DTEND;VALUE=DATE:20220904
DTSTAMP:20260421T223700
CREATED:20220701T175015Z
LAST-MODIFIED:20230316T184146Z
UID:2067-1662163200-1662249599@hiraeth.tokyo
SUMMARY:184☆Hamamatsu Music Blend 1st@浜松ライブハウス マルガリータ
DESCRIPTION:日時　9/3(土)\nイベント　Hamamatsu Music Blend 1st\n料金　前売3000当日4000(1D込み1日通し券のみ)\n予約　https://tiget.net/events/190417\n会場　浜松ライブハウス マルガリータ\nOP　11:00\n出演　えあらびゅー/Marble-Maple/月丘つかさ(東京ソロアイドルシンガー)/葉月あすか/望月瑠奈(OA)/\nMC 桜井未來(静岡アイドルグループMarble-Mapleの元メンバーで現在は東京でタレント活動) \nーータイムテーブルーー\n1部\nえあらびゅー/桜井未來/Marble-Maple/葉月あすか/望月瑠奈(OA) \n2部\nえあらびゅー/葉月あすか \n3部\nえあらびゅー/月丘つかさ/葉月あすか \n1部\n開場　11:00\n開演　11:30\nライブ　11:55～12:20\n終演　12:55\n物販　13:00〜14:00(食事休憩含む) \n2部\n開場　14:00\n開演　14:30\nライブ　15:00～16:00\n終演　16:00\n物販　16:00〜17:00 \n3部\n開場　17:00\n開演　17:30\nライブ　18:30～18:55\n終演　19:00\n物販　19:00〜20:00(食事休憩含む)\n\nーーイベントレギュレーションーー\nhttps://twitter.com/hamamatsu_mb\n#みゅぶれ \n▶1日券：1～3部の共通券\n※受付終了日時：2022.08.31 23:59 \n▶お昼ごはん付き1日券：お昼ごはんとえあらびゅーからのプチ特典がついた1日券\n※受付終了日時：2022.08.30 23:59 \n▶夜ごはん付き1日券：夜ごはんとえあらびゅーからのプチ特典がついた1日券\n※受付終了日時：2022.08.30 23:59 \n▶昼夜ごはん付き1日券：お昼と夜ごはんとえあらびゅーからのプチ特典×２がついた1日券\n※受付終了日時：2022.08.30 23:59\nーー\n入退場自由、再入場ドリンク代ありません。\n※飲食物の持込はご遠慮ください。\n※熱中症にご注意ください。\n※イベント当日にお好み焼きやオムそばをご希望の方はスタッフにお声かけください。ご希望に添えない可能性もありますのでご了承ください。
URL:https://hiraeth.tokyo/event/20220903-1/
LOCATION:浜松ライブハウス マルガリータ\, 西区舞阪町弁天島3285-15\, 浜松市\, 静岡県\, 431-0214\, 日本
CATEGORIES:Event,Live
ATTACH;FMTTYPE=image/jpeg:https://hiraeth.tokyo/wp-content/uploads/20220903-1-1.jpg
END:VEVENT
BEGIN:VEVENT
DTSTART;VALUE=DATE:20220831
DTEND;VALUE=DATE:20220901
DTSTAMP:20260421T223700
CREATED:20220728T152016Z
LAST-MODIFIED:20220728T152016Z
UID:2252-1661904000-1661990399@hiraeth.tokyo
SUMMARY:おっ昼休みはウキウキらびゅ～
DESCRIPTION:日にち　8/31(水)\nイベント　おっ昼休みはウキウキらびゅ～\n料金 前売0 当日0 （お昼は各自ご用意ください）\n予約　なし\nLIVE　12:20～12:50（予定）\n物販　なし \n会場　showroomきこチャンネル\n—\nももなチャンネル\nhttps://www.showroom-live.com/r/twipro003\nきこチャンネル\nhttps://www.showroom-live.com/r/twipro002\nひなたチャンネル\nhttps://www.showroom-live.com/d5f966124561
URL:https://hiraeth.tokyo/event/20220831-1/
LOCATION:showroomきこチャンネル
CATEGORIES:Event
ATTACH;FMTTYPE=image/png:https://hiraeth.tokyo/wp-content/uploads/906da818b6cf13b8423414004e8204d1.png
END:VEVENT
BEGIN:VEVENT
DTSTART;VALUE=DATE:20220828
DTEND;VALUE=DATE:20220829
DTSTAMP:20260421T223700
CREATED:20220802T021330Z
LAST-MODIFIED:20230316T184120Z
UID:2263-1661644800-1661731199@hiraeth.tokyo
SUMMARY:183☆Idol Coliseum 全国決勝結果発表ライブ@大阪OWL
DESCRIPTION:日時　8/28(日)\nイベント　Idol Coliseum 全国決勝結果発表ライブ\n料金　チケット2500(D別)\n予約　\nLIVE　14:45～14:55\n物販　15:00～15:55\n会場　大阪OWL\nOP　14:30\nST　14:45(予定)\n出演　えあらびゅー/仮面女子A/PATI PATI CANDY…☆/踊貴妃/CODE-L/My Flower/ecriture/Sha☆in/ふぁんしーどりーみー/スマートオブジェクト/ルミキスex/ \n \n#アイコロ #MusicCircus
URL:https://hiraeth.tokyo/event/20220828-1/
LOCATION:大阪OWL\, 北区角田町5-1 梅田楽天地ビルB1\, 大阪市\, 大阪府\, 530-0017\, 日本
CATEGORIES:Event,Live
ATTACH;FMTTYPE=image/jpeg:https://hiraeth.tokyo/wp-content/uploads/20220828-1.jpg
END:VEVENT
BEGIN:VEVENT
DTSTART;VALUE=DATE:20220828
DTEND;VALUE=DATE:20220829
DTSTAMP:20260421T223700
CREATED:20220726T080220Z
LAST-MODIFIED:20220726T080220Z
UID:2210-1661644800-1661731199@hiraeth.tokyo
SUMMARY:浴衣でタコパ🐙予約締切
DESCRIPTION:以下、イベントの予約締切日（8月28日） \nーー開催概要ーー\n日時　9/11(日)\nイベント　浴衣でタコパ🐙\n料金　調整中\n予約　8月28日23:59締め切り\n物販　チェキのみあり\n会場　渋谷（お申込み頂いた方にお知らせいたします）\nOP　13:00(予定)\nST　13:15(予定)\n出演　えあらびゅー/
URL:https://hiraeth.tokyo/event/20220828-10/
CATEGORIES:Event
END:VEVENT
BEGIN:VEVENT
DTSTART;VALUE=DATE:20220824
DTEND;VALUE=DATE:20220825
DTSTAMP:20260421T223700
CREATED:20220728T151818Z
LAST-MODIFIED:20220728T151818Z
UID:2250-1661299200-1661385599@hiraeth.tokyo
SUMMARY:おっ昼休みはウキウキらびゅ～
DESCRIPTION:日にち　8/24(水)\nイベント　おっ昼休みはウキウキらびゅ～\n料金 前売0 当日0 （お昼は各自ご用意ください）\n予約　なし\nLIVE　12:20～12:50（予定）\n物販　なし \n会場　showroomももなチャンネル\n—\nももなチャンネル\nhttps://www.showroom-live.com/r/twipro003\nきこチャンネル\nhttps://www.showroom-live.com/r/twipro002\nひなたチャンネル\nhttps://www.showroom-live.com/d5f966124561
URL:https://hiraeth.tokyo/event/20220824-1/
LOCATION:showroomももなチャンネル
CATEGORIES:Event
ATTACH;FMTTYPE=image/png:https://hiraeth.tokyo/wp-content/uploads/906da818b6cf13b8423414004e8204d1.png
END:VEVENT
BEGIN:VEVENT
DTSTART;VALUE=DATE:20220821
DTEND;VALUE=DATE:20220822
DTSTAMP:20260421T223700
CREATED:20220722T142923Z
LAST-MODIFIED:20230316T184108Z
UID:2193-1661040000-1661126399@hiraeth.tokyo
SUMMARY:182☆LIVEプラスSUNDAY＠池袋リヴォイス
DESCRIPTION:日時　8/21(日)\nイベント　池袋リヴォイスPresents　『LIVEプラス -SUNDAY-』\n料金　前売1000当日1500(D別)\n予約　https://t.livepocket.jp/e/liveplus20220821　8/16(火)18:00～販売開始\nLIVE　12:40～13:00\n物販　13:10～14:10\n会場　池袋リヴォイス\nOP　10:00\nST　10:15(予定)\n出演　えあらびゅー/朝倉凜/雨上がりのラプソディ/wieee/小粒/ZeroProject Z5-C/とよたかなみ/真白帆華/Ra＊papillon/and more
URL:https://hiraeth.tokyo/event/20220821-1/
CATEGORIES:Live
ATTACH;FMTTYPE=image/jpeg:https://hiraeth.tokyo/wp-content/uploads/5b2912cd9aeb1a71929c4813f596af03.jpg
END:VEVENT
END:VCALENDAR