BEGIN:VCALENDAR
VERSION:2.0
PRODID:-//【HIRAETH.Tokyo】(ヒラエス.トーキョー) - ECPv6.11.2//NONSGML v1.0//EN
CALSCALE:GREGORIAN
METHOD:PUBLISH
X-ORIGINAL-URL:https://hiraeth.tokyo
X-WR-CALDESC:【HIRAETH.Tokyo】(ヒラエス.トーキョー) のイベント
REFRESH-INTERVAL;VALUE=DURATION:PT1H
X-Robots-Tag:noindex
X-PUBLISHED-TTL:PT1H
BEGIN:VTIMEZONE
TZID:Asia/Tokyo
BEGIN:STANDARD
TZOFFSETFROM:+0900
TZOFFSETTO:+0900
TZNAME:JST
DTSTART:20240101T000000
END:STANDARD
END:VTIMEZONE
BEGIN:VEVENT
DTSTART;VALUE=DATE:20240802
DTEND;VALUE=DATE:20240803
DTSTAMP:20260426T132936
CREATED:20240708T103742Z
LAST-MODIFIED:20240723T080438Z
UID:10930-1722556800-1722643199@hiraeth.tokyo
SUMMARY:ライブ＠AKIBAカルチャーズ劇場
DESCRIPTION:日時　8/2(金)\nイベント　新しいアキバ界隈 AKIBAカルチャーズ劇場\n料金　前売3\,000円　当日3\,500円　各1D¥600\n予約　https://map.pigoo.jp/events/view/8555\nLIVE　19:45~20:05\n物販 21:15~22:15（ロビー）\n会場 AKIBAカルチャーズ劇場\nOPEN 17:50 / START 18:20\n出演　えあらびゅー/他
URL:https://hiraeth.tokyo/event/20240802-1/
CATEGORIES:Live
ATTACH;FMTTYPE=image/jpeg:https://hiraeth.tokyo/wp-content/uploads/0802_新しいアキバ界隈フライヤー-1.jpg
END:VEVENT
BEGIN:VEVENT
DTSTART;VALUE=DATE:20240803
DTEND;VALUE=DATE:20240804
DTSTAMP:20260426T132936
CREATED:20240718T131109Z
LAST-MODIFIED:20240720T101543Z
UID:11054-1722643200-1722729599@hiraeth.tokyo
SUMMARY:『冠Fes-カンフェス-』＠新宿ZircoTokyo
DESCRIPTION:8/3(土)\n会場：新宿ZircoTokyo\n開場：10:20\n開演：10:30\n出演:15:45~16:05\n特典会:16:20~17:20\n料金：前方Sチケット4\,000円 一般Aチケット2\,500円\n当日+1\,000円\n(入場時1ドリンク必須)\nhttps://t.livepocket.jp/e/kanfes0803
URL:https://hiraeth.tokyo/event/%e3%83%a9%e3%82%a4%e3%83%96%ef%bc%a0%e6%96%b0%e5%ae%bf-2/
ATTACH;FMTTYPE=image/jpeg:https://hiraeth.tokyo/wp-content/uploads/S__6661280_0.jpg
END:VEVENT
BEGIN:VEVENT
DTSTART;VALUE=DATE:20240803
DTEND;VALUE=DATE:20240804
DTSTAMP:20260426T132936
CREATED:20240802T153925Z
LAST-MODIFIED:20240803T001209Z
UID:11193-1722643200-1722729599@hiraeth.tokyo
SUMMARY:Girls Face in VAMPKIN ビーバイユー 満月咲莉花 生誕祭@浅草VAMPKIN
DESCRIPTION:日時　8/3(土)\nイベント　Girls Face in VAMPKIN ビーバイユー 満月咲莉花 生誕祭\n料金　(各D別)　予約 2\,500円 / 当日 3\,000円 (各1D代別)\n予約　 https://tiget.net/events/331937\nLIVE　9:30~9:50\n物販　 10:00~11:00\n会場　浅草VAMPKIN\nOP　8:45\nST　9:00\n出演　えあらびゅー/他
URL:https://hiraeth.tokyo/event/girls-face-in-vampkin-%e3%83%93%e3%83%bc%e3%83%90%e3%82%a4%e3%83%a6%e3%83%bc-%e6%ba%80%e6%9c%88%e5%92%b2%e8%8e%89%e8%8a%b1-%e7%94%9f%e8%aa%95%e7%a5%ad%e6%b5%85%e8%8d%89vampkin/
ATTACH;FMTTYPE=image/jpeg:https://hiraeth.tokyo/wp-content/uploads/IMG_2524.jpeg
END:VEVENT
BEGIN:VEVENT
DTSTART;VALUE=DATE:20240804
DTEND;VALUE=DATE:20240805
DTSTAMP:20260426T132936
CREATED:20240602T025052Z
LAST-MODIFIED:20240802T120028Z
UID:10544-1722729600-1722815999@hiraeth.tokyo
SUMMARY:☆セカイべフェス vol. 52@五反田G7
DESCRIPTION:▽日にち 8/4(日)\n▽イベント　☆セカイべフェス vol. 52\n▽予約　https://t.livepocket.jp/e/second-innovation_vol53\n▽LIVE　12:05〜12:25\n▽物販　12:30〜13:30(D)\n▽会場　五反田G7\n▽料金　一般 2\,000円 / 優先 3\,000円\n※各券種＋1D（600円）が必要です。\n※当日券は上記+500円\n※追加Dなしで再入場可\n▽開場　11:50\n▽出演　えあらびゅー、Jumping Kiss、ミニスカポリス、.Link、no concept、からげんき、星屑ラビリンス、deeper²、Mikoto、SeedS/PISTIL、ERG、TJP、水鈴遥、Misty Syrena、花ノぷりんせす、MEMORI、CRNT、ハレノチ×ハレーション、if、白のエレガンシー、Little Echo、ゆめとあいり、パステルホログラム、おさんぽ娘、アクアウィステリア、RiD179日の物語、ホワイトキャンパスⅢ
URL:https://hiraeth.tokyo/event/20240804-1/
LOCATION:五反田G7\, 西五反田2-6-3 東洋ビルB1階\, 品川区\, 東京都\, 141-0031\, 日本
CATEGORIES:Live
ATTACH;FMTTYPE=image/jpeg:https://hiraeth.tokyo/wp-content/uploads/IMG_2514.jpeg
END:VEVENT
BEGIN:VEVENT
DTSTART;VALUE=DATE:20240804
DTEND;VALUE=DATE:20240805
DTSTAMP:20260426T132936
CREATED:20240708T112052Z
LAST-MODIFIED:20240801T084928Z
UID:10936-1722729600-1722815999@hiraeth.tokyo
SUMMARY:☆☆☆えあらびゅーpresents Vol.29 きこ生誕祭2024〜夏への片道切符〜@五反田G6
DESCRIPTION:概要\n◆日にち　2024年8月4日(日)\n◆イベント　☆☆☆えあらびゅーpresents Vol.29 きこ生誕祭2024〜夏への片道切符〜\n◆予約　　\n・紙チケット　7月14日NIPPON MUSIC JAM‼︎mini@五反田G3の特典会から販売開始\n・ネット販売　https://t.livepocket.jp/e/airlview-kiko2024\n※受付日時 2024年7月14日(日)14:10〜2024/8/4(日)15:15\n※※Sチケットの特典締切 7月21日21:00まで\n◆会場　五反田G6\n◆料金　Sチケット9000/Aチケット2500/招待チケット1000/当日＋500(各D別)\n(招待:Sチケ購入者のみ購入可、えあらびゅー初回、初回から3ヶ月以内、えあらびゅーを主現場としない方、えあらびゅーのライブに指名入場３回未満の方)\n◆特典\n▽Sチケット\n・前方エリア＋優先入場\n・生誕限定Tシャツ1枚(コメント付き)\n・生誕ブロマイド1枚\n・チェキ券1枚(きこのみ使用可)\n▽Aチケット\n・生誕ブロマイド1枚\n※Sチケット特典ブロマイドと同じ写真を使ったブロマイドとなります\n▽招待チケット\n・チェキ券1枚(メンバー指定なし) \n【きこ生誕祭 招待特典について】\n○招待してくれた方\n1~9人・・・チェキ券1枚(きこのみ使用可)\n10人以上・・・チェキ券5枚セット(きこのみ使用可) \n※譲渡・転売・複製禁止\n※通過式ではなく、どちらか該当する方の特典になります。\n(例：9人招待の方…チェキ券1枚、11人招待の方…チェキ券5枚セット) \n○招待された方\nチェキ券1枚(メンバー指定なし)\n※譲渡・転売・複製禁止\n※招待の対象は、えあらびゅーを主現場としない方、えあらびゅーのライブに指名入場3回以内の方限定\n※招待チケットに限らず、チケット種類をまたいでの招待も可能です。\n(例：一般チケットで1人、招待チケットで2人招待した場合は、3人の招待特典が対象になります。)\n※招待された方は、入場時受付にてチェキ券をお受け取りください。 \n◆エリア\n \n \n◆出演　えあらびゅー\n◆タイムテーブル\n15:15~15:45 前物販(生誕Tシャツ着用)\n15:45~16:10 入場\n16:10~17:00 ライブ\n17:10~18:30 特典会(生誕衣装着用)\n◆入場順\nS紙チケ番号順→Sネット番号順→A紙チケ番号順→Aネット番号順→当日券・招待券並び順\n◆セットリスト\n当日までお楽しみに！ \nきこ生誕祭〜有志企画のお知らせ〜\nお客様同士や会場とのトラブルを防止するため、きこ生誕祭の企画・サプライズにつきましては公式有志で集まった金額をもって開催させていただきます。\n1口 : ¥1\,000 \n【有志期間】\n❁フラスタお名前掲載あり　7月21(日)23:59まで\n❁フラスタお名前掲載なし　8月3日(土)23:59まで \n【有志方法】\nネットもしくは特典会にて\n📍ネット有志▶︎ https://t.livepocket.jp/e/airlview-kiko2024-yuushi2\n⚠️\n📍特典会有志▶︎特典会にて有志券をお渡しいたします \nお名前を掲載\nまた、7/21(日)までにご有志いただいた方を対象にスタンドフラワーにお名前を掲載させていただきます。\n掲載サイズは以下の通りです。\n　1口→名前(小)\n　3口→名前(中)\n　5口以上→名前(大) \nグッズ販売\nTシャツ\n \n\n\n【Tシャツ(当日受取分)】きこ生誕祭2024〜夏への片道切符〜グッズ\nhttps://airlview.official.ec/items/88479424\n【Tシャツ(後日受取分)】きこ生誕祭2024〜夏への片道切符〜グッズ\nhttps://airlview.official.ec/items/88480043 \nアクリルキーホルダー\n\n【アクリルキーホルダー】きこ生誕祭2024〜夏への片道切符〜グッズ\nhttps://airlview.official.ec/items/88483134 \nハンドタオル\n\n【ハンドタオル】きこ生誕祭2024〜夏への片道切符〜グッズ\nhttps://airlview.official.ec/items/88483745 \n生誕ランダムブロマイド\n\n【生誕ランダムブロマイド】きこ生誕祭2024〜夏への片道切符〜グッズ\nhttps://airlview.official.ec/items/88483895 \n生誕ボランティアさん募集\n企画を手伝っていただける生誕ボランティアさんを募集いたします❣️ \n生誕ボランティアをやりたい！と言う方は公式までDMをお願いいたします！💌\nhttps://twitter.com/airlview\n締切：7/14 23:59まで \nQ&A よくある質問\n▶その他ご質問のある方は、えあらびゅー公式XのDMもしくは、特典会スタッフまでお気軽にお声がけくださいませ。\nhttps://twitter.com/airlview
URL:https://hiraeth.tokyo/event/20240804-2/
LOCATION:五反田G6\, 西五反田2-6-3 東洋ビルB1階\, 品川区\, 東京都\, 141-0031\, 日本
CATEGORIES:Live
ATTACH;FMTTYPE=image/jpeg:https://hiraeth.tokyo/wp-content/uploads/IMG_8940.jpeg
END:VEVENT
BEGIN:VEVENT
DTSTART;VALUE=DATE:20240810
DTEND;VALUE=DATE:20240811
DTSTAMP:20260426T132936
CREATED:20240809T054901Z
LAST-MODIFIED:20240809T151700Z
UID:11232-1723248000-1723334399@hiraeth.tokyo
SUMMARY:Girls Face in VAMPKIN@浅草VAMPKIN
DESCRIPTION:日時　8/10(土)\nイベント　Girls Face in VAMPKIN\n料金　(各D別)予約2500円、当日3000円(入場時ワンドリンク)\n予約　https://tiget.net/events/337666\nLIVE　9:30〜9:50\n物販　10:00〜11:00\n会場　浅草VAMPKIN\nOP　8:45\nST　9:00\n出演　えあらびゅー/他
URL:https://hiraeth.tokyo/event/%e3%83%a9%e3%82%a4%e3%83%96%e6%b5%85%e8%8d%89/
ATTACH;FMTTYPE=image/jpeg:https://hiraeth.tokyo/wp-content/uploads/IMG_2930.jpeg
END:VEVENT
BEGIN:VEVENT
DTSTART;VALUE=DATE:20240810
DTEND;VALUE=DATE:20240811
DTSTAMP:20260426T132936
CREATED:20240717T091800Z
LAST-MODIFIED:20240809T055328Z
UID:11036-1723248000-1723334399@hiraeth.tokyo
SUMMARY:「ア幻カフェブレンドVol.7」＠青山RizM
DESCRIPTION:日時　8/10(土)\nイベント　「ア幻カフェブレンドVol.7」\n料金　(各D別) 前売りSエリア 3\,500円(前方エリア)／前売り一般エリア2\,000円/\n前売り女性・学生チケット1\,000円/当日券各+500円（D代別¥600）\n※女性・学生チケットは当日券も据え置き\n予約　https://t.livepocket.jp/e/zbokc\nLIVE　12:30-12:50\n物販　終演後\n会場　青山RizM\nOPEN 12:00 / START 12:30\n出演　えあらびゅー/幻想喫茶店/他
URL:https://hiraeth.tokyo/event/%e3%83%a9%e3%82%a4%e3%83%96%ef%bc%a0%e9%9d%92%e5%b1%b1/
ATTACH;FMTTYPE=image/jpeg:https://hiraeth.tokyo/wp-content/uploads/IMG_2611.jpeg
END:VEVENT
BEGIN:VEVENT
DTSTART;VALUE=DATE:20240810
DTEND;VALUE=DATE:20240811
DTSTAMP:20260426T132936
CREATED:20240723T075153Z
LAST-MODIFIED:20240805T031458Z
UID:11082-1723248000-1723334399@hiraeth.tokyo
SUMMARY:「いちごフェス」@SHIBUYA ONE5
DESCRIPTION:日時　8月10日(土)\nイベント　「いちごフェス」\n料金　(各D別)🎫前売り¥2\,500/当日¥3\,000(+1D)\n予約　 https://t.livepocket.jp/e/7z68m \nLIVE　17:10~17:35\n物販　終演後物販\n会場　SHIBUYA ONE5\nOPEN15:00/START15:20\n出演　えあらびゅー/ぱんぷるぽっぷ/瞬きもせず/代々木女子音楽院/DollyPink/Piuuuu
URL:https://hiraeth.tokyo/event/%e3%83%a9%e3%82%a4%e3%83%96shibuya-one5-2/
ATTACH;FMTTYPE=image/jpeg:https://hiraeth.tokyo/wp-content/uploads/S__4325382.jpg
END:VEVENT
BEGIN:VEVENT
DTSTART;VALUE=DATE:20240811
DTEND;VALUE=DATE:20240812
DTSTAMP:20260426T132936
CREATED:20240717T062610Z
LAST-MODIFIED:20240801T070441Z
UID:11023-1723334400-1723420799@hiraeth.tokyo
SUMMARY:プリュトラフェス mini Vol.1＠渋谷DESEO
DESCRIPTION:▽日にち 8/11\n▽イベント　プリュトラフェス mini Vol.1\n▽予約　\n▽LIVE　20:25~20:45\n▽物販　終演後物販\n▽会場　渋谷DESEO\n▽料金　一般2\,000円/当日+500円(1D代別途)\n▽時間 OPEN17:30/START18:00\n▽出演　えあらびゅー/青山Rabness/アポストロフィ/キミと永遠に/トイランド/MiXBeRRY/代々木女子音楽院/リットライト
URL:https://hiraeth.tokyo/event/%e3%83%a9%e3%82%a4%e3%83%96%ef%bc%a0%e6%b8%8b%e8%b0%b7/
ATTACH;FMTTYPE=image/jpeg:https://hiraeth.tokyo/wp-content/uploads/S__3604620.jpg
END:VEVENT
BEGIN:VEVENT
DTSTART;VALUE=DATE:20240811
DTEND;VALUE=DATE:20240812
DTSTAMP:20260426T132936
CREATED:20240725T144144Z
LAST-MODIFIED:20240804T185803Z
UID:11119-1723334400-1723420799@hiraeth.tokyo
SUMMARY:『OLIVE LAND』＠目黒鹿鳴館
DESCRIPTION:日時　2024年8月11日(日)\nイベント　『OLIVE LAND』\n料金　(各D別)S前方エリア¥3\,000/A一般¥2\,000/当日券 各＋¥500（各1D代別）※再入場1ドリンク\n予約　 https://t.livepocket.jp/e/oliveland0811\nLIVE　17:30~17:50\n物販　17:55~18:45\n会場　目黒鹿鳴館\nOpen 17:00 / Start 17:30（仮）\n出演　えあらびゅー/他
URL:https://hiraeth.tokyo/event/%e3%83%a9%e3%82%a4%e3%83%96%ef%bc%a0%e7%9b%ae%e9%bb%92-2/
ATTACH;FMTTYPE=image/jpeg:https://hiraeth.tokyo/wp-content/uploads/IMG_2599.jpeg
END:VEVENT
BEGIN:VEVENT
DTSTART;VALUE=DATE:20240816
DTEND;VALUE=DATE:20240817
DTSTAMP:20260426T132936
CREATED:20240717T085327Z
LAST-MODIFIED:20240801T100738Z
UID:11031-1723766400-1723852799@hiraeth.tokyo
SUMMARY:新しいアキバ界隈 ＠AKIBAカルチャーズ劇場
DESCRIPTION:日時　8/16\nイベント　\n料金　(各D別)前売3000 当日3500 各D600\n予約　 https://map.pigoo.jp/events/view/8589\nLIVE　20:35~20:55\n物販　21:20~22:20\n会場　AKIBAカルチャーズ劇場\n開場18:00　開演18:30\n出演　えあらびゅー/他
URL:https://hiraeth.tokyo/event/%e3%83%a9%e3%82%a4%e3%83%96%ef%bc%a0%e6%96%b0%e5%ae%bf/
ATTACH;FMTTYPE=image/jpeg:https://hiraeth.tokyo/wp-content/uploads/0816_新しいアキバ界隈フライヤー.jpg
END:VEVENT
BEGIN:VEVENT
DTSTART;VALUE=DATE:20240817
DTEND;VALUE=DATE:20240818
DTSTAMP:20260426T132936
CREATED:20240430T083417Z
LAST-MODIFIED:20240817T140156Z
UID:10228-1723852800-1723939199@hiraeth.tokyo
SUMMARY:☆☆☆MARQUEE祭mini Vol.214＠渋谷Spotify O-nest
DESCRIPTION:日時　8/17(土)\nイベント　☆☆☆MARQUEE祭mini Vol.214\nらびゅーラリーカード対象\n料金　前売3000/当日3500/(各D別)\n予約　http://eplus.jp/marquee-matsuri/ (運営予約不可)\nスケジュール\n情報公開  7/5（金）正午\n先行予約　7/6（土）正午～7/15（月祝）23:59\n一般発売　7/20（土）10:00～8/16（金）18:00\nLIVE　19:30〜19:50\n物販　20:00〜21:00C\n会場　渋谷Spotify O-nest\nOP　16:30\nST　17:00\n出演　えあらびゅー/なみだ色の消しごむ/ラナキュラ/未完成のキャラメル/Hey!Mommy!/ノルニル/メタモル!!!/My Dresscode/蓋然性オルトイズム/純粋カフェラッテ/ \nセットリスト\n・SE\n・もっとずっとそばで\n・全力summer\n・放課後オレンジサイン\n・いつか、きっと、どこかで。 \n調整さん\n特典準備のため以下のご回答をお願いいたします\nhttps://chouseisan.com/s?h=ad5d3c5a09774a3081cbe9a30aecc513 \n指名入場特典\n入場時に受付で『お目当てはえあらびゅーです』とご指名頂ければ、えあらびゅーの指名特典券を受け取れます。特典会時にえあらびゅーのスタッフに指名券をお渡しください。 \n🎁コメサチェキ券\nサイン付きチェキ券がその場でつかえる！ \n🎁9月カレンダー\nメンバープロデュース&制作のカレンダー \n👕着て来て特典5pt\nえあらびゅー公式Tシャツを着てライブに来てくれた方限定の特典\n※ポイントカードに5000円分購入時のスタンプを押させて頂きます \n🚅早得特典\n🔥8/17MARQUEE祭mini vol.214🔥\n—えあらびゅー【早得】始めます❣️—\n8/17MARQUEE祭miniのチケットを早く手に入れてくれた方に🌟\n【2000円OFF券】をプレゼント🎁✨️ \n〈獲得方法〉\n①チケットを購入していただき(先行予約・一般販売問わず)、⚠️7月22日23:59⚠️までに\nクレカ支払いの方▶︎お支払い完了のスクショ\nコンビニ支払いの方▶︎「発券手続き完了のご案内」のスクショ\nをえあらびゅー公式XのDMに送る\n②「調整さん」に入力する\n③特典会時に申告\n▶️「2000円OFF券」プレゼント🎁 \n※2000円OFF券は特典会のみで使用可能です。(オンラインショップ使用不可)\n※1万円同時購入時に使用した場合、同時購入特典のチェキ券は付きません。\n※ポイントカードに押すポイントはお支払いした金額分のポイントになります。 \n調整さん⬇️\nhttps://chouseisan.com/s?h=ad5d3c5a09774a3081cbe9a30aecc513 \n🏠おかえり特典\n6ヶ月以上ぶりの方限定\n※ポイントカードの最終日の確認をさせて頂きます。 \n🆕えあらびゅースターターパック\nえあらびゅー初めましてから1ヶ月以内又は初回カード3回までの方限定 \n企画\n#えあらばー増やそう大作戦\nたくさんの人にえあらびゅーを知ってもらおう❣️❣️ \nという事で❣️毎日配信をします！\n \nーイベントレギュレーションー\n●チケットはお一人様1枚のみ（チケットにはその方のお名前が記入されます)\n●整理券番号順入場、オールスタンディング\n●入場時に身分証確認をさせていただく場合がございます。顔写真付き身分証明証を持参お願いします\n●体温が37.5以上の方、咳症状の酷い方は入場をお断りします\n●リフト、モッシュ、柵に登る等の危険行為、ヤジ、泥酔等禁止\n●営利目的の転売禁止\n●会場内への飲食物の持ち込み禁止、アルコール販売なし\n●再入場不可\n●未就学児童入場不可\n●出演者変更に伴いますご返金は致しかねます
URL:https://hiraeth.tokyo/event/20240817-1/
CATEGORIES:Live
ATTACH;FMTTYPE=image/jpeg:https://hiraeth.tokyo/wp-content/uploads/祭mini2148.17.jpeg
END:VEVENT
BEGIN:VEVENT
DTSTART;VALUE=DATE:20240818
DTEND;VALUE=DATE:20240819
DTSTAMP:20260426T132936
CREATED:20240606T081729Z
LAST-MODIFIED:20240811T160510Z
UID:10617-1723939200-1724025599@hiraeth.tokyo
SUMMARY:☆☆最強最高FES #2@渋谷ストリームホール
DESCRIPTION:日時　8/18(日)\nイベント　☆☆最強最高FES #2\n料金　前方4000、一般2500、当日3000(各D別)\n予約　https://tiget.net/events/336267\n特典　最強動画券（当日のみ）＋8月17日のMarqueeMiniにも来てくれた方はコメサ１枚\nLIVE　13:20~13:40\n物販　13:50~14:50 A\n会場　渋谷ストリームホール\nOP 12:50\nST 13:20\n出演　えあらびゅー/SAI²Rium/HIGH SPIRITS/DREAMING MONSTER/PrincessGarden-姫庭-/metarium/alma/LOVE9LOVE/AsIs/夜宙☆ShiNew’/ANA®KIE/UPローチ/BAKUMON/コングラッチェッ！/Drug＆Drop/スプスラッシュ/1/2Diary/ハレとハレ！/Agrand×Aglow/ \n情報解禁：7/25 20:00\n販売開始：7/26 22:00〜
URL:https://hiraeth.tokyo/event/20240818-1/
LOCATION:渋谷ストリームホール\, 渋谷3-21-3\, 渋谷区\, 東京都\, 150-0002\, 日本
CATEGORIES:Live
ATTACH;FMTTYPE=image/jpeg:https://hiraeth.tokyo/wp-content/uploads/IMG_0799-scaled.jpeg
END:VEVENT
BEGIN:VEVENT
DTSTART;VALUE=DATE:20240818
DTEND;VALUE=DATE:20240819
DTSTAMP:20260426T132936
CREATED:20240718T165442Z
LAST-MODIFIED:20240806T141957Z
UID:11058-1723939200-1724025599@hiraeth.tokyo
SUMMARY:「ネクストカルチャーズDIVE」＠渋谷DIVE
DESCRIPTION:日時　8/18(日)\nイベント　「ネクストカルチャーズDIVE」\n料金　(各D別) 前売り¥3\,000-/当日¥3\,500-(別途1drink)\n予約　 https://tiget.net/events/335450\nLIVE　19:00〜19:20\n物販　19:40〜20:40 A\n会場　渋谷DIVE\nOP　10:10\nST　10:30\n出演　えあらびゅー、ai*ai、iTRiP、アイロボ、かるちべいと、\n柑橘クーベルチュール、\nスターチスのラブレター、STELLASTELLA、\nSTRAY SHEEP CLAY MORE、\nDINKY JUNK、天空のシラバス、\n.Link、NANONI、\nHi-Fi GIRLs PROJECT α・β・γ、\nPATI PATI CANDY…☆、\nPUNKY RAD PINK、\nビーバイユー、MAHΩRAMA、\n未完成のキャラメル、MiX BeRRY、\nMELTЯAGE、LoveCherish、RiBORN、RED-i
URL:https://hiraeth.tokyo/event/%e3%83%a9%e3%82%a4%e3%83%96%ef%bc%a0%e6%b8%8b%e8%b0%b7-2/
ATTACH;FMTTYPE=image/jpeg:https://hiraeth.tokyo/wp-content/uploads/IMG_2759.jpeg
END:VEVENT
BEGIN:VEVENT
DTSTART;VALUE=DATE:20240819
DTEND;VALUE=DATE:20240820
DTSTAMP:20260426T132936
CREATED:20240708T070759Z
LAST-MODIFIED:20240708T070759Z
UID:10928-1724025600-1724111999@hiraeth.tokyo
SUMMARY:えあらびゅーデビュー記念日
DESCRIPTION:2021年8月19日にデビューしてから3年になりました！ \n日頃の応援いつもありがとうございます！
URL:https://hiraeth.tokyo/event/20240819-1/
CATEGORIES:Event
END:VEVENT
BEGIN:VEVENT
DTSTART;VALUE=DATE:20240824
DTEND;VALUE=DATE:20240825
DTSTAMP:20260426T132936
CREATED:20240717T091919Z
LAST-MODIFIED:20240819T180320Z
UID:11039-1724457600-1724543999@hiraeth.tokyo
SUMMARY:「MOONRISE~LIT MOON REGULAR LIVE~vol.09 "Progress" 2部公演」＠ジールシアター東京
DESCRIPTION:日時　8/24(土)\nイベント　「MOONRISE~LIT MOON REGULAR LIVE~vol.09 “Progress” 2部公演」\n料金　(各D別)前売りSエリア 3\,500円(前方エリア)／前売り一般エリア2\,000円/\n前売り女性・学生チケット1\,000円/当日券各+500円（D代別¥600）\n※女性・学生チケットは当日券も据え置き\n予約　 https://t.livepocket.jp/e/8f_pk\nLIVE　18:30-18:50\n物販　19:30-20:30\n会場　ZEAL THEATER TOKYO\nOPEN 17:30 / START 18:00\n出演　えあらびゅー/LIT MOON/PHiZZ
URL:https://hiraeth.tokyo/event/%e3%83%a9%e3%82%a4%e3%83%96%ef%bc%a0/
ATTACH;FMTTYPE=image/jpeg:https://hiraeth.tokyo/wp-content/uploads/flyer-scaled.jpg
END:VEVENT
BEGIN:VEVENT
DTSTART;VALUE=DATE:20240824
DTEND;VALUE=DATE:20240825
DTSTAMP:20260426T132936
CREATED:20240723T075258Z
LAST-MODIFIED:20240816T112027Z
UID:11084-1724457600-1724543999@hiraeth.tokyo
SUMMARY:いちごフェス＠SHIBUYA ONE5
DESCRIPTION:日時　8/24(土)\nイベント　「いちごフェス」\n料金　(各D別) 🎫前売り¥2\,500/当日¥3\,000(+1D)\n予約　 https://t.livepocket.jp/e/ijyv8\nLIVE　13:25〜13:50\n物販　終演後\n会場　渋谷ONE5\nopen11:00/START11:20\n出演　えあらびゅー/他
URL:https://hiraeth.tokyo/event/%e3%83%a9%e3%82%a4%e3%83%96%ef%bc%a0shibuya-one5/
ATTACH;FMTTYPE=image/jpeg:https://hiraeth.tokyo/wp-content/uploads/IMG_3332.jpeg
END:VEVENT
BEGIN:VEVENT
DTSTART;VALUE=DATE:20240825
DTEND;VALUE=DATE:20240826
DTSTAMP:20260426T132936
CREATED:20240804T102048Z
LAST-MODIFIED:20240824T105335Z
UID:11207-1724544000-1724630399@hiraeth.tokyo
SUMMARY:Girls Face in ZEST@ 秋葉原ZEST
DESCRIPTION:日時　8/25(日)\nイベント　　Girls Face in ZEST\n料金：予約2500円 当日3000円\n(入場時1ドリンク必須)\n予約　 https://tiget.net/events/340282\nLIVE　20:25~20:45\n物販　終演後物販\n会場　秋葉原ZEST\n開場：9:30\n開演：9:45\n出演　えあらびゅー/BANZAI JAPAN / 星屑ラビリンス / 湯上り茶の間/ 閃光バブルス / あのね-ANONE- / Lamb’s ears / ASOVISTA / Cortile / 新世界ギルドール / もふるクロス / ZeroProject(4組) / ヒビコレ
URL:https://hiraeth.tokyo/event/%e3%83%a9%e3%82%a4%e3%83%96-2/
ATTACH;FMTTYPE=image/png:https://hiraeth.tokyo/wp-content/uploads/0825-GF-.png
END:VEVENT
BEGIN:VEVENT
DTSTART;VALUE=DATE:20240826
DTEND;VALUE=DATE:20240827
DTSTAMP:20260426T132936
CREATED:20240814T034222Z
LAST-MODIFIED:20240819T174054Z
UID:11252-1724630400-1724716799@hiraeth.tokyo
SUMMARY:☆☆☆ハッチャケLIVE!!@GOTANDA G3
DESCRIPTION:日時　8/26(月)\nイベント　\n料金　前方3000/一般2000/当日+500/各D別\n予約　https://t.livepocket.jp/e/live0826\nLIVE　21:05~21:25\n物販　終演後物販　B\n会場　五反田G3\nOP　17:15\nST　17:40(予定)\n出演　えあらびゅー/終末のアンセム　/ if only… / Hi-Fi GIRLs PROJECT α / 代々木女子音楽院 / AKUMATIC /くれよんちゅ〜どく/ GILRY MOON PROJECT / 再生のルクトゥミー
URL:https://hiraeth.tokyo/event/20240826-1/
LOCATION:GOTANDA G3\, 西五反田1-11-8 大成ビル5F\, 品川区\, 東京都\, 日本
ATTACH;FMTTYPE=image/jpeg:https://hiraeth.tokyo/wp-content/uploads/S__55705609.jpg
END:VEVENT
BEGIN:VEVENT
DTSTART;VALUE=DATE:20240831
DTEND;VALUE=DATE:20240901
DTSTAMP:20260426T132936
CREATED:20240810T082403Z
LAST-MODIFIED:20240829T202355Z
UID:11244-1725062400-1725148799@hiraeth.tokyo
SUMMARY:☆☆☆TOKYO MX PRESENTS UltraPark 夏休み大作戦@ ランドマークホール
DESCRIPTION:日時　8/31 土\nイベント　☆☆☆TOKYO MX PRESENTS UltraPark 夏休み大作戦\nMC 木曽さんちゅう（ex:Wコロン）\nTOKYO MX 10/8　火曜　深夜1時35分～2時5分放送\n(お出番終了後、ステージにてMCとの絡みトーク） \n料金　前売　全席自由\nVIP席　最前エリア（最優先） ¥5\,400\nS席（優先前方） ¥3\,900　\nA席（一般） ¥2\,900\n※別途１D代\n※当日：各チケット共に+500円\n※再入場+1D\n予約　 https://tiget.net/events/341740\n8月26日（月）21時～先着順受付\nLIVE　12:05~12:25\n物販　12:25~13:25 並行C\n会場　ランドマークホール\n開場11:15/開演11:30\n出演　えあらびゅー\nアイドールBRAVE\nIDOLEST　\nいつだって青い春。\n大宮I☆DOLL\n奏音コレクト　\n仮面女子\n神薙ラビッツ\n神薙時うさぎ\nキプリスモルフォ\nCONTRAIL ZERO\nHi-Fi GIRLs PROJECTα\nHi-Fi GIRLs PROJECTβ\nBANZAI JAPAN\nPiXMiX\nメノニューイヤー\nRUN WiTH YOU\nAtoZ
URL:https://hiraeth.tokyo/event/%e3%83%a9%e3%82%a4%e3%83%96-3/
ATTACH;FMTTYPE=image/jpeg:https://hiraeth.tokyo/wp-content/uploads/0831-scaled.jpeg
END:VEVENT
END:VCALENDAR