BEGIN:VCALENDAR
VERSION:2.0
PRODID:-//【HIRAETH.Tokyo】(ヒラエス.トーキョー) - ECPv6.11.2//NONSGML v1.0//EN
CALSCALE:GREGORIAN
METHOD:PUBLISH
X-ORIGINAL-URL:https://hiraeth.tokyo
X-WR-CALDESC:【HIRAETH.Tokyo】(ヒラエス.トーキョー) のイベント
REFRESH-INTERVAL;VALUE=DURATION:PT1H
X-Robots-Tag:noindex
X-PUBLISHED-TTL:PT1H
BEGIN:VTIMEZONE
TZID:Asia/Tokyo
BEGIN:STANDARD
TZOFFSETFROM:+0900
TZOFFSETTO:+0900
TZNAME:JST
DTSTART:20240101T000000
END:STANDARD
END:VTIMEZONE
BEGIN:VEVENT
DTSTART;VALUE=DATE:20240826
DTEND;VALUE=DATE:20240827
DTSTAMP:20260426T132905
CREATED:20240814T034222Z
LAST-MODIFIED:20240819T174054Z
UID:11252-1724630400-1724716799@hiraeth.tokyo
SUMMARY:☆☆☆ハッチャケLIVE!!@GOTANDA G3
DESCRIPTION:日時　8/26(月)\nイベント　\n料金　前方3000/一般2000/当日+500/各D別\n予約　https://t.livepocket.jp/e/live0826\nLIVE　21:05~21:25\n物販　終演後物販　B\n会場　五反田G3\nOP　17:15\nST　17:40(予定)\n出演　えあらびゅー/終末のアンセム　/ if only… / Hi-Fi GIRLs PROJECT α / 代々木女子音楽院 / AKUMATIC /くれよんちゅ〜どく/ GILRY MOON PROJECT / 再生のルクトゥミー
URL:https://hiraeth.tokyo/event/20240826-1/
LOCATION:GOTANDA G3\, 西五反田1-11-8 大成ビル5F\, 品川区\, 東京都\, 日本
ATTACH;FMTTYPE=image/jpeg:https://hiraeth.tokyo/wp-content/uploads/S__55705609.jpg
END:VEVENT
END:VCALENDAR