BEGIN:VCALENDAR
VERSION:2.0
PRODID:-//【HIRAETH.Tokyo】(ヒラエス.トーキョー) - ECPv6.11.2//NONSGML v1.0//EN
CALSCALE:GREGORIAN
METHOD:PUBLISH
X-WR-CALNAME:【HIRAETH.Tokyo】(ヒラエス.トーキョー)
X-ORIGINAL-URL:https://hiraeth.tokyo
X-WR-CALDESC:【HIRAETH.Tokyo】(ヒラエス.トーキョー) のイベント
REFRESH-INTERVAL;VALUE=DURATION:PT1H
X-Robots-Tag:noindex
X-PUBLISHED-TTL:PT1H
BEGIN:VTIMEZONE
TZID:Asia/Tokyo
BEGIN:STANDARD
TZOFFSETFROM:+0900
TZOFFSETTO:+0900
TZNAME:JST
DTSTART:20240101T000000
END:STANDARD
END:VTIMEZONE
BEGIN:VEVENT
DTSTART;VALUE=DATE:20240901
DTEND;VALUE=DATE:20240902
DTSTAMP:20260426T132757
CREATED:20240830T190911Z
LAST-MODIFIED:20240830T193422Z
UID:11376-1725148800-1725235199@hiraeth.tokyo
SUMMARY:えあらびゅー緊急無銭公演＠五反田G４
DESCRIPTION:日時　9/1\nイベント　えあらびゅー緊急無銭公演\n※３周年ワンマンライブのチケットを持っている方のみ入場可能。持っていない方は入場不可。\n料金　無料(各別途1D必須)\n予約　 https://t.livepocket.jp/e/q5t5k\nLIVE　11:30~(予定)\n物販　12:55~(予定)\n会場　五反田G４\nOP　11:00\nST　11:30\n出演　えあらびゅー
URL:https://hiraeth.tokyo/event/%e3%81%88%e3%81%82%e3%82%89%e3%81%b3%e3%82%85%e3%83%bc%e7%b7%8a%e6%80%a5%e7%84%a1%e9%8a%ad%e5%85%ac%e6%bc%94%ef%bc%a0%e4%ba%94%e5%8f%8d%e7%94%b0g%ef%bc%94/
ATTACH;FMTTYPE=image/png:https://hiraeth.tokyo/wp-content/uploads/いb.png
END:VEVENT
END:VCALENDAR