BEGIN:VCALENDAR
VERSION:2.0
PRODID:-//【HIRAETH.Tokyo】(ヒラエス.トーキョー) - ECPv6.11.2//NONSGML v1.0//EN
CALSCALE:GREGORIAN
METHOD:PUBLISH
X-WR-CALNAME:【HIRAETH.Tokyo】(ヒラエス.トーキョー)
X-ORIGINAL-URL:https://hiraeth.tokyo
X-WR-CALDESC:【HIRAETH.Tokyo】(ヒラエス.トーキョー) のイベント
REFRESH-INTERVAL;VALUE=DURATION:PT1H
X-Robots-Tag:noindex
X-PUBLISHED-TTL:PT1H
BEGIN:VTIMEZONE
TZID:Asia/Tokyo
BEGIN:STANDARD
TZOFFSETFROM:+0900
TZOFFSETTO:+0900
TZNAME:JST
DTSTART:20240101T000000
END:STANDARD
END:VTIMEZONE
BEGIN:VEVENT
DTSTART;VALUE=DATE:20240904
DTEND;VALUE=DATE:20240905
DTSTAMP:20260426T132758
CREATED:20240815T081919Z
LAST-MODIFIED:20240904T020107Z
UID:11268-1725408000-1725494399@hiraeth.tokyo
SUMMARY:『スターチスのラブレター定期公演 Vol.4』＠新宿Zirco Tokyo
DESCRIPTION:日時　9/4(水)\nイベント　『スターチスのラブレター定期公演 Vol.4』\n料金　前方¥3\,000/一般¥500/女性・学生¥0/当日各+¥500(各+1D)\n予約　 https://t.livepocket.jp/e/stalove_teiki4\nLIVE　19:30〜19:50\n物販　20:40〜21:40\n会場　Zirco Tokyo\nOPEN 18:20 / START 18:50\n出演　えあらびゅー/スターチスのラブレター/遥か、彼方。/Honey Devil
URL:https://hiraeth.tokyo/event/11268/
ATTACH;FMTTYPE=image/jpeg:https://hiraeth.tokyo/wp-content/uploads/IMG_3482.jpeg
END:VEVENT
END:VCALENDAR