BEGIN:VCALENDAR
VERSION:2.0
PRODID:-//【HIRAETH.Tokyo】(ヒラエス.トーキョー) - ECPv6.11.2//NONSGML v1.0//EN
CALSCALE:GREGORIAN
METHOD:PUBLISH
X-WR-CALNAME:【HIRAETH.Tokyo】(ヒラエス.トーキョー)
X-ORIGINAL-URL:https://hiraeth.tokyo
X-WR-CALDESC:【HIRAETH.Tokyo】(ヒラエス.トーキョー) のイベント
REFRESH-INTERVAL;VALUE=DURATION:PT1H
X-Robots-Tag:noindex
X-PUBLISHED-TTL:PT1H
BEGIN:VTIMEZONE
TZID:Asia/Tokyo
BEGIN:STANDARD
TZOFFSETFROM:+0900
TZOFFSETTO:+0900
TZNAME:JST
DTSTART:20240101T000000
END:STANDARD
END:VTIMEZONE
BEGIN:VEVENT
DTSTART;VALUE=DATE:20240905
DTEND;VALUE=DATE:20240906
DTSTAMP:20260426T132756
CREATED:20240815T081707Z
LAST-MODIFIED:20240904T120416Z
UID:11265-1725494400-1725580799@hiraeth.tokyo
SUMMARY:☆『Your LIVE Solo』＠原宿RUIDO＠にあのみ
DESCRIPTION:日時　2024/09/05(木)\nイベント　☆『Your LIVE Solo』\n料金　(各D別)前売2500円/当日3000円(1ドリンク代別途)\n予約　 https://t-dv.com/yls0905\nLIVE　18:40~19:00\n物販　終演後21:00~22:00\n会場　原宿RUIDO\nOPEN18:20/START18:40\n出演　新愛ニア（えあらびゅー）/松山あおい/冨十みと（BOCCHI。）/まあや/森山小百合（.BPM）/小鳥遊春乃（【eN】）/雨宮サク
URL:https://hiraeth.tokyo/event/%e3%83%a9%e3%82%a4%e3%83%96%ef%bc%a0%e5%8e%9f%e5%ae%bfruido%ef%bc%a0%e3%81%ab%e3%81%82%e3%81%ae%e3%81%bf/
ATTACH;FMTTYPE=image/jpeg:https://hiraeth.tokyo/wp-content/uploads/S__3842215.jpg
END:VEVENT
END:VCALENDAR