BEGIN:VCALENDAR
VERSION:2.0
PRODID:-//【HIRAETH.Tokyo】(ヒラエス.トーキョー) - ECPv6.11.2//NONSGML v1.0//EN
CALSCALE:GREGORIAN
METHOD:PUBLISH
X-ORIGINAL-URL:https://hiraeth.tokyo
X-WR-CALDESC:【HIRAETH.Tokyo】(ヒラエス.トーキョー) のイベント
REFRESH-INTERVAL;VALUE=DURATION:PT1H
X-Robots-Tag:noindex
X-PUBLISHED-TTL:PT1H
BEGIN:VTIMEZONE
TZID:Asia/Tokyo
BEGIN:STANDARD
TZOFFSETFROM:+0900
TZOFFSETTO:+0900
TZNAME:JST
DTSTART:20240101T000000
END:STANDARD
END:VTIMEZONE
BEGIN:VEVENT
DTSTART;VALUE=DATE:20240908
DTEND;VALUE=DATE:20240909
DTSTAMP:20260426T132905
CREATED:20240718T105323Z
LAST-MODIFIED:20240904T165322Z
UID:11051-1725753600-1725839999@hiraeth.tokyo
SUMMARY:☆☆MAGNETIC FESTIVAL＠大手町三井ホール
DESCRIPTION:日時　2024年９月８日(日)\nイベント　☆☆MAGNETIC FESTIVAL in 大手町三井ホール\n料金　S （前方）前売り¥5\,500　*D別\nA （後方）前売り¥3\,000　*D別\n当日券＋¥1000\n予約　 https://t.livepocket.jp/e/b73qe\nLIVE　18:10~18:30\n物販　18:35~19:35　ロビーB\n会場　大手町三井ホール\nOP　10:40\nST　11:00\n出演　えあらびゅー/＃ドレミファソラシード、PrincessGarden~姫庭~、他調整中
URL:https://hiraeth.tokyo/event/%e3%83%a9%e3%82%a4%e3%83%96%ef%bc%a0%e5%a4%a7%e6%89%8b%e7%94%ba/
ATTACH;FMTTYPE=image/jpeg:https://hiraeth.tokyo/wp-content/uploads/IMG_4509.jpeg
END:VEVENT
BEGIN:VEVENT
DTSTART;VALUE=DATE:20240908
DTEND;VALUE=DATE:20240909
DTSTAMP:20260426T132905
CREATED:20240907T095945Z
LAST-MODIFIED:20240907T100159Z
UID:11476-1725753600-1725839999@hiraeth.tokyo
SUMMARY:GOTANDA IDOL FRONTIER -0908-＠五反田G7
DESCRIPTION:日時　9/8\nイベント　GOTANDA IDOL FRONTIER -0908-\n料金　Aチケット：2000円 / Sチケット：3000円 / 別途1D\n予約　 https://tiget.net/events/345605\nLIVE　12:00~12:20\n物販　12:25~13:25 A\n会場　五反田G7\nOPEN OPEN 11:40 / START 12:00\n出演　えあらびゅー、甘病神℃ロヲム、大弓ほのか、カリギュラ、新生☆大阪24区ガールズ、天空のシラバス、初恋推進委員会、BLOOD/.、Blossom Garden、ももいろプロジェクト、Li-V-RAVE
URL:https://hiraeth.tokyo/event/gotanda-idol-frontier-0908-%ef%bc%a0%e4%ba%94%e5%8f%8d%e7%94%b0g7/
ATTACH;FMTTYPE=image/jpeg:https://hiraeth.tokyo/wp-content/uploads/IF24_0908_POP_03-1.jpg
END:VEVENT
END:VCALENDAR