BEGIN:VCALENDAR
VERSION:2.0
PRODID:-//【HIRAETH.Tokyo】(ヒラエス.トーキョー) - ECPv6.11.2//NONSGML v1.0//EN
CALSCALE:GREGORIAN
METHOD:PUBLISH
X-ORIGINAL-URL:https://hiraeth.tokyo
X-WR-CALDESC:【HIRAETH.Tokyo】(ヒラエス.トーキョー) のイベント
REFRESH-INTERVAL;VALUE=DURATION:PT1H
X-Robots-Tag:noindex
X-PUBLISHED-TTL:PT1H
BEGIN:VTIMEZONE
TZID:Asia/Tokyo
BEGIN:STANDARD
TZOFFSETFROM:+0900
TZOFFSETTO:+0900
TZNAME:JST
DTSTART:20240101T000000
END:STANDARD
END:VTIMEZONE
BEGIN:VEVENT
DTSTART;VALUE=DATE:20240915
DTEND;VALUE=DATE:20240916
DTSTAMP:20260426T132936
CREATED:20240718T080327Z
LAST-MODIFIED:20240831T065402Z
UID:11042-1726358400-1726444799@hiraeth.tokyo
SUMMARY:「NIPPON MUSIC JAM‼mini」＠GOTANDA G3
DESCRIPTION:日時　2024/09/15(日)\nイベント　「NIPPON MUSIC JAM‼mini」\n料金　前方¥3\,500 / 一般¥2\,500 ※各1D　当日各＋1\,000円\n予約　https://t.livepocket.jp/e/nmj0915\nLIVE　14:50~15:10\n物販　15:15~16:15 C\n会場　GOTANDA G3\nOPEN 10:40 / START 11:00\n出演　えあらびゅー/青春リグレット/ストロボグリッター/ポラライト/ミスティア！/ラストノート/れんてつ/MiDi ON! /ひめもすオーケストラ/∴ヒロイン転生/あの歌のせい/アラカシ。/POP UP LOVE！/Blancanie/ZeroProject U17/ZeroProject Z2-A2/ZeroProject Z2-B1/Cassie Te Light/if only…/aimee complex/NoelliL/MiX BeRRY/PHiZZ/セカモノ/ハートの心電図/終末のアンセム/ステラリオン/他
URL:https://hiraeth.tokyo/event/%e3%83%a9%e3%82%a4%e3%83%96%ef%bc%a0%e4%ba%94%e5%8f%8d%e7%94%b0/
ATTACH;FMTTYPE=image/jpeg:https://hiraeth.tokyo/wp-content/uploads/S__8028446.jpg
END:VEVENT
END:VCALENDAR