BEGIN:VCALENDAR
VERSION:2.0
PRODID:-//【HIRAETH.Tokyo】(ヒラエス.トーキョー) - ECPv6.11.2//NONSGML v1.0//EN
CALSCALE:GREGORIAN
METHOD:PUBLISH
X-WR-CALNAME:【HIRAETH.Tokyo】(ヒラエス.トーキョー)
X-ORIGINAL-URL:https://hiraeth.tokyo
X-WR-CALDESC:【HIRAETH.Tokyo】(ヒラエス.トーキョー) のイベント
REFRESH-INTERVAL;VALUE=DURATION:PT1H
X-Robots-Tag:noindex
X-PUBLISHED-TTL:PT1H
BEGIN:VTIMEZONE
TZID:Asia/Tokyo
BEGIN:STANDARD
TZOFFSETFROM:+0900
TZOFFSETTO:+0900
TZNAME:JST
DTSTART:20240101T000000
END:STANDARD
END:VTIMEZONE
BEGIN:VEVENT
DTSTART;VALUE=DATE:20240916
DTEND;VALUE=DATE:20240917
DTSTAMP:20260426T132840
CREATED:20240911T095609Z
LAST-MODIFIED:20240915T090524Z
UID:11491-1726444800-1726531199@hiraeth.tokyo
SUMMARY:『Croire Grato-クログラ- 荒井友梨乃生誕ライブ〜』@ ジールシアター東京
DESCRIPTION:日時　2024年9月16日（月祝）\nイベント　『Croire Grato-クログラ- 荒井友梨乃生誕ライブ〜』\n料金　金：予約 ¥3\,000 / 当日 ¥3\,500（１D代別途）\n予約　 https://tiget.net/events/341053\nLIVE　18:35-19:05 えあらびゅー（並行C (予定)\n物販　19:10-20:10(予定)\n会場　ジールシアター東京\nOPEN 16:00\nSTART 16:15\n出演　えあらびゅー/荒井友梨乃/Croire Grato-クログラ-/no concept/メインタイトル/CheeRz＊/Tool to/きみのぷりんせす！/世ノ果テデ人形ハ唯哂フ。
URL:https://hiraeth.tokyo/event/%e3%83%a9%e3%82%a4%e3%83%96-%e3%82%b8%e3%83%bc%e3%83%ab%e3%82%b7%e3%82%a2%e3%82%bf%e3%83%bc%e6%9d%b1%e4%ba%ac/
ATTACH;FMTTYPE=image/jpeg:https://hiraeth.tokyo/wp-content/uploads/IMG_5233.jpeg
END:VEVENT
BEGIN:VEVENT
DTSTART;VALUE=DATE:20240916
DTEND;VALUE=DATE:20240917
DTSTAMP:20260426T132840
CREATED:20240804T014405Z
LAST-MODIFIED:20240907T093139Z
UID:11204-1726444800-1726531199@hiraeth.tokyo
SUMMARY:☆冠Fes-カンフェス-＠新宿 Zirco Tokyo
DESCRIPTION:日時　9/16 (月)\nイベント　　冠Fes-カンフェス-\n料金　(前売)前方Sチケット　4\,000円\n(前売)一般Aチケット　2\,500円\n当日+1\,000円(入場時1ドリンク必須)\n予約　https://t.livepocket.jp/e/kanfes0916\nLIVE　12:55~13:15\n物販　13:20~14:20\n会場 新宿 Zirco Tokyo\nOPEN 11:30\nST　11:50\n出演　えあらびゅー/Agrand×Aglow/あっぷろーでぃあ / Aerolipop/えすれある /GANGDEMIC/君とのシナリオ /Cassie Te Light コングラッチェッ! /Shupines/ストロボグリッター /青春リグレット /蒼穹アンブレラ /NoelliL /遥か、彼方。 バブルバビデガム∀ /PHiZZ/flawless POP./Honey Devil/星合いのライラック /未完成のキャラメル ミリオン! ~ Million Heaven Tokyo ~/夢幻スタートレール /夢みるアドレセンス /LOVE 9 LOVE/ラストノート /Loulouchouchou
URL:https://hiraeth.tokyo/event/%e3%83%a9%e3%82%a4%e3%83%96%ef%bc%a0-2/
ATTACH;FMTTYPE=image/jpeg:https://hiraeth.tokyo/wp-content/uploads/S__7987516.jpg
END:VEVENT
END:VCALENDAR