BEGIN:VCALENDAR
VERSION:2.0
PRODID:-//【HIRAETH.Tokyo】(ヒラエス.トーキョー) - ECPv6.11.2//NONSGML v1.0//EN
CALSCALE:GREGORIAN
METHOD:PUBLISH
X-WR-CALNAME:【HIRAETH.Tokyo】(ヒラエス.トーキョー)
X-ORIGINAL-URL:https://hiraeth.tokyo
X-WR-CALDESC:【HIRAETH.Tokyo】(ヒラエス.トーキョー) のイベント
REFRESH-INTERVAL;VALUE=DURATION:PT1H
X-Robots-Tag:noindex
X-PUBLISHED-TTL:PT1H
BEGIN:VTIMEZONE
TZID:Asia/Tokyo
BEGIN:STANDARD
TZOFFSETFROM:+0900
TZOFFSETTO:+0900
TZNAME:JST
DTSTART:20240101T000000
END:STANDARD
END:VTIMEZONE
BEGIN:VEVENT
DTSTART;VALUE=DATE:20240920
DTEND;VALUE=DATE:20240921
DTSTAMP:20260426T132756
CREATED:20240801T095534Z
LAST-MODIFIED:20240907T092349Z
UID:11161-1726790400-1726876799@hiraeth.tokyo
SUMMARY:☆王道 Vol.2＠新宿DHNoA
DESCRIPTION:日時　2024/9/20\nイベント　☆王道 Vol.2\n料金　(各D別)優先エリア　￥3300\n　　　一般エリア　￥2500\n　　　(入場時各１ドリンク+￥600、当日入場各＋￥500)\n予約　 https://t.livepocket.jp/e/3h7ny\nLIVE　20:20~20:40\n物販　終演後物販\n会場　新宿DHNoA\n開場：17:00\n開演：17:25\n出演　えあらびゅー/mignon/Party\nchuuuN!/えあらびゅー/あいすなっつ/むーぷり/FandL/vVibe!/KAWAIi至上主義/ドキドキハキミノセイ/天上天使/すてらびっつ
URL:https://hiraeth.tokyo/event/%e3%83%a9%e3%82%a4%e3%83%96%ef%bc%a0%e6%96%b0%e5%ae%bf%e3%83%87%e3%83%8e%e3%82%a2/
ATTACH;FMTTYPE=image/png:https://hiraeth.tokyo/wp-content/uploads/64540C43-F438-4DD4-8BF5-B3FB9495E2F0.png
END:VEVENT
END:VCALENDAR