BEGIN:VCALENDAR
VERSION:2.0
PRODID:-//【HIRAETH.Tokyo】(ヒラエス.トーキョー) - ECPv6.11.2//NONSGML v1.0//EN
CALSCALE:GREGORIAN
METHOD:PUBLISH
X-ORIGINAL-URL:https://hiraeth.tokyo
X-WR-CALDESC:【HIRAETH.Tokyo】(ヒラエス.トーキョー) のイベント
REFRESH-INTERVAL;VALUE=DURATION:PT1H
X-Robots-Tag:noindex
X-PUBLISHED-TTL:PT1H
BEGIN:VTIMEZONE
TZID:Asia/Tokyo
BEGIN:STANDARD
TZOFFSETFROM:+0900
TZOFFSETTO:+0900
TZNAME:JST
DTSTART:20240101T000000
END:STANDARD
END:VTIMEZONE
BEGIN:VEVENT
DTSTART;VALUE=DATE:20240921
DTEND;VALUE=DATE:20240922
DTSTAMP:20260426T132905
CREATED:20240908T092640Z
LAST-MODIFIED:20240918T193017Z
UID:11486-1726876800-1726963199@hiraeth.tokyo
SUMMARY:☆Sugar Honey idol Party -mini-＠GARRET udagawa
DESCRIPTION:日時　2024年9月21日(土）\nイベント　☆Sugar Honey idol Party -mini-\n料金　一般1\,500円 / 前方3\,000円（各種+1D、当日+500円）\n予約　 https://t-dv.com/sugarhoney-mini0921\nチケット販売開始：2024/09/18(水) 21:00〜\nLIVE　20:00~20:25\n物販　終演後物販\n会場　GARRET udagawa\n15:15オープン\n15:35スタート\n出演　えあらびゅー、MORE*、BLACK→WHITE、ポジティブモンスター、ヒトノユメ、MiDi ON!、Lamb’s ears、ルートプリュフォール、Claire♡Dolls、まいすらんぐ、Aile amour、ASOVISTA、Cortile
URL:https://hiraeth.tokyo/event/%e3%83%a9%e3%82%a4%e3%83%96%ef%bc%a0%e6%b8%8b%e8%b0%b7-3/
ATTACH;FMTTYPE=image/png:https://hiraeth.tokyo/wp-content/uploads/1-9.png
END:VEVENT
BEGIN:VEVENT
DTSTART;VALUE=DATE:20240921
DTEND;VALUE=DATE:20240922
DTSTAMP:20260426T132905
CREATED:20240915T154252Z
LAST-MODIFIED:20240918T192950Z
UID:11540-1726876800-1726963199@hiraeth.tokyo
SUMMARY:☆TOKYO BLACK BOX Vol.10＠SHINJUKU IDOL STAGE
DESCRIPTION:✨えあらびゅーライブ情報✨ \n⏰日時　9/21(土)\n📝イベント名　☆TOKYO BLACK BOX Vol.10\n💴料金　前売¥2\,500 当日¥3\,500\n🎫予約　https://t.livepocket.jp/e/tokyobb10\n🎤LIVE　16:00-16:30\n📸物販　16:40〜17:40(B)\n🎁指名特典　\n📍会場　SHINJUKU IDOL STAGE\n🚪開場　15:10\n💃開演　15:30\n👩🏼‍💻出演　えあらびゅー/IVY /ブルベア/NCHD-のちほど- / ZIGA/残響のリフレイン / 恋に落ちる確率は限りなく低いが0じゃない /\nZeroProject Z3-C / ZeroProject Z2-A2 / ZeroProject Z2-A3 /\nHUSH HUSH
URL:https://hiraeth.tokyo/event/tokyo-black-box-vol-10%ef%bc%a0shinjuku-idol-stage/
ATTACH;FMTTYPE=image/jpeg:https://hiraeth.tokyo/wp-content/uploads/S__33988688.jpg
END:VEVENT
BEGIN:VEVENT
DTSTART;VALUE=DATE:20240921
DTEND;VALUE=DATE:20240922
DTSTAMP:20260426T132905
CREATED:20240802T065957Z
LAST-MODIFIED:20240918T193041Z
UID:11175-1726876800-1726963199@hiraeth.tokyo
SUMMARY:☆IDOL MOMENTS アイドルモーメンツ@新宿マルイメン8Fイベントスペース
DESCRIPTION:日時　2024年9月21日(土）\nイベント　☆IDOL MOMENTS アイドルモーメンツ\n料金　(各D別)\n予約　 https://tiget.net/events/346870\nLIVE　13:00~13:20\n物販　13:45~14:45\n会場　新宿マルイメン8Fイベントスペース\n開場: 11:45\n開演: 12:00(予定)\n出演　えあらびゅー\, 81moment\, タイムラプス\, SeedS/PISTIL\, からげんき\, ガブっと！ひゃっきおとめ\, れんてつ\, Try me\, MILLE FLEURS\, MEMORI\, レプスルプス\, みるる\, 姫愛みりあ\, 本多エマ
URL:https://hiraeth.tokyo/event/%e3%83%a9%e3%82%a4%e3%83%96/
ATTACH;FMTTYPE=image/png:https://hiraeth.tokyo/wp-content/uploads/0921アイモ.png
END:VEVENT
END:VCALENDAR