BEGIN:VCALENDAR
VERSION:2.0
PRODID:-//【HIRAETH.Tokyo】(ヒラエス.トーキョー) - ECPv6.11.2//NONSGML v1.0//EN
CALSCALE:GREGORIAN
METHOD:PUBLISH
X-WR-CALNAME:【HIRAETH.Tokyo】(ヒラエス.トーキョー)
X-ORIGINAL-URL:https://hiraeth.tokyo
X-WR-CALDESC:【HIRAETH.Tokyo】(ヒラエス.トーキョー) のイベント
REFRESH-INTERVAL;VALUE=DURATION:PT1H
X-Robots-Tag:noindex
X-PUBLISHED-TTL:PT1H
BEGIN:VTIMEZONE
TZID:Asia/Tokyo
BEGIN:STANDARD
TZOFFSETFROM:+0900
TZOFFSETTO:+0900
TZNAME:JST
DTSTART:20240101T000000
END:STANDARD
END:VTIMEZONE
BEGIN:VEVENT
DTSTART;VALUE=DATE:20240922
DTEND;VALUE=DATE:20240923
DTSTAMP:20260426T132839
CREATED:20240904T100345Z
LAST-MODIFIED:20240922T094652Z
UID:11417-1726963200-1727049599@hiraeth.tokyo
SUMMARY:J STAND FES無銭2MAN@ 品川Jスクエア
DESCRIPTION:日時　9/22(日)\nイベント　J STAND FES無銭2MAN\n料金　前方Sチケット:2000円　一般Aチケット:0円　別途＋1drink代\n予約　 https://t.livepocket.jp/e/jsf0922\nLIVE　19:00〜19:20\n物販　19:20〜19:50\n会場　品川Jスクエア\nOPEN/START 18:30/18:40\n出演　えあらびゅー/幻想喫茶店
URL:https://hiraeth.tokyo/event/j-stand-fes%e7%84%a1%e9%8a%ad2man-%e5%93%81%e5%b7%9dj%e3%82%b9%e3%82%af%e3%82%a8%e3%82%a2/
ATTACH;FMTTYPE=image/png:https://hiraeth.tokyo/wp-content/uploads/JSF_0922.png
END:VEVENT
END:VCALENDAR