BEGIN:VCALENDAR
VERSION:2.0
PRODID:-//【HIRAETH.Tokyo】(ヒラエス.トーキョー) - ECPv6.11.2//NONSGML v1.0//EN
CALSCALE:GREGORIAN
METHOD:PUBLISH
X-ORIGINAL-URL:https://hiraeth.tokyo
X-WR-CALDESC:【HIRAETH.Tokyo】(ヒラエス.トーキョー) のイベント
REFRESH-INTERVAL;VALUE=DURATION:PT1H
X-Robots-Tag:noindex
X-PUBLISHED-TTL:PT1H
BEGIN:VTIMEZONE
TZID:Asia/Tokyo
BEGIN:STANDARD
TZOFFSETFROM:+0900
TZOFFSETTO:+0900
TZNAME:JST
DTSTART:20240101T000000
END:STANDARD
END:VTIMEZONE
BEGIN:VEVENT
DTSTART;VALUE=DATE:20240927
DTEND;VALUE=DATE:20240928
DTSTAMP:20260426T132937
CREATED:20240831T070816Z
LAST-MODIFIED:20240923T092031Z
UID:11395-1727395200-1727481599@hiraeth.tokyo
SUMMARY:☆☆ハッチャケLIVE!!＠渋谷DESEOmini
DESCRIPTION:⏰日時　9/27(金)\n📝イベント名　☆☆ハッチャケLIVE!!\n💴料金　前方チケット3\,500円 一般チケット2\,000円 当日+500円(入場時1ドリンク必須)\n🎫予約　https://t.livepocket.jp/e/live0927\n🎫チケ発　19日(木)21:00\n🎫情報解禁　19日(木)20:00\n🎤LIVE　20:05~20:30\n📸物販　終演後物販\n📍会場　渋谷DESEOmini\n🚪開場　17:30\n💃開演　18:00 (予定)\n👩🏼‍💻出演　MOON RABBiTS / えあらびゅー / GIRLY MOON PROJECT / 恋に落ちる確率は限りなく低いが0じゃない / neOen / 他
URL:https://hiraeth.tokyo/event/11395/
ATTACH;FMTTYPE=image/jpeg:https://hiraeth.tokyo/wp-content/uploads/S__57589966.jpg
END:VEVENT
END:VCALENDAR