BEGIN:VCALENDAR
VERSION:2.0
PRODID:-//【HIRAETH.Tokyo】(ヒラエス.トーキョー) - ECPv6.11.2//NONSGML v1.0//EN
CALSCALE:GREGORIAN
METHOD:PUBLISH
X-WR-CALNAME:【HIRAETH.Tokyo】(ヒラエス.トーキョー)
X-ORIGINAL-URL:https://hiraeth.tokyo
X-WR-CALDESC:【HIRAETH.Tokyo】(ヒラエス.トーキョー) のイベント
REFRESH-INTERVAL;VALUE=DURATION:PT1H
X-Robots-Tag:noindex
X-PUBLISHED-TTL:PT1H
BEGIN:VTIMEZONE
TZID:Asia/Tokyo
BEGIN:STANDARD
TZOFFSETFROM:+0900
TZOFFSETTO:+0900
TZNAME:JST
DTSTART:20240101T000000
END:STANDARD
END:VTIMEZONE
BEGIN:VEVENT
DTSTART;VALUE=DATE:20240929
DTEND;VALUE=DATE:20240930
DTSTAMP:20260426T114300
CREATED:20240911T112713Z
LAST-MODIFIED:20240929T064339Z
UID:11504-1727568000-1727654399@hiraeth.tokyo
SUMMARY:「TOKYO BLACK BOX Vol.11」@ SHINJUKU IDOL STAGE
DESCRIPTION:⏰日時　9/29(日)\n📝イベント名　「TOKYO BLACK BOX Vol.11」\n💴料金　前売¥2\,500 当日¥3\,500(＋要1D) ※再入場別途1Ｄ\n🎫予約　https://t.livepocket.jp/e/tokyobb11\n🎫チケ発　主催から情報が送られてきたと同時に既に発売されていた為無し\n🎫情報解禁　即時解禁\n🎤LIVE　19:00〜19:30\n📸物販　終演後物販　フロア下手\n📍会場　SHINJUKU IDOL STAGE\n🚪開場　15:15\n💃開演　15:30\n👩🏼‍💻出演　えあらびゅー　IVY / NCHD-のちほど- / かげつ / えあらびゅー / 異国のルミナリア  / ZeroProject Z5-B /  ZeroProject Z2-A3 / ZeroProject Z2-A4 /『全夜祭』ラバー / AiDOLOXXXY
URL:https://hiraeth.tokyo/event/%e3%83%a9%e3%82%a4%e3%83%96-shinjuku-idol-stage/
ATTACH;FMTTYPE=image/jpeg:https://hiraeth.tokyo/wp-content/uploads/IMG_6048.jpeg
END:VEVENT
END:VCALENDAR