BEGIN:VCALENDAR
VERSION:2.0
PRODID:-//【HIRAETH.Tokyo】(ヒラエス.トーキョー) - ECPv6.11.2//NONSGML v1.0//EN
CALSCALE:GREGORIAN
METHOD:PUBLISH
X-ORIGINAL-URL:https://hiraeth.tokyo
X-WR-CALDESC:【HIRAETH.Tokyo】(ヒラエス.トーキョー) のイベント
REFRESH-INTERVAL;VALUE=DURATION:PT1H
X-Robots-Tag:noindex
X-PUBLISHED-TTL:PT1H
BEGIN:VTIMEZONE
TZID:Asia/Tokyo
BEGIN:STANDARD
TZOFFSETFROM:+0900
TZOFFSETTO:+0900
TZNAME:JST
DTSTART:20240101T000000
END:STANDARD
END:VTIMEZONE
BEGIN:VEVENT
DTSTART;VALUE=DATE:20240930
DTEND;VALUE=DATE:20241001
DTSTAMP:20260426T095533
CREATED:20240831T065518Z
LAST-MODIFIED:20240915T170301Z
UID:11391-1727654400-1727740799@hiraeth.tokyo
SUMMARY:☆冠Fes-カンフェス-＠Zirco Tokyo
DESCRIPTION:✨えあらびゅーライブ情報✨\n【日時】　9月30日(月)\n【イベント名】　冠Fes-カンフェス-\n【料金】　前方¥3\,500 一般¥2\,000(当日各+¥1\,000)\n【予約】　 https://t.livepocket.jp/e/kanfes0930\n【チケ発】　9月16日(月祝)22:00\n【LIVE】　17:20~17:40\n【物販】　17:45~18:45 B\n【会場】　Zirco Tokyo\n【開場】 16:30\n【開演】 17:00\n【出演】　えあらびゅー/As a Cutie Pomeranian/雨のち、ハレーション /aimee complex/Aerolipop/思い出とプレゼント 君とのシナリオ /幻想喫茶店 /ストロボグリッター /青春リグレット /ぴ〜ちくぱ〜ちく /ミスティア! /ラストノート
URL:https://hiraeth.tokyo/event/%e3%83%a9%e3%82%a4%e3%83%96%ef%bc%a0zirco-tokyo/
ATTACH;FMTTYPE=image/jpeg:https://hiraeth.tokyo/wp-content/uploads/S__8553372.jpg
END:VEVENT
END:VCALENDAR