BEGIN:VCALENDAR
VERSION:2.0
PRODID:-//【HIRAETH.Tokyo】(ヒラエス.トーキョー) - ECPv6.11.2//NONSGML v1.0//EN
CALSCALE:GREGORIAN
METHOD:PUBLISH
X-ORIGINAL-URL:https://hiraeth.tokyo
X-WR-CALDESC:【HIRAETH.Tokyo】(ヒラエス.トーキョー) のイベント
REFRESH-INTERVAL;VALUE=DURATION:PT1H
X-Robots-Tag:noindex
X-PUBLISHED-TTL:PT1H
BEGIN:VTIMEZONE
TZID:Asia/Tokyo
BEGIN:STANDARD
TZOFFSETFROM:+0900
TZOFFSETTO:+0900
TZNAME:JST
DTSTART:20240101T000000
END:STANDARD
END:VTIMEZONE
BEGIN:VEVENT
DTSTART;VALUE=DATE:20241006
DTEND;VALUE=DATE:20241007
DTSTAMP:20260425T235318
CREATED:20240911T100337Z
LAST-MODIFIED:20240925T152407Z
UID:11497-1728172800-1728259199@hiraeth.tokyo
SUMMARY:IDOL SODA Stream!!＠豊島区民ホール
DESCRIPTION:⏰日時　10月6日(日)\n📝イベント名　IDOL SODA Stream!!\n💴料金　入場時別途1d600円　再入場無料　優先前方席4\,000円通常席 2\,500円後方席 1\,500円当日券+500\n🎫予約　https://t.livepocket.jp/e/1006toshima\n🎫チケ発　9月26日(木) 21時\n🎫情報解禁　即時解禁\n🎤LIVE　19:00〜19:20\n📸物販　終演後物販\n🎁指名特典　\n📍会場　豊島区民ホール\n🚪開場　11:00\n💃開演　11:20\n👩🏼‍💻出演　えあらびゅー、Blossom Gardadn、ULTRA-C、原宿学園、ひまわりが咲くころに、ポジティブモンスター\n、青空の下で手をつなぐ、wqwq、ハートの心電図、AiVER、ヒトノユメ、トイランド、MARBLE TALE、vVibe、Dreamy scene、てんしろっ！、シチュエーションシップ、ブルーなままで、とわる、ハレノチ×ハレーション、TiiMO、ユメオイ少、Piuuuu、エウレカ、Re:♡【りらいく】
URL:https://hiraeth.tokyo/event/%e3%83%a9%e3%82%a4%e3%83%96%ef%bc%a0%e8%b1%8a%e5%b3%b6%e5%8c%ba%e6%b0%91%e3%83%9b%e3%83%bc%e3%83%ab/
ATTACH;FMTTYPE=image/jpeg:https://hiraeth.tokyo/wp-content/uploads/IMG_6044.jpeg
END:VEVENT
END:VCALENDAR