BEGIN:VCALENDAR
VERSION:2.0
PRODID:-//【HIRAETH.Tokyo】(ヒラエス.トーキョー) - ECPv6.11.2//NONSGML v1.0//EN
CALSCALE:GREGORIAN
METHOD:PUBLISH
X-ORIGINAL-URL:https://hiraeth.tokyo
X-WR-CALDESC:【HIRAETH.Tokyo】(ヒラエス.トーキョー) のイベント
REFRESH-INTERVAL;VALUE=DURATION:PT1H
X-Robots-Tag:noindex
X-PUBLISHED-TTL:PT1H
BEGIN:VTIMEZONE
TZID:Asia/Tokyo
BEGIN:STANDARD
TZOFFSETFROM:+0900
TZOFFSETTO:+0900
TZNAME:JST
DTSTART:20240101T000000
END:STANDARD
END:VTIMEZONE
BEGIN:VEVENT
DTSTART;VALUE=DATE:20241022
DTEND;VALUE=DATE:20241023
DTSTAMP:20260424T190358
CREATED:20241007T081604Z
LAST-MODIFIED:20241015T045135Z
UID:11744-1729555200-1729641599@hiraeth.tokyo
SUMMARY:☆☆冠Fes-カンフェス-GIGA＠新宿ALTA Keystudio
DESCRIPTION:⏰日時　10/22(火)\n📝イベント名　☆☆冠Fes-カンフェス-GIGA\n💴料金　前方Sチケット4\,000円 一般Aチケット2\,500円 当日+1\,000円　(入場時1ドリンク必須)\n🎫予約　https://t.livepocket.jp/e/kanfes_giga1022\n🎫チケ発　10月15日(火)22:00\n🎫情報解禁　10月15日(火)20:00\n🎤LIVE　15:25~15:45\n📸物販　15:50~16:50\n🎁指名特典　\n📍会場　新宿ALTA Keystudio\n🚪開場　14:35\n💃開演　15:05\n👩🏼‍💻出演　えあらびゅー /オカシリゾート /君とのシナリオ /くれよんちゅ〜どく /SAI2Rium/ステラリオン 青春リグレット /テンシメシ ໒􏰀/2o Love to Sweet Bullet/neOen/ハレとハレ! /ブルーなままで 1つ足りない賽は投げられた /ベンジャス! /MOON RABBiTS/4次元コンパス /LIT MOON/Onephony 特別出演: (お笑いコンビ )Everybody
URL:https://hiraeth.tokyo/event/%e3%83%a9%e3%82%a4%e3%83%96%ef%bc%a0%e6%96%b0%e5%ae%bfalta-keystuido-2/
ATTACH;FMTTYPE=image/jpeg:https://hiraeth.tokyo/wp-content/uploads/IMG_7130.jpeg
END:VEVENT
END:VCALENDAR