BEGIN:VCALENDAR
VERSION:2.0
PRODID:-//【HIRAETH.Tokyo】(ヒラエス.トーキョー) - ECPv6.11.2//NONSGML v1.0//EN
CALSCALE:GREGORIAN
METHOD:PUBLISH
X-WR-CALNAME:【HIRAETH.Tokyo】(ヒラエス.トーキョー)
X-ORIGINAL-URL:https://hiraeth.tokyo
X-WR-CALDESC:【HIRAETH.Tokyo】(ヒラエス.トーキョー) のイベント
REFRESH-INTERVAL;VALUE=DURATION:PT1H
X-Robots-Tag:noindex
X-PUBLISHED-TTL:PT1H
BEGIN:VTIMEZONE
TZID:Asia/Tokyo
BEGIN:STANDARD
TZOFFSETFROM:+0900
TZOFFSETTO:+0900
TZNAME:JST
DTSTART:20240101T000000
END:STANDARD
END:VTIMEZONE
BEGIN:VEVENT
DTSTART;VALUE=DATE:20241026
DTEND;VALUE=DATE:20241027
DTSTAMP:20260422T152026
CREATED:20240921T114857Z
LAST-MODIFIED:20241023T065735Z
UID:11642-1729900800-1729987199@hiraeth.tokyo
SUMMARY:✨3周年前夜祭オフ会✨
DESCRIPTION:👑ありがとう企画②\n🧁3周年前夜祭オフ会🧁\n✨🧺持ち込みピクニック🧺✨\nお菓子や軽食ドリンクを持ち寄ってみんなでわいわい食べたり飲んだり公園で遊んだり、メンバーと一緒に楽しみましょう！\n※アルコール禁止\n日程:10月26日（土）16:00~(２時間程を予定)\n場所:新宿中央公園、芝生広場東(スターバックス前)\n※当日雨天の場合は場所の変更がございます。\n公式からのポストをお待ちください。\n【オフ会についての詳細、注意点】\n※ MARQUEE祭miniVol.224にご来場されていない方でも、通常価格の5\,000円をお支払い頂ければ参加可能です。\n※当日の天候、体調により予定を変更する場合がございます。\n※体調管理の為、メンバーは随時休憩入ります\n※参加メンバー　ももな、ひなた、にあ、あみな\n◆申込方法\n▽無料チケットの方はオフ会当日MARQUEE祭miniVol.224にてお渡ししたオフ会参加券をお持ちの上お越しください。\n▽撮影可能チケットの方は当日現地でお知らせください。\n▽人数把握のため調整さんにご記入下さい。\nhttps://chouseisan.com/s?h=15e5a1e2e86d4e66a5b719be876b5697\n◆参加基準\n▽MARQUEE祭miniVol.224にえあらびゅー指名入場できてくれた方\n▽小学生未満の方\n▽オフ会入場チケットをご購入頂いた方\n◆料金\n▽無料チケット0円\n▽オフ会入場チケット5\,000円\n▽撮影可能チケット5\,000円\n※参加者の飲食費用はご負担ください。\n※オフ会入場チケット、撮影可能チケットはMARQUEE祭miniVol.224に指名入場されなかった方でも当日購入可能です\n◆特典会のレギュレーション\n▽日付+お名前　1000円\n▽サイン+日付+お名前　1500円\n▽チェキ集合 4000円\n▽サイン+チェキ集合 5500円\n※各60秒のトーク付き
URL:https://hiraeth.tokyo/event/3%e5%91%a8%e5%b9%b4%e5%89%8d%e5%a4%9c%e7%a5%ad%e3%82%aa%e3%83%95%e4%bc%9a/
END:VEVENT
BEGIN:VEVENT
DTSTART;VALUE=DATE:20241026
DTEND;VALUE=DATE:20241027
DTSTAMP:20260422T152026
CREATED:20241022T081610Z
LAST-MODIFIED:20241022T081827Z
UID:11819-1729900800-1729987199@hiraeth.tokyo
SUMMARY:「どっぐらんっ！Halloween」@新宿DHNoA
DESCRIPTION:⏰日時　10/26(土)\n📝イベント名　「どっぐらんっ！Halloween」\n💴料金　前方4\,500円 一般2\,500円 ※当日500円UP・入場時・再入場時1D必須\n🎫予約　https://t.livepocket.jp/e/dogrun_halloween\n🎫情報解禁　10/22(火)18:00\n🎤LIVE　13:30~13:55\n📸物販　14:00~15:00\n📍会場　新宿DHNoA\n🚪開場　13:20\n💃開演　13:30\n👩🏼‍💻出演　えあらびゅー/きゅーんず！/POP UP LOVE！/Blancanie/LOVE♡MONSTER/Pety/すてらびっつ/ワガマき/ゆーとぴあ/PPP/ビビッときたかも！/ヒトノユメ/ハレノチ×ハレーション/ドキドキハキミノセイ/七星七愛/MiDi ON!
URL:https://hiraeth.tokyo/event/%e3%80%8c%e3%81%a9%e3%81%a3%e3%81%90%e3%82%89%e3%82%93%e3%81%a3%ef%bc%81halloween%e3%80%8d%e6%96%b0%e5%ae%bfdhnoa/
ATTACH;FMTTYPE=image/png:https://hiraeth.tokyo/wp-content/uploads/dogran_halloween最新版.png
END:VEVENT
END:VCALENDAR