BEGIN:VCALENDAR
VERSION:2.0
PRODID:-//【HIRAETH.Tokyo】(ヒラエス.トーキョー) - ECPv6.11.2//NONSGML v1.0//EN
CALSCALE:GREGORIAN
METHOD:PUBLISH
X-WR-CALNAME:【HIRAETH.Tokyo】(ヒラエス.トーキョー)
X-ORIGINAL-URL:https://hiraeth.tokyo
X-WR-CALDESC:【HIRAETH.Tokyo】(ヒラエス.トーキョー) のイベント
REFRESH-INTERVAL;VALUE=DURATION:PT1H
X-Robots-Tag:noindex
X-PUBLISHED-TTL:PT1H
BEGIN:VTIMEZONE
TZID:Asia/Tokyo
BEGIN:STANDARD
TZOFFSETFROM:+0900
TZOFFSETTO:+0900
TZNAME:JST
DTSTART:20240101T000000
END:STANDARD
END:VTIMEZONE
BEGIN:VEVENT
DTSTART;VALUE=DATE:20241128
DTEND;VALUE=DATE:20241129
DTSTAMP:20260422T034010
CREATED:20241123T043701Z
LAST-MODIFIED:20241123T043749Z
UID:11960-1732752000-1732838399@hiraeth.tokyo
SUMMARY:☆『シャイニングスターvol.4 ゆの生誕祭』＠六本木BIG HOUSE
DESCRIPTION:⏰日時　11月28日(木)\n📝イベント名　☆『シャイニングスターvol.4 ゆの生誕祭』\n💴料金　前売券 ¥2500(+1Drink)　優先入場 ¥1000(+1Drink)　当日券 各+¥1000(+1Drink)\n🎫予約　https://tiget.net/events/362030\n🎫情報解禁　11月20日 21:00\n🎫チケ発　11月21日 22:00\n🎤LIVE　19:45 – 20:10\n📸物販　終演後物販\n📍会場　六本木BIG HOUSE\n🚪開場　18:30\n💃開演　19:00\n👩🏼‍💻出演　HIRAETH.Tokyo　ステラリオン　Parasite.Kiss
URL:https://hiraeth.tokyo/event/%e2%98%86%e3%80%8e%e3%82%b7%e3%83%a3%e3%82%a4%e3%83%8b%e3%83%b3%e3%82%b0%e3%82%b9%e3%82%bf%e3%83%bcvol-4-%e3%82%86%e3%81%ae%e7%94%9f%e8%aa%95%e7%a5%ad%e3%80%8f%ef%bc%a0%e5%85%ad%e6%9c%ac%e6%9c%a8big-h/
ATTACH;FMTTYPE=image/png:https://hiraeth.tokyo/wp-content/uploads/S__33308740.png
END:VEVENT
END:VCALENDAR