BEGIN:VCALENDAR
VERSION:2.0
PRODID:-//【HIRAETH.Tokyo】(ヒラエス.トーキョー) - ECPv6.11.2//NONSGML v1.0//EN
CALSCALE:GREGORIAN
METHOD:PUBLISH
X-WR-CALNAME:【HIRAETH.Tokyo】(ヒラエス.トーキョー)
X-ORIGINAL-URL:https://hiraeth.tokyo
X-WR-CALDESC:【HIRAETH.Tokyo】(ヒラエス.トーキョー) のイベント
REFRESH-INTERVAL;VALUE=DURATION:PT1H
X-Robots-Tag:noindex
X-PUBLISHED-TTL:PT1H
BEGIN:VTIMEZONE
TZID:Asia/Tokyo
BEGIN:STANDARD
TZOFFSETFROM:+0900
TZOFFSETTO:+0900
TZNAME:JST
DTSTART:20240101T000000
END:STANDARD
END:VTIMEZONE
BEGIN:VEVENT
DTSTART;VALUE=DATE:20241130
DTEND;VALUE=DATE:20241201
DTSTAMP:20260422T020019
CREATED:20241125T123044Z
LAST-MODIFIED:20241128T095735Z
UID:12040-1732924800-1733011199@hiraeth.tokyo
SUMMARY:『Only music』＠新宿ヘッドパワー
DESCRIPTION:⏰日時　11/30(土)\n📝イベント名　『Only music』\n💴料金　前売り¥2\,000 当日¥2\,500(+1D)\n🎫予約　https://t.livepocket.jp/e/onncb\n🎫情報解禁　即時\n🎫チケ発　11/25.20:00-\n🎤LIVE　20：30ｰ20：55\n📸物販　21：00ｰ22：00 終演後物販\n📍会場　新宿ヘッドパワー\n🚪開場　18:05\n💃開演　18:25\n👩🏼‍💻出演　HIRAETH.Tokyo　Tan.San.Sui. iLOUZ LUNCH KIDS 僕には通じない Metaphoria
URL:https://hiraeth.tokyo/event/%e3%83%a9%e3%82%a4%e3%83%96%ef%bc%a0%e6%96%b0%e5%ae%bf%e3%83%98%e3%83%83%e3%83%89%e3%83%91%e3%83%af%e3%83%bc/
END:VEVENT
BEGIN:VEVENT
DTSTART;VALUE=DATE:20241130
DTEND;VALUE=DATE:20241201
DTSTAMP:20260422T020019
CREATED:20241008T082632Z
LAST-MODIFIED:20241123T044113Z
UID:11758-1732924800-1733011199@hiraeth.tokyo
SUMMARY:NOVAI Fes vol\,1　～＃あいり～む正規デビューLIVE～＠HADO ARENAお台場店
DESCRIPTION:⏰日時　11/30 (土曜)\n📝イベント名　NOVAI Fes vol\,1　～＃あいり～む正規デビューLIVE～\n💴料金　予約前方4000円（撮影可・事前決済のみ）　予約一般2000円（撮影不可）各運営予約可　当日+1000円　別途+1ドリンク代（600円）必須\n🎫予約　https://tiget.net/events/358960\n🎤LIVE　13:40~14:00\n📸物販　終演後物販\n📍会場　HADO ARENAお台場店\n🚪開場　11:50\n💃開演　12:30\n👩🏼‍💻出演　HIRAETH.Tokyo/#あいり～む/他（敬称略）
URL:https://hiraeth.tokyo/event/%e3%83%a9%e3%82%a4%e3%83%96%ef%bc%a0%e3%81%8a%e5%8f%b0%e5%a0%b4/
ATTACH;FMTTYPE=image/jpeg:https://hiraeth.tokyo/wp-content/uploads/1130TT-1536x1086-1.jpg
END:VEVENT
END:VCALENDAR