BEGIN:VCALENDAR
VERSION:2.0
PRODID:-//【HIRAETH.Tokyo】(ヒラエス.トーキョー) - ECPv6.11.2//NONSGML v1.0//EN
CALSCALE:GREGORIAN
METHOD:PUBLISH
X-ORIGINAL-URL:https://hiraeth.tokyo
X-WR-CALDESC:【HIRAETH.Tokyo】(ヒラエス.トーキョー) のイベント
REFRESH-INTERVAL;VALUE=DURATION:PT1H
X-Robots-Tag:noindex
X-PUBLISHED-TTL:PT1H
BEGIN:VTIMEZONE
TZID:Asia/Tokyo
BEGIN:STANDARD
TZOFFSETFROM:+0900
TZOFFSETTO:+0900
TZNAME:JST
DTSTART:20240101T000000
END:STANDARD
END:VTIMEZONE
BEGIN:VEVENT
DTSTART;VALUE=DATE:20241201
DTEND;VALUE=DATE:20241202
DTSTAMP:20260422T040804
CREATED:20241124T045750Z
LAST-MODIFIED:20241129T061912Z
UID:12018-1733011200-1733097599@hiraeth.tokyo
SUMMARY:ぷらっと新宿＠新宿planet planet
DESCRIPTION:⏰日時　12月1日（日）\n📝イベント名　ぷらっと新宿\n💴料金　2000円（D代込）再入場可\n🎫予約　https://tiget.net/events/363714\n🎫情報解禁　11/29.18:00〜\n🎫チケ発　11/29.20:00〜\n🎤LIVE　20:30〜20:50\n📸物販　終演後\n📍会場　新宿planet planet\n🚪開場　16:30　\n💃開演　16:50\n👩🏼‍💻出演　HIRAETH.Tokyo /恋空夢苺/（笑）しがみついた青春/#ヒトメボレ/ASOVISTA/DOLL PANiC/Tan.San.Sui./The High Roller
URL:https://hiraeth.tokyo/event/%e3%83%a9%e3%82%a4%e3%83%96%ef%bc%a0%e6%96%b0%e5%ae%bfplanet-planet/
ATTACH;FMTTYPE=image/jpeg:https://hiraeth.tokyo/wp-content/uploads/IMG_9974.jpeg
END:VEVENT
BEGIN:VEVENT
DTSTART;VALUE=DATE:20241201
DTEND;VALUE=DATE:20241202
DTSTAMP:20260422T040804
CREATED:20241123T044449Z
LAST-MODIFIED:20241123T044555Z
UID:11969-1733011200-1733097599@hiraeth.tokyo
SUMMARY:『ひらえすとーきょー冬のパン祭り』@横浜
DESCRIPTION:⏰日時　12/1(日)\n📝イベント名　『冬のパン祭り』@横浜\n💴料金　1枠9\,900円(50分)\n🎫予約　ひらえすとーきょーオンラインショップ(BASE)にて受付　https://airlview.official.ec/\n🎫販売スケジュール\n①プレオーダー販売開始：11月21日21時〜\n↑↑ ⚠️1人１枠まで！⚠️↑↑\n②1人１枠制限解禁 ：11月25日21時〜 \n🎤枠\n・11:00〜11:50\n・12:00〜12:50\n・13:00〜13:50\n・1400〜14:50\n・15:00〜15:50\n・16:00〜16:50 \n📍会場\n〒231-0001 神奈川県横浜市中区新港２丁目２−１\nワールドポーターズ \n◆Q&A\n▶何をしたら良いのか？？\nざっくりで言うと、撮影がメインではなく、横浜で行う長い特典会、とお考え下さい。\n食事会やデート会の様な雰囲気をメンバーと楽しんで頂けたらと考えておりましたが、様々なご意見を頂いた上でこちらの内容とさせて頂きたいと思います。\n個別の相談がある方はDMにてお知らせ下さい。 \n▶散歩の距離や範囲は？？\n横浜ワールドポーターズその周辺のコンビニやスーパーなど長い距離を離れずメンバーの指示に従うようお願いします。スタッフ判断により定期的な連絡や同行をする場合がございます。 \n▶差し入れをしてもいいでしょうか？？\nメンバーの事を想い手作りのお弁当やオヤツをご検討いただいている方もいらっしゃいました。お気持ちをとても嬉しく思います。メンバーとお客様の健康上の懸念を熟慮した結果、お店などでお買上げ頂いたもののみとさせていただきます。また、6枠連続で散歩会のメンバーもおりますので、沢山食べられない事もご配慮頂けると幸いです。 \n【12/1のパン祭りの注意点について】\n・移動範囲は基本的に徒歩圏内でお願いいたします。\n・プリクラは禁止となります。\n・ツーショットでの写メは禁止となります。\n・基本的に指定場所での集合となります。\n・駅やお店で解散する事も可能ですが、その場合は次の枠の移動時間を考慮した上でお願いいたします。\n・お店などに入り金銭が発生する場合はお客様負担となります。\n・複数枠に申し込むことも可能です。
URL:https://hiraeth.tokyo/event/%e3%80%8e%e3%81%b2%e3%82%89%e3%81%88%e3%81%99%e3%81%a8%e3%83%bc%e3%81%8d%e3%82%87%e3%83%bc%e5%86%ac%e3%81%ae%e3%83%91%e3%83%b3%e7%a5%ad%e3%82%8a%e3%80%8f%e6%a8%aa%e6%b5%9c/
END:VEVENT
END:VCALENDAR