BEGIN:VCALENDAR
VERSION:2.0
PRODID:-//【HIRAETH.Tokyo】(ヒラエス.トーキョー) - ECPv6.11.2//NONSGML v1.0//EN
CALSCALE:GREGORIAN
METHOD:PUBLISH
X-WR-CALNAME:【HIRAETH.Tokyo】(ヒラエス.トーキョー)
X-ORIGINAL-URL:https://hiraeth.tokyo
X-WR-CALDESC:【HIRAETH.Tokyo】(ヒラエス.トーキョー) のイベント
REFRESH-INTERVAL;VALUE=DURATION:PT1H
X-Robots-Tag:noindex
X-PUBLISHED-TTL:PT1H
BEGIN:VTIMEZONE
TZID:Asia/Tokyo
BEGIN:STANDARD
TZOFFSETFROM:+0900
TZOFFSETTO:+0900
TZNAME:JST
DTSTART:20240101T000000
END:STANDARD
END:VTIMEZONE
BEGIN:VEVENT
DTSTART;VALUE=DATE:20241210
DTEND;VALUE=DATE:20241211
DTSTAMP:20260422T020035
CREATED:20241124T065016Z
LAST-MODIFIED:20241209T051009Z
UID:12024-1733788800-1733875199@hiraeth.tokyo
SUMMARY:☆TALE N.T FESTA ONE COIN Presents RadioJACK0̸(レディオジャックル) ＠新宿DHNoA
DESCRIPTION:⏰日時　2024年12月10日(火)\n📝イベント名　☆TALE N.T FESTA ONE COIN Presents RadioJACK0̸(レディオジャックル)\n💴料金　一般¥500/当日¥1000(別途2D 1200円)\n🎫予約　https://tiget.net/events/363824\n🎤LIVE　20:20~20:40\n📸物販　20:45~21:45 B\n📍会場　新宿DHNoA\n🚪開場　16:25\n💃開演　17:35\n👩🏼‍💻出演　HIRAETH.Tokyo  /みらくる⭐ふぉーぜ / シブヤDOMINION / ソロ♨️るる / ◆ODD CIPHER Ø / idoress / WHiTRiP /  Switch Color / あままつ / Diaboli / 白羽嶺(fromみらくる⭐ふぉーぜ) / 他
URL:https://hiraeth.tokyo/event/%e3%83%a9%e3%82%a4%e3%83%96%ef%bc%a0%e6%96%b0%e5%ae%bfdhnoa/
ATTACH;FMTTYPE=image/jpeg:https://hiraeth.tokyo/wp-content/uploads/20241210-ONE-COIN.jpg
END:VEVENT
END:VCALENDAR