BEGIN:VCALENDAR
VERSION:2.0
PRODID:-//【HIRAETH.Tokyo】(ヒラエス.トーキョー) - ECPv6.11.2//NONSGML v1.0//EN
CALSCALE:GREGORIAN
METHOD:PUBLISH
X-WR-CALNAME:【HIRAETH.Tokyo】(ヒラエス.トーキョー)
X-ORIGINAL-URL:https://hiraeth.tokyo
X-WR-CALDESC:【HIRAETH.Tokyo】(ヒラエス.トーキョー) のイベント
REFRESH-INTERVAL;VALUE=DURATION:PT1H
X-Robots-Tag:noindex
X-PUBLISHED-TTL:PT1H
BEGIN:VTIMEZONE
TZID:Asia/Tokyo
BEGIN:STANDARD
TZOFFSETFROM:+0900
TZOFFSETTO:+0900
TZNAME:JST
DTSTART:20240101T000000
END:STANDARD
END:VTIMEZONE
BEGIN:VEVENT
DTSTART;VALUE=DATE:20241213
DTEND;VALUE=DATE:20241214
DTSTAMP:20260422T020034
CREATED:20240920T180809Z
LAST-MODIFIED:20241123T093714Z
UID:11628-1734048000-1734134399@hiraeth.tokyo
SUMMARY:☆☆☆MARQUEE祭mini Vol.231@Spotify O-nest
DESCRIPTION:⏰日時　12/13(金)\n📝イベント名　☆☆☆MARQUEE祭mini Vol.231\n💴料金　前売￥3\,000／当日￥3\,500 (共に税込、＋1ドリンク代)\n🎫予約　http://eplus.jp/marquee-matsuri/\n🎫情報公開  11/1（金）正午\n🎫先行予約　11/2（土）正午～11/10（日）23:59\n🎫一般発売　11/16（土）10:00～12/12（木）18:00\n🎤LIVE　13:10-13:30 (20)\n📸物販　13:40-14:40 ブースA\n🎁指名特典\n・チェキ券（トーク60秒)\n・サイン券（トークなし)\n・20秒動画券orTikTok20秒撮影券\n・集合デカチェキ\n・10ポイントプレゼント\n・60秒延長券\n📍会場　Spotify O-nest\n🚪開場　16:30\n💃開演　17:00\n👩🏼‍💻出演　HIRAETH.Tokyo /しろもん/アルテミスの翼/AND CaaaLL/蓋然性オルトイズム/Loulouchouchou/Sistersあにま/LIT MOON/Jewel☆Garden/TEARS-ティアーズ- \n調整さんの入力をお願いいたします！！！\nhttps://chouseisan.com/s?h=c35733e887ca489197461c0c8d79fc6d
URL:https://hiraeth.tokyo/event/%e2%98%86%e2%98%86%e2%98%86%e3%83%a9%e3%82%a4%e3%83%96%e6%b8%8b%e8%b0%b7-2/
ATTACH;FMTTYPE=image/jpeg:https://hiraeth.tokyo/wp-content/uploads/祭mini23112.13.jpeg
END:VEVENT
END:VCALENDAR