BEGIN:VCALENDAR
VERSION:2.0
PRODID:-//【HIRAETH.Tokyo】(ヒラエス.トーキョー) - ECPv6.11.2//NONSGML v1.0//EN
CALSCALE:GREGORIAN
METHOD:PUBLISH
X-ORIGINAL-URL:https://hiraeth.tokyo
X-WR-CALDESC:【HIRAETH.Tokyo】(ヒラエス.トーキョー) のイベント
REFRESH-INTERVAL;VALUE=DURATION:PT1H
X-Robots-Tag:noindex
X-PUBLISHED-TTL:PT1H
BEGIN:VTIMEZONE
TZID:Asia/Tokyo
BEGIN:STANDARD
TZOFFSETFROM:+0900
TZOFFSETTO:+0900
TZNAME:JST
DTSTART:20240101T000000
END:STANDARD
END:VTIMEZONE
BEGIN:VEVENT
DTSTART;VALUE=DATE:20241214
DTEND;VALUE=DATE:20241215
DTSTAMP:20260422T020031
CREATED:20241205T071637Z
LAST-MODIFIED:20241212T155312Z
UID:12102-1734134400-1734220799@hiraeth.tokyo
SUMMARY:『CTL主催LIVE〜My pleasure〜』@ 中野坂上S.U.B
DESCRIPTION:⏰日時　12/14(土)\n📝イベント名　\n💴料金　前方Sチケット:3500円/一般Aチケット2500円　当日＋1000円　別途各＋1D\n🎫予約　https://t.livepocket.jp/e/ctl1214\n🎫情報解禁　12月5日(木)20:00\n🎫チケ発　12月5日(木)22:00\n🎤LIVE　10:55〜11:20\n📸物販　11:25~12:25 特典会A\n📍会場　中野坂上S.U.B\n🚪開場　10:40\n💃開演　10:55\n👩🏼‍💻出演　HIRAETH.Tokyo　Cassie Te Light / くれよんちゅ〜どく/ PHiZZ / アポストロフィ / if only… / Cassie Te Light
URL:https://hiraeth.tokyo/event/%e3%83%a9%e3%82%a4%e3%83%96-%e4%b8%ad%e9%87%8e%e5%9d%82%e4%b8%8as-u-b/
ATTACH;FMTTYPE=image/jpeg:https://hiraeth.tokyo/wp-content/uploads/IMG_0338.jpeg
END:VEVENT
BEGIN:VEVENT
DTSTART;VALUE=DATE:20241214
DTEND;VALUE=DATE:20241215
DTSTAMP:20260422T020031
CREATED:20241128T093404Z
LAST-MODIFIED:20241212T154918Z
UID:12059-1734134400-1734220799@hiraeth.tokyo
SUMMARY:カラドボルグ＠秋葉原アイドルステージ　夜帯
DESCRIPTION:⏰日時　12/14\n📝イベント名　カラドボルグ\n💴料金　S:3000円（前方） / A：500円(一般) / 当日＋500 / ※各1D別 / 再入場可（再入場時１D）\n🎫予約　https://tiget.net/events/366124\n🎫情報解禁　即時解禁\n🎫チケ発　12/10　21：00～\n🎤LIVE　18:25~18:45\n📸物販　19:00~20:00 通運会館３\n📍会場　秋葉原アイドルステージ 夜帯\n🚪開場　16:30\n💃開演　17:00\n👩🏼‍💻出演　アイロボ　ASOVISTA　Lって何のLですか？　カリギュラ　さいしゅん！　【 HIRAETH.Tokyo 】　フラップアップ　mignon　andmore
URL:https://hiraeth.tokyo/event/%e3%83%a9%e3%82%a4%e3%83%96%ef%bc%a0%e7%a7%8b%e8%91%89%e5%8e%9f%e3%82%a2%e3%82%a4%e3%83%89%e3%83%ab%e3%82%b9%e3%83%86%e3%83%bc%e3%82%b8%ef%bc%88%e7%b5%82%e6%97%a5%ef%bc%89/
ATTACH;FMTTYPE=image/jpeg:https://hiraeth.tokyo/wp-content/uploads/925175.jpg
END:VEVENT
BEGIN:VEVENT
DTSTART;VALUE=DATE:20241214
DTEND;VALUE=DATE:20241215
DTSTAMP:20260422T020031
CREATED:20241128T093222Z
LAST-MODIFIED:20241212T155028Z
UID:12057-1734134400-1734220799@hiraeth.tokyo
SUMMARY:SHINJUKU無銭KAIWAI ＠新宿planetplanet（昼帯）
DESCRIPTION:⏰日時　12/14\n📝イベント名　SHINJUKU無銭KAIWAI\n💴料金　A：0円(一般)＋2Drink　S：2000円（前方）＋1Drink　当日＋500円　再入場可（再入場時１D）\n※　早割りOPEN～STARTの間に入場でAチケットの2D→1D\n🎫予約　https://tiget.net/events/366108\n🎫情報解禁　即時解禁\n🎫チケ発　12/10　20：00～12/14　10：00\n🎤LIVE　14:30~14:50\n📸物販　終演後物販\n📍会場　新宿planetplanet（昼帯）\n🚪開場　10:30\n💃開演　11:00（仮）\n👩🏼‍💻出演　アイロボ　カリギュラ 【 HIRAETH.Tokyo 】 フラップアップ mignon 夜とメルク らぶちぇり
URL:https://hiraeth.tokyo/event/%e3%83%a9%e3%82%a4%e3%83%96%ef%bc%a0%e6%96%b0%e5%ae%bfplanetplanet%ef%bc%88%e6%98%bc%e5%b8%af%ef%bc%89/
ATTACH;FMTTYPE=image/jpeg:https://hiraeth.tokyo/wp-content/uploads/2024_1214昼_POP_01.jpg
END:VEVENT
END:VCALENDAR