BEGIN:VCALENDAR
VERSION:2.0
PRODID:-//【HIRAETH.Tokyo】(ヒラエス.トーキョー) - ECPv6.11.2//NONSGML v1.0//EN
CALSCALE:GREGORIAN
METHOD:PUBLISH
X-ORIGINAL-URL:https://hiraeth.tokyo
X-WR-CALDESC:【HIRAETH.Tokyo】(ヒラエス.トーキョー) のイベント
REFRESH-INTERVAL;VALUE=DURATION:PT1H
X-Robots-Tag:noindex
X-PUBLISHED-TTL:PT1H
BEGIN:VTIMEZONE
TZID:Asia/Tokyo
BEGIN:STANDARD
TZOFFSETFROM:+0900
TZOFFSETTO:+0900
TZNAME:JST
DTSTART:20240101T000000
END:STANDARD
END:VTIMEZONE
BEGIN:VEVENT
DTSTART;VALUE=DATE:20241220
DTEND;VALUE=DATE:20241221
DTSTAMP:20260422T041750
CREATED:20241125T112337Z
LAST-MODIFIED:20241220T063131Z
UID:12033-1734652800-1734739199@hiraeth.tokyo
SUMMARY:☆アイフロッ！クリスマスSP＠横浜COAST Garage
DESCRIPTION:⏰日時　12/20（金）\n📝イベント名　☆アイフロッ！クリスマスSP\n💴料金　S:3500円（前方） / A：2000円(一般) / 当日＋500 / ※各1D別 / 再入場可（再入場時１D）（早割りOPEN～STARＴの間に入場で500円割引）\n🎫予約　https://tiget.net/events/367401\n🎫情報解禁　即時解禁\n🎤LIVE　17:45~18:05\n📸物販　18:15~19:25 A (次現場への移動のため、早めに終了する場合あり)\n🎁指名特典　集合チェキ、コメサ１枚\n📍会場　横浜COAST Garage\n🚪開場　17:15\n💃開演　17:45\n👩🏼‍💻出演　【HIRAETH.Tokyo】　Lって何のLですか？　カリギュラ　キュン!?恋堕ちキューピッド　Hi-Fi GIRLs PROJECTα　Hi-Fi GIRLs PROJECTβ　parfait d’ange　PrincessGarden-TOKYO　FloreRisa-フロレリーサ-　らびゅあたっく。
URL:https://hiraeth.tokyo/event/%e2%98%86%e3%83%a9%e3%82%a4%e3%83%96%ef%bc%a0%e6%96%b0%e5%ae%bfalta-keystudio/
ATTACH;FMTTYPE=image/jpeg:https://hiraeth.tokyo/wp-content/uploads/2024_1220_POP_03.jpg
END:VEVENT
BEGIN:VEVENT
DTSTART;VALUE=DATE:20241220
DTEND;VALUE=DATE:20241221
DTSTAMP:20260422T041750
CREATED:20241124T065207Z
LAST-MODIFIED:20241215T043453Z
UID:12026-1734652800-1734739199@hiraeth.tokyo
SUMMARY:☆TALE N.T FESTA 〜今ちかこ生誕祭 fromみらくる⭐ふぉーぜ＠新宿DHNoA
DESCRIPTION:⏰日時　2024年12月20日(金)\n📝イベント名　☆TALE N.T FESTA 〜今ちかこ生誕祭 fromみらくる⭐ふぉーぜ\n💴料金　一般¥2\,400/優先¥3\,400/当日+¥500(別途1D 600円)\n🎫予約　https://tiget.net/events/365916\n🎫情報解禁　即時解禁\n🎤LIVE　19:55~20:10\n📸物販　20:15~21:15　B\n📍会場　新宿DHNoA\n🚪開場　16:20\n💃開演　16:40\n👩🏼‍💻出演　HIRAETH.Tokyo /みらくる⭐ふぉーぜ / キミは無垢な翼(FOR-Z新グループ) / Flower ＊Hour / 和娘。《なごむすめ》 / 新グループ準備中 / 終末のステラ / 禁断のティアラ / 奏音コレクト/ GE’LMINATii /   ちとせあめ / 夜とメルク / るるぱにっく!! / フロリレーサー /ずんだ茜 / 紅茶とメロン
URL:https://hiraeth.tokyo/event/%e3%83%a9%e3%82%a4%e3%83%96%ef%bc%a0%e6%96%b0%e5%ae%bfdhnoa-2/
ATTACH;FMTTYPE=image/jpeg:https://hiraeth.tokyo/wp-content/uploads/20241220B_day_poster.jpg
END:VEVENT
END:VCALENDAR