BEGIN:VCALENDAR
VERSION:2.0
PRODID:-//【HIRAETH.Tokyo】(ヒラエス.トーキョー) - ECPv6.11.2//NONSGML v1.0//EN
CALSCALE:GREGORIAN
METHOD:PUBLISH
X-WR-CALNAME:【HIRAETH.Tokyo】(ヒラエス.トーキョー)
X-ORIGINAL-URL:https://hiraeth.tokyo
X-WR-CALDESC:【HIRAETH.Tokyo】(ヒラエス.トーキョー) のイベント
REFRESH-INTERVAL;VALUE=DURATION:PT1H
X-Robots-Tag:noindex
X-PUBLISHED-TTL:PT1H
BEGIN:VTIMEZONE
TZID:Asia/Tokyo
BEGIN:STANDARD
TZOFFSETFROM:+0900
TZOFFSETTO:+0900
TZNAME:JST
DTSTART:20240101T000000
END:STANDARD
END:VTIMEZONE
BEGIN:VEVENT
DTSTART;VALUE=DATE:20241227
DTEND;VALUE=DATE:20241228
DTSTAMP:20260422T020034
CREATED:20241123T121641Z
LAST-MODIFIED:20241208T000928Z
UID:12005-1735257600-1735343999@hiraeth.tokyo
SUMMARY:☆よっしゃいくぞ〜!!! vol.11＠原宿GE Theater
DESCRIPTION:⏰日時　12/27(金)\n📝イベント名　☆よっしゃいくぞ〜!!! vol.11\n💴料金　前売2\,000円/当日3\,000円(各D別)\n🎫予約　https://t-dv.com/GET_1227\n🎫チケ発　12/8(日)22:00発売開始\n🎤LIVE 19:40〜\n📸物販 終演後\n📍会場　原宿GE Theater\n🚪開場　18:00\n💃開演　18:20\n👩🏼‍💻出演　HIRAETH.Tokyo、 　ASOVISTA、キミとプレリュード、恋空夢苺、ドキドキハキミノセイ、HERO CHARM、みらくる⭐️ふぉーぜ
URL:https://hiraeth.tokyo/event/%e3%83%a9%e3%82%a4%e3%83%96%ef%bc%a0%e5%8e%9f%e5%ae%bfge-theater/
ATTACH;FMTTYPE=image/jpeg:https://hiraeth.tokyo/wp-content/uploads/IMG_0498.jpeg
END:VEVENT
END:VCALENDAR