BEGIN:VCALENDAR
VERSION:2.0
PRODID:-//【HIRAETH.Tokyo】(ヒラエス.トーキョー) - ECPv6.11.2//NONSGML v1.0//EN
CALSCALE:GREGORIAN
METHOD:PUBLISH
X-ORIGINAL-URL:https://hiraeth.tokyo
X-WR-CALDESC:【HIRAETH.Tokyo】(ヒラエス.トーキョー) のイベント
REFRESH-INTERVAL;VALUE=DURATION:PT1H
X-Robots-Tag:noindex
X-PUBLISHED-TTL:PT1H
BEGIN:VTIMEZONE
TZID:Asia/Tokyo
BEGIN:STANDARD
TZOFFSETFROM:+0900
TZOFFSETTO:+0900
TZNAME:JST
DTSTART:20250101T000000
END:STANDARD
END:VTIMEZONE
BEGIN:VEVENT
DTSTART;VALUE=DATE:20250109
DTEND;VALUE=DATE:20250110
DTSTAMP:20260422T003817
CREATED:20241123T121238Z
LAST-MODIFIED:20241227T115242Z
UID:12003-1736380800-1736467199@hiraeth.tokyo
SUMMARY:☆ 「どっぐらんっ！shinshun」＠五反田G6
DESCRIPTION:⏰日時　1/9(木)\n📝イベント名　☆ 「どっぐらんっ！shinshun」\n💴料金　料金：前方3\,500円 一般2\,000円 ※当日500円UP・入場時・再入場時1D必須\n🎫予約　https://ticketdive.com/event/dogrunshinshun\n🎤LIVE　19:25-19:45\n📸物販　B 19:55-20:55\n📍会場　五反田G6\n🚪開場　16:50\n💃開演　17:00\n👩🏼‍💻出演　HIRAETH.Tokoy/ MiDi ON!/wonder channel/ハレノチ×ハレーション/Leap+us/Lって何のLですか？/ワガマき/このアイドルはフィクションです。/Switch Color/RiBORN/きゅーんず！/きみはれ。/フラップアップ
URL:https://hiraeth.tokyo/event/%e3%83%a9%e3%82%a4%e3%83%96%ef%bc%a0%e4%ba%94%e5%8f%8d%e7%94%b0g6/
ATTACH;FMTTYPE=image/jpeg:https://hiraeth.tokyo/wp-content/uploads/IMG_4318.jpeg
END:VEVENT
END:VCALENDAR