BEGIN:VCALENDAR
VERSION:2.0
PRODID:-//【HIRAETH.Tokyo】(ヒラエス.トーキョー) - ECPv6.11.2//NONSGML v1.0//EN
CALSCALE:GREGORIAN
METHOD:PUBLISH
X-ORIGINAL-URL:https://hiraeth.tokyo
X-WR-CALDESC:【HIRAETH.Tokyo】(ヒラエス.トーキョー) のイベント
REFRESH-INTERVAL;VALUE=DURATION:PT1H
X-Robots-Tag:noindex
X-PUBLISHED-TTL:PT1H
BEGIN:VTIMEZONE
TZID:Asia/Tokyo
BEGIN:STANDARD
TZOFFSETFROM:+0900
TZOFFSETTO:+0900
TZNAME:JST
DTSTART:20250101T000000
END:STANDARD
END:VTIMEZONE
BEGIN:VEVENT
DTSTART;VALUE=DATE:20250118
DTEND;VALUE=DATE:20250119
DTSTAMP:20260422T003806
CREATED:20241219T052455Z
LAST-MODIFIED:20250117T223421Z
UID:12293-1737158400-1737244799@hiraeth.tokyo
SUMMARY:✨🎍🧧HIRAETH.Tokyo新年会🧧🎍✨
DESCRIPTION:🧧HIRAETH.Tokyo新年会のお知らせ🧧 \n✨🎍ヒーラー新年会🎍✨ \n持ち込みオフ会開催！みんなでお菓子や軽食、ドリンクを持ち寄って、楽しく遊びましょう！メンバーとの交流も楽しめるチャンスです！ \n📅 日程：1月18日（土）\n⏰ 時間：14:00〜16:00\n🏢 場所：東京都新宿区新宿5丁目11-13 \n🎫 参加について\n •無料チケットをお持ちの方：そのままご参加いただけます。\n •通常参加：5\,000円で参加可能です。\n •撮影可能チケット：5\,000円で当日購入可能！ \n⚠️ 注意事項\n •天候や体調により、予定が変更になる場合があります。\n •メンバーは適宜休憩をとります。 \n📌 参加メンバー\nももな、ひなた、にあ、あみな、りん \n📝 申込方法\n •無料チケットをお持ちの方は、当日持参してください。\n •撮影可能チケットの方は現地でお知らせください。 \n💰 料金\n •無料チケット：0円\n •オフ会入場チケット：5\,000円\n •撮影可能チケット：5\,000円\n※飲食費は各自ご負担ください。 \n📸 特典会メニュー\n •サイン無しチェキ：1\,000円\n •サイン有りチェキ：1\,500円\n •チェキ集合(全員)：4\,000円\n •サイン＋チェキ集合：5\,500円\n⏱ 各特典に60秒トーク付き！ \nみなさまのご参加、お待ちしています！✨
URL:https://hiraeth.tokyo/event/%e2%9c%a8%f0%9f%8e%8d%f0%9f%a7%a7hiraeth-tokyo%e6%96%b0%e5%b9%b4%e4%bc%9a%f0%9f%a7%a7%f0%9f%8e%8d%e2%9c%a8/
END:VEVENT
BEGIN:VEVENT
DTSTART;VALUE=DATE:20250118
DTEND;VALUE=DATE:20250119
DTSTAMP:20260422T003806
CREATED:20241205T083518Z
LAST-MODIFIED:20250103T043103Z
UID:12109-1737158400-1737244799@hiraeth.tokyo
SUMMARY:☆妃Fes-キサキフェスｰ＠中野坂上S.U.B
DESCRIPTION:⏰日時　2025/01/18(土)\n📝イベント名　☆妃Fes-キサキフェスｰ\n💴料金　(前売)前方Sチケット　3\,500円(前売)一般Aチケット　2\,500円 当日+1\,000円 (入場時1ドリンク必須)\n🎫予約　https://t.livepocket.jp/e/kisakifes0118\n🎫情報解禁　1月3日(金)12:00\n🎫チケ発　1月3日(金)15:00~\n🎤LIVE　11:40~12:00\n📸物販　12:05~13:05 C\n📍会場　中野坂上S.U.B\n🚪開場　10:25\n💃開演　10:40\n👩🏼‍💻出演　HIRAETH.Tokyo ステラリオン NOA 青春リグレット MORE only…  相沢瞳  neOen  代々木女子音楽院  ꒰ঌ if ໒꒱ ゆえない れんてつ ドキドキハキミノセイ  Lapis ReversTokyo アポストロフィ  きゅーんず！ あいすなっつ MELODY MELLOW 夢現シンクレティズム Parasite.Kiss mignon IDOLEST flawless POP 異世界アイドル☆パラレルパレード ストロボグリッター JAPANARIZM 踊れ！神風 Honey Devil
URL:https://hiraeth.tokyo/event/%e3%83%a9%e3%82%a4%e3%83%96%ef%bc%a0%e4%b8%ad%e9%87%8e%e5%9d%82%e4%b8%8as-u-b-2/
ATTACH;FMTTYPE=image/jpeg:https://hiraeth.tokyo/wp-content/uploads/IMG_2706.jpeg
END:VEVENT
END:VCALENDAR