BEGIN:VCALENDAR
VERSION:2.0
PRODID:-//【HIRAETH.Tokyo】(ヒラエス.トーキョー) - ECPv6.11.2//NONSGML v1.0//EN
CALSCALE:GREGORIAN
METHOD:PUBLISH
X-WR-CALNAME:【HIRAETH.Tokyo】(ヒラエス.トーキョー)
X-ORIGINAL-URL:https://hiraeth.tokyo
X-WR-CALDESC:【HIRAETH.Tokyo】(ヒラエス.トーキョー) のイベント
REFRESH-INTERVAL;VALUE=DURATION:PT1H
X-Robots-Tag:noindex
X-PUBLISHED-TTL:PT1H
BEGIN:VTIMEZONE
TZID:Asia/Tokyo
BEGIN:STANDARD
TZOFFSETFROM:+0900
TZOFFSETTO:+0900
TZNAME:JST
DTSTART:20250101T000000
END:STANDARD
END:VTIMEZONE
BEGIN:VEVENT
DTSTART;VALUE=DATE:20250206
DTEND;VALUE=DATE:20250207
DTSTAMP:20260422T024907
CREATED:20241208T054940Z
LAST-MODIFIED:20250110T160557Z
UID:12170-1738800000-1738886399@hiraeth.tokyo
SUMMARY:☆『Your LIVE Solo』＠原宿RUIDO
DESCRIPTION:⏰日時　2/6\n📝イベント名　☆‎『Your LIVE Solo』\n💴料金　前売2500円/当日3000円(1ドリンク代別途)\n🎫予約　https://t-dv.com/yls0206\n🎤LIVE　20:20~20:40\n📸物販　終演後物販、ホール\n📍会場　原宿RUIDO\n🚪開場　18:00\n💃開演　18:20\n👩🏼‍💻出演　森山小百合（.BPM）/新愛にあ（HIRAETH.Tokyo）/宮之内ひな/日和咲あみ（メリーパレード）/小日向ゆり/月詩あす（kimikara（きみから））/すーのん（HALOPALLETE）/有田珠莉（Layn）
URL:https://hiraeth.tokyo/event/%e3%83%a9%e3%82%a4%e3%83%96%ef%bc%a0%ef%bc%9f%ef%bc%9f/
ATTACH;FMTTYPE=image/jpeg:https://hiraeth.tokyo/wp-content/uploads/S__5201996.jpg
END:VEVENT
END:VCALENDAR