BEGIN:VCALENDAR
VERSION:2.0
PRODID:-//【HIRAETH.Tokyo】(ヒラエス.トーキョー) - ECPv6.11.2//NONSGML v1.0//EN
CALSCALE:GREGORIAN
METHOD:PUBLISH
X-ORIGINAL-URL:https://hiraeth.tokyo
X-WR-CALDESC:【HIRAETH.Tokyo】(ヒラエス.トーキョー) のイベント
REFRESH-INTERVAL;VALUE=DURATION:PT1H
X-Robots-Tag:noindex
X-PUBLISHED-TTL:PT1H
BEGIN:VTIMEZONE
TZID:Asia/Tokyo
BEGIN:STANDARD
TZOFFSETFROM:+0900
TZOFFSETTO:+0900
TZNAME:JST
DTSTART:20250101T000000
END:STANDARD
END:VTIMEZONE
BEGIN:VEVENT
DTSTART;VALUE=DATE:20250211
DTEND;VALUE=DATE:20250212
DTSTAMP:20260422T025006
CREATED:20241208T054324Z
LAST-MODIFIED:20250203T114025Z
UID:12168-1739232000-1739318399@hiraeth.tokyo
SUMMARY:「あの子にチョコもらったけど待って ちょっ、これって本命！？それとも義理！？〜Biskeで真冬の告白大作戦〜」＠新宿Biske
DESCRIPTION:⏰日時　2/11(火祝)\n📝イベント名　「あの子にチョコもらったけど待って ちょっ、これって本命！？それとも義理！？〜Biskeで真冬の告白大作戦〜」\n💴料金　料金：前方2\,500円 一般1\,000円 ※当日1000円UP・入場時・再入場時1D必須 ※特典会別会場(徒歩3分)\n🎫予約　https://t-dv.com/korehahonmeidesu\n🎫情報解禁　1/29(水)20:00\n🎫チケ発　1/29(水)22:30~\n🎤LIVE　12:45~13:10\n📸物販　13:20〜14:20\n📍会場　新宿Biske\n🚪開場　12:00\n💃開演　12:20\n👩🏼‍💻出演　HIRAETH.Tokyo あっぷろーでぃあ/アポストロフィ/ えすれある / 神楽あやか&楠本すずな / きゅーんず！ / このアイドルはフィクションです。 / 再生のルクトゥミー  / 睡眠コンプレックス / Switch Color / TRIGGER HAPPY / 七星七愛 / HIRAETH.Tokyo / Pety/MELODY MELLOW / Re:Code / LIZZ / Leap+us / Re:♡ / ワガマき
URL:https://hiraeth.tokyo/event/%e3%83%a9%e3%82%a4%e3%83%96%ef%bc%a0%e6%96%b0%e5%ae%bfbiske-2/
ATTACH;FMTTYPE=image/jpeg:https://hiraeth.tokyo/wp-content/uploads/S__159359055.jpg
END:VEVENT
BEGIN:VEVENT
DTSTART;VALUE=DATE:20250211
DTEND;VALUE=DATE:20250212
DTSTAMP:20260422T025006
CREATED:20241204T111009Z
LAST-MODIFIED:20250202T130335Z
UID:12098-1739232000-1739318399@hiraeth.tokyo
SUMMARY:FUWA FUWA FES 無銭バレンタインSP Supported byこすぶる@上野恩賜公園野外ステージ(水上音楽堂)
DESCRIPTION:⏰日時　2/11(火・祝)\n📝イベント名　FUWA FUWA FES 無銭バレンタインSP Supported byこすぶる\n💴料金　前方エリア2000円 通常エリア0円 / 当日券各+1000円　(入場時1ドリンク必須)\n🎫予約　https://t.livepocket.jp/e/6c2ml\n🎫情報解禁　1/22(水)20:00解禁\n🎫チケ発　1/23(木)20:00\n🎤LIVE　18:15-18:35　予定\n📸物販　18:40-19:40 E 予定\n📍会場　上野恩賜公園野外ステージ(水上音楽堂)\n🚪開場　10:20\n💃開演　10:35\n👩🏼‍💻出演　HIRAETH.Tokyo / MiX BeRRY / あいすなっつ / 笑う門には福来たる / アポストロフィ / Lって何のLですか？ / .Link / if only… / 恋に落ちる確率は限りなく低いが0じゃない / wonder channel / ハレノチ×ハレーション / 天上天使 / れんてつ / Amairo-Flip / LIZZ / &and / ガブっと！ひゃっきおとめ / Palpitink / フラップアップ⤴ / はくchu♡む / オルヘルの羽 / Arcana Charm / 妄想slave / てんしろっ！ / ゆーとぴあ / NCHD-のちほど- / あんの〜ん \nライブ＠上野恩賜公園野外ステージ(水上音楽堂)
URL:https://hiraeth.tokyo/event/%e3%83%a9%e3%82%a4%e3%83%96%ef%bc%a0%e4%b8%8a%e9%87%8e%e6%81%a9%e8%b3%9c%e5%85%ac%e5%9c%92%e9%87%8e%e5%a4%96%e3%82%b9%e3%83%86%e3%83%bc%e3%82%b8%e6%b0%b4%e4%b8%8a%e9%9f%b3%e6%a5%bd%e5%a0%82-2/
ATTACH;FMTTYPE=image/png:https://hiraeth.tokyo/wp-content/uploads/222106.png
END:VEVENT
END:VCALENDAR