BEGIN:VCALENDAR
VERSION:2.0
PRODID:-//【HIRAETH.Tokyo】(ヒラエス.トーキョー) - ECPv6.11.2//NONSGML v1.0//EN
CALSCALE:GREGORIAN
METHOD:PUBLISH
X-WR-CALNAME:【HIRAETH.Tokyo】(ヒラエス.トーキョー)
X-ORIGINAL-URL:https://hiraeth.tokyo
X-WR-CALDESC:【HIRAETH.Tokyo】(ヒラエス.トーキョー) のイベント
REFRESH-INTERVAL;VALUE=DURATION:PT1H
X-Robots-Tag:noindex
X-PUBLISHED-TTL:PT1H
BEGIN:VTIMEZONE
TZID:Asia/Tokyo
BEGIN:STANDARD
TZOFFSETFROM:+0900
TZOFFSETTO:+0900
TZNAME:JST
DTSTART:20250101T000000
END:STANDARD
END:VTIMEZONE
BEGIN:VEVENT
DTSTART;VALUE=DATE:20250219
DTEND;VALUE=DATE:20250220
DTSTAMP:20260422T024944
CREATED:20250213T000838Z
LAST-MODIFIED:20250216T101544Z
UID:12803-1739923200-1740009599@hiraeth.tokyo
SUMMARY:無銭『NEO IDOLEGION FREELIVE Vol 65』@新宿DHNoA
DESCRIPTION:⏰日時　2/19(水)\n📝イベント名　『NEO IDOLEGION FREELIVE Vol 65』\n💴料金　一般¥0/優先¥2\,000(先行予約)/当日+¥1000(別途1D 600円)\n🎫予約　https://tiget.net/events/379865\n🎤LIVE　20:40-20:55\n📸物販　21:00-21:50 C\n📍会場　新宿DHNoA\n🚪開場　15:00\n💃開演　15:15\n👩🏼‍💻出演　HIRAETH.Tokyo /  Amor Amore. / あんのーん / アレキサンドライト / Lって何のLですか？ / 神崎零 / クモリノチ。 / 恋に落ちる確率は限りなく低いが0じゃない / シブヤDOMINION / スプラウト学園 / にゃんすきっ♡？ / NEOTOKYO-TRIBE / NCHD-のちほど- / Hi-Fi GIRLs PROJECT LUNARIA / Hi-Fi GIRLs PROJECT TWINKLE&ORBIT / 初恋推進委員会 / 破天荒ヒロイズム / Palpitink / ビーバイユー / HEAVENLY / MASK OF GODDESS / ミニスカポリス / みらくる⭐ふぉーぜ / 妄想slave / LIZZ / Re:INCARNATION
URL:https://hiraeth.tokyo/event/%e3%80%8eneo-idolegion-freelive-vol-65%e3%80%8f%e6%96%b0%e5%ae%bfdhnoa/
ATTACH;FMTTYPE=image/jpeg:https://hiraeth.tokyo/wp-content/uploads/IMG_5266.jpeg
END:VEVENT
END:VCALENDAR