BEGIN:VCALENDAR
VERSION:2.0
PRODID:-//【HIRAETH.Tokyo】(ヒラエス.トーキョー) - ECPv6.11.2//NONSGML v1.0//EN
CALSCALE:GREGORIAN
METHOD:PUBLISH
X-ORIGINAL-URL:https://hiraeth.tokyo
X-WR-CALDESC:【HIRAETH.Tokyo】(ヒラエス.トーキョー) のイベント
REFRESH-INTERVAL;VALUE=DURATION:PT1H
X-Robots-Tag:noindex
X-PUBLISHED-TTL:PT1H
BEGIN:VTIMEZONE
TZID:Asia/Tokyo
BEGIN:STANDARD
TZOFFSETFROM:+0900
TZOFFSETTO:+0900
TZNAME:JST
DTSTART:20250101T000000
END:STANDARD
END:VTIMEZONE
BEGIN:VEVENT
DTSTART;VALUE=DATE:20250510
DTEND;VALUE=DATE:20250511
DTSTAMP:20260421T205743
CREATED:20250324T081046Z
LAST-MODIFIED:20250503T114212Z
UID:13323-1746835200-1746921599@hiraeth.tokyo
SUMMARY:☆☆『LIVEatCAMELOT』＠CLUB CAMELOT
DESCRIPTION:⏰日時　5/10(土)\n📝イベント名　☆☆『LIVEatCAMELOT』\n💴料金　前売り 前方3500円/一般 2500円/当日 ＋500円（＋1D代別）\n🎫予約　https://t-dv.com/liveatcamelot0510\n🎤LIVE　19:05〜19:25\n📸物販　19:30〜20:30\n📍会場　CLUB CAMELOT\n🚪開場　18:05\n💃開演　18:25\n👩🏼‍💻出演　HIRAETH.Tokyo/UPローチ/.BPM/もふる×クロス/新世界ギルドール/HIRAETH.Tokyo/ゼノシンフォニー
URL:https://hiraeth.tokyo/event/%e3%83%a9%e3%82%a4%e3%83%96%ef%bc%a0club-camelot-2/
ATTACH;FMTTYPE=image/jpeg:https://hiraeth.tokyo/wp-content/uploads/S__235405337.jpg
END:VEVENT
BEGIN:VEVENT
DTSTART;VALUE=DATE:20250510
DTEND;VALUE=DATE:20250511
DTSTAMP:20260421T205743
CREATED:20250422T163452Z
LAST-MODIFIED:20250509T124420Z
UID:13723-1746835200-1746921599@hiraeth.tokyo
SUMMARY:☆☆『HYPE IDOL！』＠品川インターシティホール
DESCRIPTION:⏰日時　5/10(土)\n📝イベント名　☆☆『HYPE IDOL！』\n💴料金　前方¥8\,000 / 一般¥4\,000/女性学生¥2\,000\n🎫予約　https://t-dv.com/hype_0510\n🎤LIVE　14:55〜15:10\n📸物販　15:15〜16:15\n📍会場　品川インターシティホール\n🚪開場　10:00\n💃開演　10:20\n👩🏼‍💻出演　HIRAETH.Tokyo /　しろもん / 泡沫パーティーズ / みらサプ！ / スプスラッシュ / 空想ロマンス / Panic Monster !n Wonderland / alma / HACK / NiLUNLOCK / IDOLEST / プエラの絶対値 / 強くてニューゲーム。 / airrow / LilyS/ash / ひめもすオーケストラ / 蒼穹アンブレラ / 恋に落ちる確率は限りなく低いが０じゃない / ラビットビット / あいすなっつ / らびゅあたっく。 / なないろパンダちゃん。 / HIRAETH.Tokyo / ワガマき / 天使突抜ニ読ミ / フィルフェリーチェ / ≪√PlusF✯rt≫~ﾙｰﾄﾌﾟﾘｭﾌｫｰﾙ~ / Aproof / Claire♡Dolls / Fancy Film* / HEAVENLY / HERO CHARM / Hi-Fi GIRLs PROJECT / Re:♡ / Sistersあにま / SO.ON project TOKYO / TEARS-ティアーズ- / ゼノシンフォニー / にとくり。 / はいどーも！テラスマです！ / 蓋然性オルトイズム / 原宿学園 / 天上天使 / 縷々　/ BUNGEE GUM. / あの歌のせい
URL:https://hiraeth.tokyo/event/%e2%98%86%e2%98%86%e3%80%8ehype-idol%ef%bc%81%e3%80%8f%ef%bc%a0%e5%93%81%e5%b7%9d%e3%82%a4%e3%83%b3%e3%82%bf%e3%83%bc%e3%82%b7%e3%83%86%e3%82%a3%e3%83%9b%e3%83%bc%e3%83%ab/
ATTACH;FMTTYPE=image/png:https://hiraeth.tokyo/wp-content/uploads/IMG_7193.png
END:VEVENT
BEGIN:VEVENT
DTSTART;VALUE=DATE:20250510
DTEND;VALUE=DATE:20250511
DTSTAMP:20260421T205743
CREATED:20250310T084855Z
LAST-MODIFIED:20250509T133604Z
UID:13140-1746835200-1746921599@hiraeth.tokyo
SUMMARY:☆☆『NIPPON MUSIC JAM！25分SP』＠GOTANDA G3
DESCRIPTION:⏰日時　5/10(土)\n📝イベント名　☆☆『NIPPON MUSIC JAM！25分SP』\n💴料金　(前売り)前方Sチケット3\,800円 当日券4\,500円 (前売り)一般Aチケット2\,500円 当日券3\,500円 (入場時1ドリンク代必須)\n🎫予約　https://t.livepocket.jp/e/nmj0510\n🎫情報解禁　4/30(水) 18:00\n🎫チケ発　4/30(水) 22:00\n🎤LIVE　11:10〜11:35\n📸物販　11:40〜12:40(A)\n📍会場　GOTANDA G3\n🚪開場　10:30\n💃開演　10:45\n👩🏼‍💻出演　http://HIRAETH.Tokyo /mignon/HIRAETH.Tokyo/踊れ！神風/りあくしょんバイト/KOIHAJI/NANOSECOND/わんだふるぱれーど！/ステラリオン/ドキドキハキミノセイ/MELODY MELLOW/きゅーんず！/フィルフェリーチェ/ドリームシンフォニー/真夜中の魔法少女/Radiva-ラディファ-/青春リグレット/ルシフェルの園。/きゅるきゅまっ/Re:Code/neOen/LOVE PANIC!/ReverseTokyo/らびゅあたっく/しおりん★まじっく
URL:https://hiraeth.tokyo/event/%e2%98%86%e2%98%86%e3%83%a9%e3%82%a4%e3%83%96%ef%bc%a0gotanda-g3-3/
ATTACH;FMTTYPE=image/jpeg:https://hiraeth.tokyo/wp-content/uploads/NMJ0510-2.jpg
END:VEVENT
END:VCALENDAR