BEGIN:VCALENDAR
VERSION:2.0
PRODID:-//【HIRAETH.Tokyo】(ヒラエス.トーキョー) - ECPv6.11.2//NONSGML v1.0//EN
CALSCALE:GREGORIAN
METHOD:PUBLISH
X-WR-CALNAME:【HIRAETH.Tokyo】(ヒラエス.トーキョー)
X-ORIGINAL-URL:https://hiraeth.tokyo
X-WR-CALDESC:【HIRAETH.Tokyo】(ヒラエス.トーキョー) のイベント
REFRESH-INTERVAL;VALUE=DURATION:PT1H
X-Robots-Tag:noindex
X-PUBLISHED-TTL:PT1H
BEGIN:VTIMEZONE
TZID:Asia/Tokyo
BEGIN:STANDARD
TZOFFSETFROM:+0900
TZOFFSETTO:+0900
TZNAME:JST
DTSTART:20250101T000000
END:STANDARD
END:VTIMEZONE
BEGIN:VEVENT
DTSTART;VALUE=DATE:20250615
DTEND;VALUE=DATE:20250616
DTSTAMP:20260421T222855
CREATED:20250411T104630Z
LAST-MODIFIED:20250611T102349Z
UID:13598-1749945600-1750031999@hiraeth.tokyo
SUMMARY:☆☆『横Fes-ヨコフェス』＠中野坂上S.U.B
DESCRIPTION:⏰日時　06/15（日）\n📝イベント名　☆☆『横Fes-ヨコフェス』\n💴料金　(前売り)前方Sチケット4\,000円 当日券5\,000円\n(前売り)一般Aチケット2\,500円 当日券3\,000円\n(入場時1ドリンク代必須)\n🎫予約　https://t.livepocket.jp/e/yokofes0615\n🎫情報解禁　6月7日（土）18:00\n🎫チケ発　6月7日（土）22:00\n🎤LIVE　10:45〜11:15\n📸物販　11:20〜12:20(A)\n📍会場　中野坂上S.U.B\n🚪開場　10:30\n💃開演　10:45\n👩🏼‍💻出演　ストロボグリッター/踊れ！神風/セカモノ/フィルフェリーチェ/ステラリオン/青春リグレット/HIRAETH.Tokyo/ドキドキハキミノセイ/まぶだちゅ！/Zero Project Z2ｰA1/Zero Project Z2ｰA2/neOen/真夜中の魔法少女/KOIHAJI/きゅーんず！/Claire♡Dolls/バブルバビデガム∀/Genesis Girl/ReverseTokyo/HERO CHARM
URL:https://hiraeth.tokyo/event/%e2%98%86%e2%98%86%e3%83%a9%e3%82%a4%e3%83%96%ef%bc%a0%e4%b8%ad%e9%87%8e%e5%9d%82%e4%b8%8as-u-b-3/
ATTACH;FMTTYPE=image/jpeg:https://hiraeth.tokyo/wp-content/uploads/IMG_7997.jpg
END:VEVENT
BEGIN:VEVENT
DTSTART;VALUE=DATE:20250615
DTEND;VALUE=DATE:20250616
DTSTAMP:20260421T222855
CREATED:20250405T074423Z
LAST-MODIFIED:20250614T054825Z
UID:13463-1749945600-1750031999@hiraeth.tokyo
SUMMARY:『IDOL SPIRITS  6月号 』＠五反田G7
DESCRIPTION:⏰日時　6月15日(日)\n📝イベント名　『IDOL SPIRITS  6月号 』\n💴料金　前方優先エリア　前売り・3000円＋1D　一般エリア　前売り・2000円＋1D　※当日券は＋700円＋1Dとなります\n🎫予約　https://t.livepocket.jp/e/wvbmh　\n🎤LIVE　15:45〜16:00\n📸物販　16:05〜17:05(D)\n📍会場　五反田G7\n🚪開場　13:10\n💃開演　13:20\n👩🏼‍💻出演　HIRAETH.TOKYO、気まぐれモンスター、LONDON BLUE、チキータ、Res♡Chu、lovelys、YUMEADO CiTRON、ガブっと！ひゃっきおとめ、日曜日の起死回生、ホワイトキャンパスⅢ、リベルナント、Twinkle☆Stars、SPICE BOMB、再生のルクトゥミー、Misty Syrena、\n、シチュエーションシップ、Melty Ribon、TJP、MofruRock、推さぬなら推させてみようホトトギス、燃えこれ学園、PATI PATI CANDY…☆(ひまわり＆さくら)、vVibe!
URL:https://hiraeth.tokyo/event/%e3%83%a9%e3%82%a4%e3%83%96%ef%bc%a0%e4%ba%94%e5%8f%8d%e7%94%b0%e3%80%80g7-2/
ATTACH;FMTTYPE=image/jpeg:https://hiraeth.tokyo/wp-content/uploads/S__12959764.jpg
END:VEVENT
END:VCALENDAR