BEGIN:VCALENDAR
VERSION:2.0
PRODID:-//【HIRAETH.Tokyo】(ヒラエス.トーキョー) - ECPv6.11.2//NONSGML v1.0//EN
CALSCALE:GREGORIAN
METHOD:PUBLISH
X-ORIGINAL-URL:https://hiraeth.tokyo
X-WR-CALDESC:【HIRAETH.Tokyo】(ヒラエス.トーキョー) のイベント
REFRESH-INTERVAL;VALUE=DURATION:PT1H
X-Robots-Tag:noindex
X-PUBLISHED-TTL:PT1H
BEGIN:VTIMEZONE
TZID:Asia/Tokyo
BEGIN:STANDARD
TZOFFSETFROM:+0900
TZOFFSETTO:+0900
TZNAME:JST
DTSTART:20250101T000000
END:STANDARD
END:VTIMEZONE
BEGIN:VEVENT
DTSTART;VALUE=DATE:20250618
DTEND;VALUE=DATE:20250619
DTSTAMP:20260421T222853
CREATED:20250409T134553Z
LAST-MODIFIED:20250614T020211Z
UID:13546-1750204800-1750291199@hiraeth.tokyo
SUMMARY:『NEO IDOLEGION FREELIVE Vol 82』＠新宿DHNoA
DESCRIPTION:⏰日時　6/18(水)\n📝イベント名　『NEO IDOLEGION FREELIVE Vol 82』\n💴料金　一般¥0/優先¥2\,000(先行予約)/当日+¥500(別途1D 600円)\n🎫予約　https://t-dv.com/idolegion82\n🎫情報解禁　6/11(水)17:00\n🎫チケ発　6/11(水)20:00\n🎤LIVE　22:25〜22:40\n📸物販　21:25〜22:15(前物販)\n📍会場　新宿DHNoA\n🚪開場　12:30\n💃開演　12:45\n👩🏼‍💻出演　HIRAETH.Tokyo / IFII / ArcanaCharm / あでぃくと / Amor Amore. / unique imp /磯野未来 / 8WIZARD / 8FLAG / 8DOLL / オルヘルの羽 / 神崎零 / クモリノチ。 / HEAVENLY / Grind Bunny / 恋に落ちる確率は限りなく低いが0じゃない / シブヤDOMINION / 終末のステラ / Switch Color / スプラウト学園 / 青春のフロンティア / Dear8 / TJP / 追憶のリンドヴルム  / にゃんすきっ♡？ / NEOTOKYO-TRIBE / 破天荒ヒロイズム / バブルバビデガム∀ / ヒップバーン / HIRAETH.Tokyo / FIRST DREAM / FloreRisa / 虹色幻想曲 プリズム・ファンタジア / ベイビーウルフ / mignon / みらくる⭐ふぉーぜ / RIOTTiKA / LIZZ / るるぱにっく!! / 笑う門には福来たる
URL:https://hiraeth.tokyo/event/%e3%83%a9%e3%82%a4%e3%83%96%ef%bc%a0%e6%96%b0%e5%ae%bfdhnoa-11/
ATTACH;FMTTYPE=image/jpeg:https://hiraeth.tokyo/wp-content/uploads/NEO-FREELIVE20250618.jpg
END:VEVENT
END:VCALENDAR