BEGIN:VCALENDAR
VERSION:2.0
PRODID:-//【HIRAETH.Tokyo】(ヒラエス.トーキョー) - ECPv6.11.2//NONSGML v1.0//EN
CALSCALE:GREGORIAN
METHOD:PUBLISH
X-ORIGINAL-URL:https://hiraeth.tokyo
X-WR-CALDESC:【HIRAETH.Tokyo】(ヒラエス.トーキョー) のイベント
REFRESH-INTERVAL;VALUE=DURATION:PT1H
X-Robots-Tag:noindex
X-PUBLISHED-TTL:PT1H
BEGIN:VTIMEZONE
TZID:Asia/Tokyo
BEGIN:STANDARD
TZOFFSETFROM:+0900
TZOFFSETTO:+0900
TZNAME:JST
DTSTART:20250101T000000
END:STANDARD
END:VTIMEZONE
BEGIN:VEVENT
DTSTART;VALUE=DATE:20250620
DTEND;VALUE=DATE:20250621
DTSTAMP:20260421T222854
CREATED:20250524T130047Z
LAST-MODIFIED:20250610T035610Z
UID:14158-1750377600-1750463999@hiraeth.tokyo
SUMMARY:『IDOL GARDEN PLACE-無銭30分SP-』＠GOTANDA G3
DESCRIPTION:⏰日時　6/20(金)\n📝イベント名　『IDOL GARDEN PLACE-無銭30分SP-』\n💴料金　前方Sチケット¥2\,000 / 一般Aチケット¥0/※各2D　当日各＋1\,000円\n🎫予約　https://t.livepocket.jp/e/igp_250620\n🎫情報解禁　6月10日（火）18:00\n🎫チケ発　6月10日（火）22:00\n🎤LIVE　20:55〜21:25\n📸物販　終演後物販\n📍会場　GOTANDA G3\n🚪開場　17:30\n💃開演　17:50\n👩🏼‍💻出演　HIRAETH.Tokyo /セカモノ/青春リグレット/ステラリオン/KOIHAJI/きゅーんず！/ハイシーユース/HIRAETH.Tokyo
URL:https://hiraeth.tokyo/event/%e2%98%86%e2%98%86%e3%83%a9%e3%82%a4%e3%83%96%ef%bc%a0gotanda-g3-12/
ATTACH;FMTTYPE=image/png:https://hiraeth.tokyo/wp-content/uploads/S__285081635.png
END:VEVENT
END:VCALENDAR