BEGIN:VCALENDAR
VERSION:2.0
PRODID:-//【HIRAETH.Tokyo】(ヒラエス.トーキョー) - ECPv6.11.2//NONSGML v1.0//EN
CALSCALE:GREGORIAN
METHOD:PUBLISH
X-ORIGINAL-URL:https://hiraeth.tokyo
X-WR-CALDESC:【HIRAETH.Tokyo】(ヒラエス.トーキョー) のイベント
REFRESH-INTERVAL;VALUE=DURATION:PT1H
X-Robots-Tag:noindex
X-PUBLISHED-TTL:PT1H
BEGIN:VTIMEZONE
TZID:Asia/Tokyo
BEGIN:STANDARD
TZOFFSETFROM:+0900
TZOFFSETTO:+0900
TZNAME:JST
DTSTART:20250101T000000
END:STANDARD
END:VTIMEZONE
BEGIN:VEVENT
DTSTART;VALUE=DATE:20250628
DTEND;VALUE=DATE:20250629
DTSTAMP:20260421T222853
CREATED:20250411T102016Z
LAST-MODIFIED:20250605T095908Z
UID:13582-1751068800-1751155199@hiraeth.tokyo
SUMMARY:「ネクストカルチャーズ -遠野和姫生誕祭—」＠DESEO mini
DESCRIPTION:⏰日時　6/28(土)\n📝イベント名　「ネクストカルチャーズ -遠野和姫生誕祭—」\n💴料金　前売り¥2\,500-/当日¥3\,000-\n🎫予約　https://tiget.net/events/404713\n🎫情報解禁　6/4(水)　21:00\n🎤LIVE　20:35〜20:55\n📸物販　終演後物販\n📍会場　DESEO mini\n🚪開場　9:55\n💃開演　10:15\n👩🏼‍💻出演　彗星のスターティア*、TheWORLD、兎アイズ、Amor Amore.、&Bijou、宇宙カラノ侵略者、風邪をひいたときに見る夢、きみはれ。、白のエレガンシー、ダダダムズ、Tool to、ドキドキハキミノセイ、七瀬虹、nem仔、ハレノチ×ハレーション、HIRAETH.Tokyo、ふぁにまるキングダム、FandL、Baby Inspire、HEAVENLY、星屑ラビリンス、まほユラ、mintleaf、ももいろプロジェクト、代々木女子音楽院、RAiMEI、らぶ♡ぽーしょん！、るるぱにっく!!、ログ
URL:https://hiraeth.tokyo/event/%e3%83%a9%e3%82%a4%e3%83%96%ef%bc%a0deseo-mini-2/
ATTACH;FMTTYPE=image/jpeg:https://hiraeth.tokyo/wp-content/uploads/S__237576213.jpg
END:VEVENT
BEGIN:VEVENT
DTSTART;VALUE=DATE:20250628
DTEND;VALUE=DATE:20250629
DTSTAMP:20260421T222853
CREATED:20250411T105118Z
LAST-MODIFIED:20250614T021524Z
UID:13607-1751068800-1751155199@hiraeth.tokyo
SUMMARY:☆☆『横Fes-ヨコフェス』＠中野坂上S.U.B
DESCRIPTION:⏰日時　06/28（土）\n📝イベント名　☆☆『横Fes-ヨコフェス』\n💴料金　(前売り)前方Sチケット3\,500円 当日券5\,000円　(前売り)一般Aチケット2\,500円 当日券3\,000円　(入場時1ドリンク代必須)\n🎫予約　https://t.livepocket.jp/e/yokofes0628\n🎫情報解禁　6月14日（土）18:00\n🎫チケ発　6月14日（火）22:00\n🎤LIVE　11:20〜11:40\n📸物販　11:45〜12:45(A)\n📍会場　中野坂上S.U.B\n🚪開場　11:00\n💃開演　11:20\n👩🏼‍💻出演　HIRAETH.Tokyo /踊れ！神風/セカモノ/真夜中の魔法少女/フィルフェリーチェ/ステラリオン/青春リグレット/HIRAETH.Tokyo/ドキドキハキミノセイ/JAPANARIZM/neOen/KOIHAJI/きゅーんず！/LEVO/【eN】/キュン！？恋堕ちキューピッド/ルシフェルの園。/バブルバビデガム∀/アイスクリーム夢少女/mignon/Genesis Girl/BrainBeat/BiBiっときちゃった!?/Blueberry Girls/Re:Code/CoTei/ストロボグリッター/セツナソウ/ReverseTokyo
URL:https://hiraeth.tokyo/event/%e2%98%86%e2%98%86%e3%83%a9%e3%82%a4%e3%83%96%ef%bc%a0%e4%b8%ad%e9%87%8e%e5%9d%82%e4%b8%8as-u-b-4/
ATTACH;FMTTYPE=image/jpeg:https://hiraeth.tokyo/wp-content/uploads/横Fes_0628.jpg
END:VEVENT
END:VCALENDAR